{"text_format":"1","workbook":"xlsx","n_sheets":7,"sheets":["Key","NTC Input","JEITA (Li-Ion)","JEITA (LiFePO4)","Temp Comp (Lead-Acid)","Hidden","Data"],"not_rendered":{"charts":7,"images":1,"macros":1,"external_links":0,"defined_names":0,"comments":0,"pivot_tables":0},"unopened":[],"bounds":{"document_bytes":16777216,"sheet_cells":100000,"rows_first":2000,"rows_last":500,"rows_between":2000,"halvings":0,"cell_chars":16384,"cell_head_chars":4096},"cells_cut":0,"cells_raw":0,"read":"whole","date_system":"1900"}

{"sheet":"Key","index":0,"n_rows":39,"n_cols":9,"rows_kept":39,"cut":false,"hidden":false,"merged":[[5,2,5,3],[5,5,5,6],[5,8,5,9],[5,23,5,24],[5,25,5,26]]}
[]
[null,"LTC4162"]
[null,"NTC Calculator"]
[]
[]
[null,"KEY:","EDITABLE",null,null,"RESULT",null,null,"CONSTANT"]
[]
[]
[]
[null,"Introduction:"]
[null,"The LTC4162 datasheets give temperature values based on a recommended thermistor with a β value of 3490K."]
[null,"This document is intended to help customers that decide to use alternate thermistors, or it can just be used as a tool to speed up calculations."]
[]
[]
[null,"Instructions:"]
[null,"To use this document, first input NTC characteristics and external network values into the NTC Input sheet."]
[null,"NTC characteristics can be entered in terms of Steinhart-Hart coefficients or a β value. The β value is less precise across the full temperature range."]
[null,"Then, refer to the sheet that is relevant to your chosen LTC4162 chemistry (Li-Ion, LiFePO4, or Lead-Acid)."]
[null,"For Li-Ion and LiFePO4, you can enter register values for JEITA charging."]
[null,"Then, plots will demonstrate how the charging characteristics will change over temperature."]
[]
[]
[null,"Contents:"]
[null,"1. NTC Input"]
[]
[null,"2. JEITA (Li-Ion)"]
[null,"→","LTC4162-L Datasheet"]
[]
[null,"3. JEITA (LiFePO4)"]
[null,"→","LTC4162-F Datasheet"]
[]
[null,"4. Temperature Compensation (Lead-Acid)"]
[null,"→","LTC4162-S Datasheet"]
[]
[]
[null,"Notes:"]
[null,"This document is locked such that only cells formatted as:",null,null,null,null,"EDITABLE"," can be selected and changed."]
[null,"To view formulas, the document can be unlocked without a password."]
[null,"Enable macros in this docment for proper operation."]

{"sheet":"NTC Input","index":1,"n_rows":110,"n_cols":28,"rows_kept":110,"cut":false,"hidden":false,"merged":[[8,24,8,25],[8,26,8,27],[8,2,8,7],[8,9,8,11],[17,2,17,7],[16,2,16,7]]}
[]
[null,"LTC4162"]
[null,"NTC Characteristics and Network Input"]
[]
[]
[]
[null,"1. Specify NTC Characteristics",null,null,null,null,null,null,null,null,null,null,null,null,null,"Simple Calculators & Data Summary"]
[]
[null,null,null,null,null,null,null,null,null,null,null,null,null,null,null,null,"NTC Resistance at Temperature Calculator:",null,null,null,null,null,null,null,"Temperature (°C)",null,"Resistance (kΩ)"]
[null,null,null,null,null,null,null,null,null,null,null,null,null,null,null,null,null,null,null,null,null,null,null,null,null,{"$f":"T38","v":-20},null,{"$f":" IF(Hidden!$D$4=1,$F$21*EXP($D$12 + $D$13/(Z10+273.15) + $D$14/POWER(Z10+273.15,2) + $D$15/POWER(Z10+273.15,3)),$F$21 * EXP($K$11 * (1/(Z10 + 273.15) - 1/298.15)))","v":73.003304439617011}]
[null,null,null,"T-to-R Coefficients",null,null,"R-to-T Coefficients",null,"OR","β = ",3490,"K",null,null,null,null,null,"NTC Alone (without resistor network):",null,null,null,null,null,null,null,{"$f":"Z10+$I$37","v":-18.8},null,{"$f":" IF(Hidden!$D$4=1,$F$21*EXP($D$12 + $D$13/(Z11+273.15) + $D$14/POWER(Z11+273.15,2) + $D$15/POWER(Z11+273.15,3)),$F$21 * EXP($K$11 * (1/(Z11 + 273.15) - 1/298.15)))","v":68.724697736408217}]
[null,null,"A = ",-12.071363419787462," ","A1 = ",3.3540164346805299E-3," ",null,null,null,null,null,null,null,null,null,"At",25,"°C,         resistance = ",null,{"$f":" IF(Hidden!$D$4=1,$F$21*EXP($D$12 + $D$13/(S12+273.15) + $D$14/POWER(S12+273.15,2) + $D$15/POWER(S12+273.15,3)),$F$21 * EXP($K$11 * (1/(S12 + 273.15) - 1/298.15)))","v":10.000000000000014},"kΩ",null,null,-17.600000000000001,null,{"$f":" IF(Hidden!$D$4=1,$F$21*EXP($D$12 + $D$13/(Z12+273.15) + $D$14/POWER(Z12+273.15,2) + $D$15/POWER(Z12+273.15,3)),$F$21 * EXP($K$11 * (1/(Z12 + 273.15) - 1/298.15)))","v":64.72577943945555}]
[null,null,"B = ",3503.9022352597012," ","B1 = ",2.9242512512678352E-4," ",null,null,null,null,null,null,null,null,null,"With Resistor Network:",null,null,null,null,null,null,null,-16.400000000000002,null,{"$f":" IF(Hidden!$D$4=1,$F$21*EXP($D$12 + $D$13/(Z13+273.15) + $D$14/POWER(Z13+273.15,2) + $D$15/POWER(Z13+273.15,3)),$F$21 * EXP($K$11 * (1/(Z13 + 273.15) - 1/298.15)))","v":60.986578274636059}]
[null,null,"C = ",109390.79535326945," ","C1 = ",3.4575305797486818E-6," ",null,null,null,null,null,null,null,null,null,"At",{"$f":"S12","v":25},"°C,         resistance = ",null,{"$f":"((V12+$D$29)*$D$30)/((V12+$D$29)+$D$30)","v":9.9999999999000142},"kΩ",null,null,-15.200000000000003,null,{"$f":" IF(Hidden!$D$4=1,$F$21*EXP($D$12 + $D$13/(Z14+273.15) + $D$14/POWER(Z14+273.15,2) + $D$15/POWER(Z14+273.15,3)),$F$21 * EXP($K$11 * (1/(Z14 + 273.15) - 1/298.15)))","v":57.488658269178011}]
[null,null,"D = ",-24154454.740307301," ","D1 = ",2.3352587748282225E-7," ",null,null,null,null,null,null,null,null,null,null,null,null,null,null,null,null,null,-14.000000000000004,null,{"$f":" IF(Hidden!$D$4=1,$F$21*EXP($D$12 + $D$13/(Z15+273.15) + $D$14/POWER(Z15+273.15,2) + $D$15/POWER(Z15+273.15,3)),$F$21 * EXP($K$11 * (1/(Z15 + 273.15) - 1/298.15)))","v":54.214993073164862}]
[null,null,null,null,null,null,null,null,null,null,null,null,null,null,null,null,null,null,null,null,null,null,null,null,null,-12.800000000000004,null,{"$f":" IF(Hidden!$D$4=1,$F$21*EXP($D$12 + $D$13/(Z16+273.15) + $D$14/POWER(Z16+273.15,2) + $D$15/POWER(Z16+273.15,3)),$F$21 * EXP($K$11 * (1/(Z16 + 273.15) - 1/298.15)))","v":51.149851139196912}]
[null,null,"Coefficient values for Vishay NTC thermistors can be found at:",null,null,null,null,null,null,null,null,null,null,null,null,null,null,"NTC Alone (without resistor network):",null,null,null,null,null,null,null,-11.600000000000005,null,{"$f":" IF(Hidden!$D$4=1,$F$21*EXP($D$12 + $D$13/(Z17+273.15) + $D$14/POWER(Z17+273.15,2) + $D$15/POWER(Z17+273.15,3)),$F$21 * EXP($K$11 * (1/(Z17 + 273.15) - 1/298.15)))","v":48.27869077754707}]
[null,null,"www.vishay.com/thermistors/curve-computation-list",null,null,null,null,null,null,null,null,null,null,null,null,null,null,"At",10,"kΩ,   temperature = ",null,{"$f":" IF(Hidden!$D$4=1,1 / ($G$12 + $G$13*LN(S18/$F$21) + $G$14*POWER(LN(S18/$F$21),2) + $G$15*POWER(LN(S18/$F$21),3)) -273.15,$K$11 / (LN(S18 / ($F$21 * EXP(-$K$11 / 298.15)))) - 273.15)","v":25},"°C",null,null,-10.400000000000006,null,{"$f":" IF(Hidden!$D$4=1,$F$21*EXP($D$12 + $D$13/(Z18+273.15) + $D$14/POWER(Z18+273.15,2) + $D$15/POWER(Z18+273.15,3)),$F$21 * EXP($K$11 * (1/(Z18 + 273.15) - 1/298.15)))","v":45.588064196680449}]
[null,null,null,null,null,null,null,null,null,null,null,null,null,null,null,null,null,null,null,null,null,null,null,null,null,-9.2000000000000064,null,{"$f":" IF(Hidden!$D$4=1,$F$21*EXP($D$12 + $D$13/(Z19+273.15) + $D$14/POWER(Z19+273.15,2) + $D$15/POWER(Z19+273.15,3)),$F$21 * EXP($K$11 * (1/(Z19 + 273.15) - 1/298.15)))","v":43.065529722522541}]
[null,null,null,null,null,null,null,null,null,null,null,null,null,null,null,null,null,null,null,null,null,null,null,null,null,-8.0000000000000071,null,{"$f":" IF(Hidden!$D$4=1,$F$21*EXP($D$12 + $D$13/(Z20+273.15) + $D$14/POWER(Z20+273.15,2) + $D$15/POWER(Z20+273.15,3)),$F$21 * EXP($K$11 * (1/(Z20 + 273.15) - 1/298.15)))","v":40.699571465275774}]
[null,null,null,null,"NTC Resistance at 25°C = ",10,"kΩ",null,null,null,null,null,null,null,null,null,null,null,null,null,null,null,null,null,null,-6.8000000000000069,null,{"$f":" IF(Hidden!$D$4=1,$F$21*EXP($D$12 + $D$13/(Z21+273.15) + $D$14/POWER(Z21+273.15,2) + $D$15/POWER(Z21+273.15,3)),$F$21 * EXP($K$11 * (1/(Z21 + 273.15) - 1/298.15)))","v":38.479525770705038}]
[null,null,null,null,null,null,null,null,null,null,null,null,null,null,null,null,null,null,null,null,null,null,null,null,null,-5.6000000000000068,null,{"$f":" IF(Hidden!$D$4=1,$F$21*EXP($D$12 + $D$13/(Z22+273.15) + $D$14/POWER(Z22+273.15,2) + $D$15/POWER(Z22+273.15,3)),$F$21 * EXP($K$11 * (1/(Z22 + 273.15) - 1/298.15)))","v":36.395513854350263}]
[null,null,null,null,null,null,null,null,null,null,null,null,null,null,null,null,null,null,null,null,null,null,null,null,null,-4.4000000000000066,null,{"$f":" IF(Hidden!$D$4=1,$F$21*EXP($D$12 + $D$13/(Z23+273.15) + $D$14/POWER(Z23+273.15,2) + $D$15/POWER(Z23+273.15,3)),$F$21 * EXP($K$11 * (1/(Z23 + 273.15) - 1/298.15)))","v":34.4383800727582}]
[null,null,null,null,null,null,null,null,null,null,null,null,null,null,null,null,null,null,null,null,null,null,null,null,null,-3.2000000000000064,null,{"$f":" IF(Hidden!$D$4=1,$F$21*EXP($D$12 + $D$13/(Z24+273.15) + $D$14/POWER(Z24+273.15,2) + $D$15/POWER(Z24+273.15,3)),$F$21 * EXP($K$11 * (1/(Z24 + 273.15) - 1/298.15)))","v":32.5996353361136}]
[null,"2. Specify External Network Characteristics",null,null,null,null,null,null,null,null,null,null,null,null,null,null,null,null,null,null,null,null,null,null,null,-2.0000000000000062,null,{"$f":" IF(Hidden!$D$4=1,$F$21*EXP($D$12 + $D$13/(Z25+273.15) + $D$14/POWER(Z25+273.15,2) + $D$15/POWER(Z25+273.15,3)),$F$21 * EXP($K$11 * (1/(Z25 + 273.15) - 1/298.15)))","v":30.871405212142463}]
[null,null,null,null,null,null,null,null,null,null,null,null,null,null,null,null,null,null,null,null,null,null,null,null,null,-0.80000000000000626,null,{"$f":" IF(Hidden!$D$4=1,$F$21*EXP($D$12 + $D$13/(Z26+273.15) + $D$14/POWER(Z26+273.15,2) + $D$15/POWER(Z26+273.15,3)),$F$21 * EXP($K$11 * (1/(Z26 + 273.15) - 1/298.15)))","v":29.24638231231252}]
[null,null,"RNTCBIAS = ",10,"kΩ","(this should usually be the value of the NTC at 25°C)",null,null,null,null,null,null,null,null,null,null,null,null,null,null,null,null,null,null,null,0.39999999999999369,null,{"$f":" IF(Hidden!$D$4=1,$F$21*EXP($D$12 + $D$13/(Z27+273.15) + $D$14/POWER(Z27+273.15,2) + $D$15/POWER(Z27+273.15,3)),$F$21 * EXP($K$11 * (1/(Z27 + 273.15) - 1/298.15)))","v":27.71778258860796}]
[null,null,null,null,null,null,null,null,null,null,null,null,null,null,null,null,null,null,null,null,null,null,null,null,null,1.5999999999999936,null,{"$f":" IF(Hidden!$D$4=1,$F$21*EXP($D$12 + $D$13/(Z28+273.15) + $D$14/POWER(Z28+273.15,2) + $D$15/POWER(Z28+273.15,3)),$F$21 * EXP($K$11 * (1/(Z28 + 273.15) - 1/298.15)))","v":26.279305202880078}]
[null,null,"RSERIES = ",0,"kΩ",null,null,null,null,null,null,null,null,null,null,null,null,null,null,null,null,null,null,null,null,2.7999999999999936,null,{"$f":" IF(Hidden!$D$4=1,$F$21*EXP($D$12 + $D$13/(Z29+273.15) + $D$14/POWER(Z29+273.15,2) + $D$15/POWER(Z29+273.15,3)),$F$21 * EXP($K$11 * (1/(Z29 + 273.15) - 1/298.15)))","v":24.925095661321166}]
[null,null,"RPARALLEL = ",999999999999,"kΩ",null,null,null,null,null,null,null,null,null,null,null,null,null,null,null,null,null,null,null,null,3.9999999999999938,null,{"$f":" IF(Hidden!$D$4=1,$F$21*EXP($D$12 + $D$13/(Z30+273.15) + $D$14/POWER(Z30+273.15,2) + $D$15/POWER(Z30+273.15,3)),$F$21 * EXP($K$11 * (1/(Z30 + 273.15) - 1/298.15)))","v":23.649711934286369}]
[null,null,null,null,null,null,null,null,null,null,null,null,null,null,null,null,null,null,null,null,null,null,null,null,null,5.199999999999994,null,{"$f":" IF(Hidden!$D$4=1,$F$21*EXP($D$12 + $D$13/(Z31+273.15) + $D$14/POWER(Z31+273.15,2) + $D$15/POWER(Z31+273.15,3)),$F$21 * EXP($K$11 * (1/(Z31 + 273.15) - 1/298.15)))","v":22.448093306772272}]
[null,null,null,null,null,null,null,null,null,null,null,null,null,null,null,null,null,null,null,null,null,null,null,null,null,6.3999999999999941,null,{"$f":" IF(Hidden!$D$4=1,$F$21*EXP($D$12 + $D$13/(Z32+273.15) + $D$14/POWER(Z32+273.15,2) + $D$15/POWER(Z32+273.15,3)),$F$21 * EXP($K$11 * (1/(Z32 + 273.15) - 1/298.15)))","v":21.315531727607969}]
[null,null,null,null,null,null,null,null,null,null,null,null,null,null,null,null,null,null,null,null,null,null,null,null,null,7.5999999999999943,null,{"$f":" IF(Hidden!$D$4=1,$F$21*EXP($D$12 + $D$13/(Z33+273.15) + $D$14/POWER(Z33+273.15,2) + $D$15/POWER(Z33+273.15,3)),$F$21 * EXP($K$11 * (1/(Z33 + 273.15) - 1/298.15)))","v":20.247645446044274}]
[null,null,null,null,null,null,null,null,null,null,null,null,null,null,null,null,null,null,null,null,null,null,null,null,null,8.7999999999999936,null,{"$f":" IF(Hidden!$D$4=1,$F$21*EXP($D$12 + $D$13/(Z34+273.15) + $D$14/POWER(Z34+273.15,2) + $D$15/POWER(Z34+273.15,3)),$F$21 * EXP($K$11 * (1/(Z34 + 273.15) - 1/298.15)))","v":19.240354743146856}]
[null,null,null,null,null,null,null,null,null,null,null,null,null,null,null,null,null,null,null,null,null,null,null,null,null,9.9999999999999929,null,{"$f":" IF(Hidden!$D$4=1,$F$21*EXP($D$12 + $D$13/(Z35+273.15) + $D$14/POWER(Z35+273.15,2) + $D$15/POWER(Z35+273.15,3)),$F$21 * EXP($K$11 * (1/(Z35 + 273.15) - 1/298.15)))","v":18.289859582392445}]
[null,null,null,null,null,null,null,null,null,null,null,null,null,null,null,null,null,null,null,null,null,null,null,null,null,11.199999999999992,null,{"$f":" IF(Hidden!$D$4=1,$F$21*EXP($D$12 + $D$13/(Z36+273.15) + $D$14/POWER(Z36+273.15,2) + $D$15/POWER(Z36+273.15,3)),$F$21 * EXP($K$11 * (1/(Z36 + 273.15) - 1/298.15)))","v":17.3926190192985}]
[null,null,null,null,null,null,null,null,{"$f":"($Z$110-$Z$10)/(ROW($Z$110)-ROW($Z$10))","v":1.2},null,null,null,null,null,null,null,null,null,null,null,null,null,null,null,null,12.399999999999991,null,{"$f":" IF(Hidden!$D$4=1,$F$21*EXP($D$12 + $D$13/(Z37+273.15) + $D$14/POWER(Z37+273.15,2) + $D$15/POWER(Z37+273.15,3)),$F$21 * EXP($K$11 * (1/(Z37 + 273.15) - 1/298.15)))","v":16.545332223932029}]
[null,null,null,null,null,null,null,null,null,null,null,null,null,null,null,null,null,null,"Plot from",-20,"°C          to",100,"°C",null,null,13.599999999999991,null,{"$f":" IF(Hidden!$D$4=1,$F$21*EXP($D$12 + $D$13/(Z38+273.15) + $D$14/POWER(Z38+273.15,2) + $D$15/POWER(Z38+273.15,3)),$F$21 * EXP($K$11 * (1/(Z38 + 273.15) - 1/298.15)))","v":15.74492098288335}]
[null,null,null,null,null,null,null,null,null,null,null,null,null,null,null,null,null,null,null,null,null,null,null,null,null,14.79999999999999,null,{"$f":" IF(Hidden!$D$4=1,$F$21*EXP($D$12 + $D$13/(Z39+273.15) + $D$14/POWER(Z39+273.15,2) + $D$15/POWER(Z39+273.15,3)),$F$21 * EXP($K$11 * (1/(Z39 + 273.15) - 1/298.15)))","v":14.988513558868942}]
[null,null,null,null,null,null,null,null,null,null,null,null,null,null,null,null,null,null,null,null,null,null,null,null,null,15.999999999999989,null,{"$f":" IF(Hidden!$D$4=1,$F$21*EXP($D$12 + $D$13/(Z40+273.15) + $D$14/POWER(Z40+273.15,2) + $D$15/POWER(Z40+273.15,3)),$F$21 * EXP($K$11 * (1/(Z40 + 273.15) - 1/298.15)))","v":14.273429796659794}]
[null,null,null,null,null,null,null,null,null,null,null,null,null,null,null,null,null,null,null,null,null,null,null,null,null,17.199999999999989,null,{"$f":" IF(Hidden!$D$4=1,$F$21*EXP($D$12 + $D$13/(Z41+273.15) + $D$14/POWER(Z41+273.15,2) + $D$15/POWER(Z41+273.15,3)),$F$21 * EXP($K$11 * (1/(Z41 + 273.15) - 1/298.15)))","v":13.597167373611832}]
[null,null,null,null,null,null,null,null,null,null,null,null,null,null,null,null,null,null,null,null,null,null,null,null,null,18.399999999999988,null,{"$f":" IF(Hidden!$D$4=1,$F$21*EXP($D$12 + $D$13/(Z42+273.15) + $D$14/POWER(Z42+273.15,2) + $D$15/POWER(Z42+273.15,3)),$F$21 * EXP($K$11 * (1/(Z42 + 273.15) - 1/298.15)))","v":12.957389101795973}]
[null,null,null,null,null,null,null,null,null,null,null,null,null,null,null,null,null,null,null,null,null,null,null,null,null,{"$f":"Z42+$I$37","v":19.599999999999987},null,{"$f":" IF(Hidden!$D$4=1,$F$21*EXP($D$12 + $D$13/(Z43+273.15) + $D$14/POWER(Z43+273.15,2) + $D$15/POWER(Z43+273.15,3)),$F$21 * EXP($K$11 * (1/(Z43 + 273.15) - 1/298.15)))","v":12.351911196663357}]
[null,null,null,null,null,null,null,null,null,null,null,null,null,null,null,null,null,null,null,null,null,null,null,null,null,20.799999999999986,null,{"$f":" IF(Hidden!$D$4=1,$F$21*EXP($D$12 + $D$13/(Z44+273.15) + $D$14/POWER(Z44+273.15,2) + $D$15/POWER(Z44+273.15,3)),$F$21 * EXP($K$11 * (1/(Z44 + 273.15) - 1/298.15)))","v":11.778692434412942}]
[null,null,null,null,null,null,null,null,null,null,null,null,null,null,null,null,null,null,null,null,null,null,null,null,null,21.999999999999986,null,{"$f":" IF(Hidden!$D$4=1,$F$21*EXP($D$12 + $D$13/(Z45+273.15) + $D$14/POWER(Z45+273.15,2) + $D$15/POWER(Z45+273.15,3)),$F$21 * EXP($K$11 * (1/(Z45 + 273.15) - 1/298.15)))","v":11.235824126817608}]
[null,null,null,null,null,null,null,null,null,null,null,null,null,null,null,null,null,null,null,null,null,null,null,null,null,23.199999999999985,null,{"$f":" IF(Hidden!$D$4=1,$F$21*EXP($D$12 + $D$13/(Z46+273.15) + $D$14/POWER(Z46+273.15,2) + $D$15/POWER(Z46+273.15,3)),$F$21 * EXP($K$11 * (1/(Z46 + 273.15) - 1/298.15)))","v":10.721520848269749}]
[null,null,null,null,null,null,null,null,null,null,null,null,null,null,null,null,null,null,null,null,null,null,null,null,null,24.399999999999984,null,{"$f":" IF(Hidden!$D$4=1,$F$21*EXP($D$12 + $D$13/(Z47+273.15) + $D$14/POWER(Z47+273.15,2) + $D$15/POWER(Z47+273.15,3)),$F$21 * EXP($K$11 * (1/(Z47 + 273.15) - 1/298.15)))","v":10.234111855284132}]
[null,null,null,null,null,null,null,null,null,null,null,null,null,null,null,null,null,null,null,null,null,null,null,null,null,25.599999999999984,null,{"$f":" IF(Hidden!$D$4=1,$F$21*EXP($D$12 + $D$13/(Z48+273.15) + $D$14/POWER(Z48+273.15,2) + $D$15/POWER(Z48+273.15,3)),$F$21 * EXP($K$11 * (1/(Z48 + 273.15) - 1/298.15)))","v":9.7720331436910044}]
[null,null,null,null,null,null,null,null,null,null,null,null,null,null,null,null,null,null,null,null,null,null,null,null,null,26.799999999999983,null,{"$f":" IF(Hidden!$D$4=1,$F$21*EXP($D$12 + $D$13/(Z49+273.15) + $D$14/POWER(Z49+273.15,2) + $D$15/POWER(Z49+273.15,3)),$F$21 * EXP($K$11 * (1/(Z49 + 273.15) - 1/298.15)))","v":9.3338200933106314}]
[null,null,null,null,null,null,null,null,null,null,null,null,null,null,null,null,null,null,null,null,null,null,null,null,null,27.999999999999982,null,{"$f":" IF(Hidden!$D$4=1,$F$21*EXP($D$12 + $D$13/(Z50+273.15) + $D$14/POWER(Z50+273.15,2) + $D$15/POWER(Z50+273.15,3)),$F$21 * EXP($K$11 * (1/(Z50 + 273.15) - 1/298.15)))","v":8.9181006540621848}]
[null,null,null,null,null,null,null,null,null,null,null,null,null,null,null,null,null,null,null,null,null,null,null,null,null,29.199999999999982,null,{"$f":" IF(Hidden!$D$4=1,$F$21*EXP($D$12 + $D$13/(Z51+273.15) + $D$14/POWER(Z51+273.15,2) + $D$15/POWER(Z51+273.15,3)),$F$21 * EXP($K$11 * (1/(Z51 + 273.15) - 1/298.15)))","v":8.5235890312600908}]
[null,null,null,null,null,null,null,null,null,null,null,null,null,null,null,null,null,null,null,null,null,null,null,null,null,30.399999999999981,null,{"$f":" IF(Hidden!$D$4=1,$F$21*EXP($D$12 + $D$13/(Z52+273.15) + $D$14/POWER(Z52+273.15,2) + $D$15/POWER(Z52+273.15,3)),$F$21 * EXP($K$11 * (1/(Z52 + 273.15) - 1/298.15)))","v":8.1490798313223589}]
[null,null,null,null,null,null,null,null,null,null,null,null,null,null,null,null,null,null,null,null,null,null,null,null,null,31.59999999999998,null,{"$f":" IF(Hidden!$D$4=1,$F$21*EXP($D$12 + $D$13/(Z53+273.15) + $D$14/POWER(Z53+273.15,2) + $D$15/POWER(Z53+273.15,3)),$F$21 * EXP($K$11 * (1/(Z53 + 273.15) - 1/298.15)))","v":7.7934426322894357}]
[null,null,null,null,null,null,null,null,null,null,null,null,null,null,null,null,null,null,null,null,null,null,null,null,null,32.799999999999983,null,{"$f":" IF(Hidden!$D$4=1,$F$21*EXP($D$12 + $D$13/(Z54+273.15) + $D$14/POWER(Z54+273.15,2) + $D$15/POWER(Z54+273.15,3)),$F$21 * EXP($K$11 * (1/(Z54 + 273.15) - 1/298.15)))","v":7.4556169464518938}]
[null,null,null,null,null,null,null,null,null,null,null,null,null,null,null,null,null,null,null,null,null,null,null,null,null,33.999999999999986,null,{"$f":" IF(Hidden!$D$4=1,$F$21*EXP($D$12 + $D$13/(Z55+273.15) + $D$14/POWER(Z55+273.15,2) + $D$15/POWER(Z55+273.15,3)),$F$21 * EXP($K$11 * (1/(Z55 + 273.15) - 1/298.15)))","v":7.1346075450393789}]
[null,null,null,null,null,null,null,null,null,null,null,null,null,null,null,null,null,null,null,null,null,null,null,null,null,35.199999999999989,null,{"$f":" IF(Hidden!$D$4=1,$F$21*EXP($D$12 + $D$13/(Z56+273.15) + $D$14/POWER(Z56+273.15,2) + $D$15/POWER(Z56+273.15,3)),$F$21 * EXP($K$11 * (1/(Z56 + 273.15) - 1/298.15)))","v":6.8294801173505357}]
[null,null,null,null,null,null,null,null,null,null,null,null,null,null,null,null,null,null,null,null,null,null,null,null,null,36.399999999999991,null,{"$f":" IF(Hidden!$D$4=1,$F$21*EXP($D$12 + $D$13/(Z57+273.15) + $D$14/POWER(Z57+273.15,2) + $D$15/POWER(Z57+273.15,3)),$F$21 * EXP($K$11 * (1/(Z57 + 273.15) - 1/298.15)))","v":6.5393572389253185}]
[null,null,null,null,null,null,null,null,null,null,null,null,null,null,null,null,null,null,null,null,null,null,null,null,null,37.599999999999994,null,{"$f":" IF(Hidden!$D$4=1,$F$21*EXP($D$12 + $D$13/(Z58+273.15) + $D$14/POWER(Z58+273.15,2) + $D$15/POWER(Z58+273.15,3)),$F$21 * EXP($K$11 * (1/(Z58 + 273.15) - 1/298.15)))","v":6.2634146253961829}]
[null,null,null,null,null,null,null,null,null,null,null,null,null,null,null,null,null,null,null,null,null,null,null,null,null,38.799999999999997,null,{"$f":" IF(Hidden!$D$4=1,$F$21*EXP($D$12 + $D$13/(Z59+273.15) + $D$14/POWER(Z59+273.15,2) + $D$15/POWER(Z59+273.15,3)),$F$21 * EXP($K$11 * (1/(Z59 + 273.15) - 1/298.15)))","v":6.0008776505176584}]
[null,null,null,null,null,null,null,null,null,null,null,null,null,null,null,null,null,null,null,null,null,null,null,null,null,40,null,{"$f":" IF(Hidden!$D$4=1,$F$21*EXP($D$12 + $D$13/(Z60+273.15) + $D$14/POWER(Z60+273.15,2) + $D$15/POWER(Z60+273.15,3)),$F$21 * EXP($K$11 * (1/(Z60 + 273.15) - 1/298.15)))","v":5.7510181085814605}]
[null,null,null,null,null,null,null,null,null,null,null,null,null,null,null,null,null,null,null,null,null,null,null,null,null,41.2,null,{"$f":" IF(Hidden!$D$4=1,$F$21*EXP($D$12 + $D$13/(Z61+273.15) + $D$14/POWER(Z61+273.15,2) + $D$15/POWER(Z61+273.15,3)),$F$21 * EXP($K$11 * (1/(Z61 + 273.15) - 1/298.15)))","v":5.5131512029899286}]
[null,null,null,null,null,null,null,null,null,null,null,null,null,null,null,null,null,null,null,null,null,null,null,null,null,42.400000000000006,null,{"$f":" IF(Hidden!$D$4=1,$F$21*EXP($D$12 + $D$13/(Z62+273.15) + $D$14/POWER(Z62+273.15,2) + $D$15/POWER(Z62+273.15,3)),$F$21 * EXP($K$11 * (1/(Z62 + 273.15) - 1/298.15)))","v":5.2866327441953809}]
[null,null,null,null,null,null,null,null,null,null,null,null,null,null,null,null,null,null,null,null,null,null,null,null,null,43.600000000000009,null,{"$f":" IF(Hidden!$D$4=1,$F$21*EXP($D$12 + $D$13/(Z63+273.15) + $D$14/POWER(Z63+273.15,2) + $D$15/POWER(Z63+273.15,3)),$F$21 * EXP($K$11 * (1/(Z63 + 273.15) - 1/298.15)))","v":5.0708565415298681}]
[null,null,null,null,null,null,null,null,null,null,null,null,null,null,null,null,null,null,null,null,null,null,null,null,null,44.800000000000011,null,{"$f":" IF(Hidden!$D$4=1,$F$21*EXP($D$12 + $D$13/(Z64+273.15) + $D$14/POWER(Z64+273.15,2) + $D$15/POWER(Z64+273.15,3)),$F$21 * EXP($K$11 * (1/(Z64 + 273.15) - 1/298.15)))","v":4.8652519746582445}]
[null,null,null,null,null,null,null,null,null,null,null,null,null,null,null,null,null,null,null,null,null,null,null,null,null,46.000000000000014,null,{"$f":" IF(Hidden!$D$4=1,$F$21*EXP($D$12 + $D$13/(Z65+273.15) + $D$14/POWER(Z65+273.15,2) + $D$15/POWER(Z65+273.15,3)),$F$21 * EXP($K$11 * (1/(Z65 + 273.15) - 1/298.15)))","v":4.6692817314959534}]
[null,null,null,null,null,null,null,null,null,null,null,null,null,null,null,null,null,null,null,null,null,null,null,null,null,47.200000000000017,null,{"$f":" IF(Hidden!$D$4=1,$F$21*EXP($D$12 + $D$13/(Z66+273.15) + $D$14/POWER(Z66+273.15,2) + $D$15/POWER(Z66+273.15,3)),$F$21 * EXP($K$11 * (1/(Z66 + 273.15) - 1/298.15)))","v":4.4824397004523346}]
[null,null,null,null,null,null,null,null,null,null,null,null,null,null,null,null,null,null,null,null,null,null,null,null,null,48.40000000000002,null,{"$f":" IF(Hidden!$D$4=1,$F$21*EXP($D$12 + $D$13/(Z67+273.15) + $D$14/POWER(Z67+273.15,2) + $D$15/POWER(Z67+273.15,3)),$F$21 * EXP($K$11 * (1/(Z67 + 273.15) - 1/298.15)))","v":4.3042490057953149}]
[null,null,null,null,null,null,null,null,null,null,null,null,null,null,null,null,null,null,null,null,null,null,null,null,null,49.600000000000023,null,{"$f":" IF(Hidden!$D$4=1,$F$21*EXP($D$12 + $D$13/(Z68+273.15) + $D$14/POWER(Z68+273.15,2) + $D$15/POWER(Z68+273.15,3)),$F$21 * EXP($K$11 * (1/(Z68 + 273.15) - 1/298.15)))","v":4.1342601757933783}]
[null,null,null,null,null,null,null,null,null,null,null,null,null,null,null,null,null,null,null,null,null,null,null,null,null,50.800000000000026,null,{"$f":" IF(Hidden!$D$4=1,$F$21*EXP($D$12 + $D$13/(Z69+273.15) + $D$14/POWER(Z69+273.15,2) + $D$15/POWER(Z69+273.15,3)),$F$21 * EXP($K$11 * (1/(Z69 + 273.15) - 1/298.15)))","v":3.972049434081427}]
[null,null,null,null,null,null,null,null,null,null,null,null,null,null,null,null,null,null,null,null,null,null,null,null,null,52.000000000000028,null,{"$f":" IF(Hidden!$D$4=1,$F$21*EXP($D$12 + $D$13/(Z70+273.15) + $D$14/POWER(Z70+273.15,2) + $D$15/POWER(Z70+273.15,3)),$F$21 * EXP($K$11 * (1/(Z70 + 273.15) - 1/298.15)))","v":3.817217105423901}]
[null,null,null,null,null,null,null,null,null,null,null,null,null,null,null,null,null,null,null,null,null,null,null,null,null,53.200000000000031,null,{"$f":" IF(Hidden!$D$4=1,$F$21*EXP($D$12 + $D$13/(Z71+273.15) + $D$14/POWER(Z71+273.15,2) + $D$15/POWER(Z71+273.15,3)),$F$21 * EXP($K$11 * (1/(Z71 + 273.15) - 1/298.15)))","v":3.6693861277174249}]
[null,null,null,null,null,null,null,null,null,null,null,null,null,null,null,null,null,null,null,null,null,null,null,null,null,54.400000000000034,null,{"$f":" IF(Hidden!$D$4=1,$F$21*EXP($D$12 + $D$13/(Z72+273.15) + $D$14/POWER(Z72+273.15,2) + $D$15/POWER(Z72+273.15,3)),$F$21 * EXP($K$11 * (1/(Z72 + 273.15) - 1/298.15)))","v":3.5282006626906925}]
[null,null,null,null,null,null,null,null,null,null,null,null,null,null,null,null,null,null,null,null,null,null,null,null,null,55.600000000000037,null,{"$f":" IF(Hidden!$D$4=1,$F$21*EXP($D$12 + $D$13/(Z73+273.15) + $D$14/POWER(Z73+273.15,2) + $D$15/POWER(Z73+273.15,3)),$F$21 * EXP($K$11 * (1/(Z73 + 273.15) - 1/298.15)))","v":3.3933247983260157}]
[null,null,null,null,null,null,null,null,null,null,null,null,null,null,null,null,null,null,null,null,null,null,null,null,null,56.80000000000004,null,{"$f":" IF(Hidden!$D$4=1,$F$21*EXP($D$12 + $D$13/(Z74+273.15) + $D$14/POWER(Z74+273.15,2) + $D$15/POWER(Z74+273.15,3)),$F$21 * EXP($K$11 * (1/(Z74 + 273.15) - 1/298.15)))","v":3.2644413365487317}]
[null,null,null,null,null,null,null,null,null,null,null,null,null,null,null,null,null,null,null,null,null,null,null,null,null,{"$f":"Z74+$I$37","v":58.000000000000043},null,{"$f":" IF(Hidden!$D$4=1,$F$21*EXP($D$12 + $D$13/(Z75+273.15) + $D$14/POWER(Z75+273.15,2) + $D$15/POWER(Z75+273.15,3)),$F$21 * EXP($K$11 * (1/(Z75 + 273.15) - 1/298.15)))","v":3.1412506602113948}]
[null,null,null,null,null,null,null,null,null,null,null,null,null,null,null,null,null,null,null,null,null,null,null,null,null,59.200000000000045,null,{"$f":" IF(Hidden!$D$4=1,$F$21*EXP($D$12 + $D$13/(Z76+273.15) + $D$14/POWER(Z76+273.15,2) + $D$15/POWER(Z76+273.15,3)),$F$21 * EXP($K$11 * (1/(Z76 + 273.15) - 1/298.15)))","v":3.0234696738427824}]
[null,null,null,null,null,null,null,null,null,null,null,null,null,null,null,null,null,null,null,null,null,null,null,null,null,60.400000000000048,null,{"$f":" IF(Hidden!$D$4=1,$F$21*EXP($D$12 + $D$13/(Z77+273.15) + $D$14/POWER(Z77+273.15,2) + $D$15/POWER(Z77+273.15,3)),$F$21 * EXP($K$11 * (1/(Z77 + 273.15) - 1/298.15)))","v":2.9108308130401799}]
[null,null,null,null,null,null,null,null,null,null,null,null,null,null,null,null,null,null,null,null,null,null,null,null,null,61.600000000000051,null,{"$f":" IF(Hidden!$D$4=1,$F$21*EXP($D$12 + $D$13/(Z78+273.15) + $D$14/POWER(Z78+273.15,2) + $D$15/POWER(Z78+273.15,3)),$F$21 * EXP($K$11 * (1/(Z78 + 273.15) - 1/298.15)))","v":2.8030811177600534}]
[null,null,null,null,null,null,null,null,null,null,null,null,null,null,null,null,null,null,null,null,null,null,null,null,null,62.800000000000054,null,{"$f":" IF(Hidden!$D$4=1,$F$21*EXP($D$12 + $D$13/(Z79+273.15) + $D$14/POWER(Z79+273.15,2) + $D$15/POWER(Z79+273.15,3)),$F$21 * EXP($K$11 * (1/(Z79 + 273.15) - 1/298.15)))","v":2.6999813651096876}]
[null,null,null,null,null,null,null,null,null,null,null,null,null,null,null,null,null,null,null,null,null,null,null,null,null,64.000000000000057,null,{"$f":" IF(Hidden!$D$4=1,$F$21*EXP($D$12 + $D$13/(Z80+273.15) + $D$14/POWER(Z80+273.15,2) + $D$15/POWER(Z80+273.15,3)),$F$21 * EXP($K$11 * (1/(Z80 + 273.15) - 1/298.15)))","v":2.6013052575631646}]
[null,null,null,null,null,null,null,null,null,null,null,null,null,null,null,null,null,null,null,null,null,null,null,null,null,65.20000000000006,null,{"$f":" IF(Hidden!$D$4=1,$F$21*EXP($D$12 + $D$13/(Z81+273.15) + $D$14/POWER(Z81+273.15,2) + $D$15/POWER(Z81+273.15,3)),$F$21 * EXP($K$11 * (1/(Z81 + 273.15) - 1/298.15)))","v":2.5068386628209045}]
[null,null,null,null,null,null,null,null,null,null,null,null,null,null,null,null,null,null,null,null,null,null,null,null,null,66.400000000000063,null,{"$f":" IF(Hidden!$D$4=1,$F$21*EXP($D$12 + $D$13/(Z82+273.15) + $D$14/POWER(Z82+273.15,2) + $D$15/POWER(Z82+273.15,3)),$F$21 * EXP($K$11 * (1/(Z82 + 273.15) - 1/298.15)))","v":2.416378901805603}]
[null,null,null,null,null,null,null,null,null,null,null,null,null,null,null,null,null,null,null,null,null,null,null,null,null,67.600000000000065,null,{"$f":" IF(Hidden!$D$4=1,$F$21*EXP($D$12 + $D$13/(Z83+273.15) + $D$14/POWER(Z83+273.15,2) + $D$15/POWER(Z83+273.15,3)),$F$21 * EXP($K$11 * (1/(Z83 + 273.15) - 1/298.15)))","v":2.3297340815398093}]
[null,null,null,null,null,null,null,null,null,null,null,null,null,null,null,null,null,null,null,null,null,null,null,null,null,68.800000000000068,null,{"$f":" IF(Hidden!$D$4=1,$F$21*EXP($D$12 + $D$13/(Z84+273.15) + $D$14/POWER(Z84+273.15,2) + $D$15/POWER(Z84+273.15,3)),$F$21 * EXP($K$11 * (1/(Z84 + 273.15) - 1/298.15)))","v":2.2467224698836552}]
[null,null,null,null,null,null,null,null,null,null,null,null,null,null,null,null,null,null,null,null,null,null,null,null,null,70.000000000000071,null,{"$f":" IF(Hidden!$D$4=1,$F$21*EXP($D$12 + $D$13/(Z85+273.15) + $D$14/POWER(Z85+273.15,2) + $D$15/POWER(Z85+273.15,3)),$F$21 * EXP($K$11 * (1/(Z85 + 273.15) - 1/298.15)))","v":2.1671719093273007}]
[null,null,null,null,null,null,null,null,null,null,null,null,null,null,null,null,null,null,null,null,null,null,null,null,null,71.200000000000074,null,{"$f":" IF(Hidden!$D$4=1,$F$21*EXP($D$12 + $D$13/(Z86+273.15) + $D$14/POWER(Z86+273.15,2) + $D$15/POWER(Z86+273.15,3)),$F$21 * EXP($K$11 * (1/(Z86 + 273.15) - 1/298.15)))","v":2.0909192672318317}]
[null,null,null,null,null,null,null,null,null,null,null,null,null,null,null,null,null,null,null,null,null,null,null,null,null,72.400000000000077,null,{"$f":" IF(Hidden!$D$4=1,$F$21*EXP($D$12 + $D$13/(Z87+273.15) + $D$14/POWER(Z87+273.15,2) + $D$15/POWER(Z87+273.15,3)),$F$21 * EXP($K$11 * (1/(Z87 + 273.15) - 1/298.15)))","v":2.0178099200969632}]
[null,null,null,null,null,null,null,null,null,null,null,null,null,null,null,null,null,null,null,null,null,null,null,null,null,73.60000000000008,null,{"$f":" IF(Hidden!$D$4=1,$F$21*EXP($D$12 + $D$13/(Z88+273.15) + $D$14/POWER(Z88+273.15,2) + $D$15/POWER(Z88+273.15,3)),$F$21 * EXP($K$11 * (1/(Z88 + 273.15) - 1/298.15)))","v":1.9476972696047812}]
[null,null,null,null,null,null,null,null,null,null,null,null,null,null,null,null,null,null,null,null,null,null,null,null,null,74.800000000000082,null,{"$f":" IF(Hidden!$D$4=1,$F$21*EXP($D$12 + $D$13/(Z89+273.15) + $D$14/POWER(Z89+273.15,2) + $D$15/POWER(Z89+273.15,3)),$F$21 * EXP($K$11 * (1/(Z89 + 273.15) - 1/298.15)))","v":1.8804422883465524}]
[null,null,null,null,null,null,null,null,null,null,null,null,null,null,null,null,null,null,null,null,null,null,null,null,null,76.000000000000085,null,{"$f":" IF(Hidden!$D$4=1,$F$21*EXP($D$12 + $D$13/(Z90+273.15) + $D$14/POWER(Z90+273.15,2) + $D$15/POWER(Z90+273.15,3)),$F$21 * EXP($K$11 * (1/(Z90 + 273.15) - 1/298.15)))","v":1.8159130932861598}]
[null,null,null,null,null,null,null,null,null,null,null,null,null,null,null,null,null,null,null,null,null,null,null,null,null,77.200000000000088,null,{"$f":" IF(Hidden!$D$4=1,$F$21*EXP($D$12 + $D$13/(Z91+273.15) + $D$14/POWER(Z91+273.15,2) + $D$15/POWER(Z91+273.15,3)),$F$21 * EXP($K$11 * (1/(Z91 + 273.15) - 1/298.15)))","v":1.7539845451492084}]
[null,null,null,null,null,null,null,null,null,null,null,null,null,null,null,null,null,null,null,null,null,null,null,null,null,78.400000000000091,null,{"$f":" IF(Hidden!$D$4=1,$F$21*EXP($D$12 + $D$13/(Z92+273.15) + $D$14/POWER(Z92+273.15,2) + $D$15/POWER(Z92+273.15,3)),$F$21 * EXP($K$11 * (1/(Z92 + 273.15) - 1/298.15)))","v":1.6945378720522399}]
[null,null,null,null,null,null,null,null,null,null,null,null,null,null,null,null,null,null,null,null,null,null,null,null,null,79.600000000000094,null,{"$f":" IF(Hidden!$D$4=1,$F$21*EXP($D$12 + $D$13/(Z93+273.15) + $D$14/POWER(Z93+273.15,2) + $D$15/POWER(Z93+273.15,3)),$F$21 * EXP($K$11 * (1/(Z93 + 273.15) - 1/298.15)))","v":1.6374603158032088}]
[null,null,null,null,null,null,null,null,null,null,null,null,null,null,null,null,null,null,null,null,null,null,null,null,null,80.800000000000097,null,{"$f":" IF(Hidden!$D$4=1,$F$21*EXP($D$12 + $D$13/(Z94+273.15) + $D$14/POWER(Z94+273.15,2) + $D$15/POWER(Z94+273.15,3)),$F$21 * EXP($K$11 * (1/(Z94 + 273.15) - 1/298.15)))","v":1.5826447994118946}]
[null,null,null,null,null,null,null,null,null,null,null,null,null,null,null,null,null,null,null,null,null,null,null,null,null,82.000000000000099,null,{"$f":" IF(Hidden!$D$4=1,$F$21*EXP($D$12 + $D$13/(Z95+273.15) + $D$14/POWER(Z95+273.15,2) + $D$15/POWER(Z95+273.15,3)),$F$21 * EXP($K$11 * (1/(Z95 + 273.15) - 1/298.15)))","v":1.5299896144492604}]
[null,null,null,null,null,null,null,null,null,null,null,null,null,null,null,null,null,null,null,null,null,null,null,null,null,83.200000000000102,null,{"$f":" IF(Hidden!$D$4=1,$F$21*EXP($D$12 + $D$13/(Z96+273.15) + $D$14/POWER(Z96+273.15,2) + $D$15/POWER(Z96+273.15,3)),$F$21 * EXP($K$11 * (1/(Z96 + 273.15) - 1/298.15)))","v":1.4793981269874417}]
[null,null,null,null,null,null,null,null,null,null,null,null,null,null,null,null,null,null,null,null,null,null,null,null,null,84.400000000000105,null,{"$f":" IF(Hidden!$D$4=1,$F$21*EXP($D$12 + $D$13/(Z97+273.15) + $D$14/POWER(Z97+273.15,2) + $D$15/POWER(Z97+273.15,3)),$F$21 * EXP($K$11 * (1/(Z97 + 273.15) - 1/298.15)))","v":1.4307785009381646}]
[null,null,null,null,null,null,null,null,null,null,null,null,null,null,null,null,null,null,null,null,null,null,null,null,null,85.600000000000108,null,{"$f":" IF(Hidden!$D$4=1,$F$21*EXP($D$12 + $D$13/(Z98+273.15) + $D$14/POWER(Z98+273.15,2) + $D$15/POWER(Z98+273.15,3)),$F$21 * EXP($K$11 * (1/(Z98 + 273.15) - 1/298.15)))","v":1.3840434376874986}]
[null,null,null,null,null,null,null,null,null,null,null,null,null,null,null,null,null,null,null,null,null,null,null,null,null,86.800000000000111,null,{"$f":" IF(Hidden!$D$4=1,$F$21*EXP($D$12 + $D$13/(Z99+273.15) + $D$14/POWER(Z99+273.15,2) + $D$15/POWER(Z99+273.15,3)),$F$21 * EXP($K$11 * (1/(Z99 + 273.15) - 1/298.15)))","v":1.3391099309988805}]
[null,null,null,null,null,null,null,null,null,null,null,null,null,null,null,null,null,null,null,null,null,null,null,null,null,88.000000000000114,null,{"$f":" IF(Hidden!$D$4=1,$F$21*EXP($D$12 + $D$13/(Z100+273.15) + $D$14/POWER(Z100+273.15,2) + $D$15/POWER(Z100+273.15,3)),$F$21 * EXP($K$11 * (1/(Z100 + 273.15) - 1/298.15)))","v":1.2958990362254197}]
[null,null,null,null,null,null,null,null,null,null,null,null,null,null,null,null,null,null,null,null,null,null,null,null,null,89.200000000000117,null,{"$f":" IF(Hidden!$D$4=1,$F$21*EXP($D$12 + $D$13/(Z101+273.15) + $D$14/POWER(Z101+273.15,2) + $D$15/POWER(Z101+273.15,3)),$F$21 * EXP($K$11 * (1/(Z101 + 273.15) - 1/298.15)))","v":1.2543356529365823}]
[null,null,null,null,null,null,null,null,null,null,null,null,null,null,null,null,null,null,null,null,null,null,null,null,null,90.400000000000119,null,{"$f":" IF(Hidden!$D$4=1,$F$21*EXP($D$12 + $D$13/(Z102+273.15) + $D$14/POWER(Z102+273.15,2) + $D$15/POWER(Z102+273.15,3)),$F$21 * EXP($K$11 * (1/(Z102 + 273.15) - 1/298.15)))","v":1.2143483201237462}]
[null,null,null,null,null,null,null,null,null,null,null,null,null,null,null,null,null,null,null,null,null,null,null,null,null,91.600000000000122,null,{"$f":" IF(Hidden!$D$4=1,$F$21*EXP($D$12 + $D$13/(Z103+273.15) + $D$14/POWER(Z103+273.15,2) + $D$15/POWER(Z103+273.15,3)),$F$21 * EXP($K$11 * (1/(Z103 + 273.15) - 1/298.15)))","v":1.1758690232046511}]
[null,null,null,null,null,null,null,null,null,null,null,null,null,null,null,null,null,null,null,null,null,null,null,null,null,92.800000000000125,null,{"$f":" IF(Hidden!$D$4=1,$F$21*EXP($D$12 + $D$13/(Z104+273.15) + $D$14/POWER(Z104+273.15,2) + $D$15/POWER(Z104+273.15,3)),$F$21 * EXP($K$11 * (1/(Z104 + 273.15) - 1/298.15)))","v":1.1388330120980688}]
[null,null,null,null,null,null,null,null,null,null,null,null,null,null,null,null,null,null,null,null,null,null,null,null,null,94.000000000000128,null,{"$f":" IF(Hidden!$D$4=1,$F$21*EXP($D$12 + $D$13/(Z105+273.15) + $D$14/POWER(Z105+273.15,2) + $D$15/POWER(Z105+273.15,3)),$F$21 * EXP($K$11 * (1/(Z105 + 273.15) - 1/298.15)))","v":1.1031786296880428}]
[null,null,null,null,null,null,null,null,null,null,null,null,null,null,null,null,null,null,null,null,null,null,null,null,null,95.200000000000131,null,{"$f":" IF(Hidden!$D$4=1,$F$21*EXP($D$12 + $D$13/(Z106+273.15) + $D$14/POWER(Z106+273.15,2) + $D$15/POWER(Z106+273.15,3)),$F$21 * EXP($K$11 * (1/(Z106 + 273.15) - 1/298.15)))","v":1.0688471500414738}]
[null,null,null,null,null,null,null,null,null,null,null,null,null,null,null,null,null,null,null,null,null,null,null,null,null,96.400000000000134,null,{"$f":" IF(Hidden!$D$4=1,$F$21*EXP($D$12 + $D$13/(Z107+273.15) + $D$14/POWER(Z107+273.15,2) + $D$15/POWER(Z107+273.15,3)),$F$21 * EXP($K$11 * (1/(Z107 + 273.15) - 1/298.15)))","v":1.0357826257843885}]
[null,null,null,null,null,null,null,null,null,null,null,null,null,null,null,null,null,null,null,null,null,null,null,null,null,97.600000000000136,null,{"$f":" IF(Hidden!$D$4=1,$F$21*EXP($D$12 + $D$13/(Z108+273.15) + $D$14/POWER(Z108+273.15,2) + $D$15/POWER(Z108+273.15,3)),$F$21 * EXP($K$11 * (1/(Z108 + 273.15) - 1/298.15)))","v":1.0039317440807716}]
[null,null,null,null,null,null,null,null,null,null,null,null,null,null,null,null,null,null,null,null,null,null,null,null,null,98.800000000000139,null,{"$f":" IF(Hidden!$D$4=1,$F$21*EXP($D$12 + $D$13/(Z109+273.15) + $D$14/POWER(Z109+273.15,2) + $D$15/POWER(Z109+273.15,3)),$F$21 * EXP($K$11 * (1/(Z109 + 273.15) - 1/298.15)))","v":0.97324369069383421}]
[null,null,null,null,null,null,null,null,null,null,null,null,null,null,null,null,null,null,null,null,null,null,null,null,null,{"$f":"V38","v":100},null,{"$f":" IF(Hidden!$D$4=1,$F$21*EXP($D$12 + $D$13/(Z110+273.15) + $D$14/POWER(Z110+273.15,2) + $D$15/POWER(Z110+273.15,3)),$F$21 * EXP($K$11 * (1/(Z110 + 273.15) - 1/298.15)))","v":0.94367002164305158}]

{"sheet":"JEITA (Li-Ion)","index":2,"n_rows":23,"n_cols":11,"rows_kept":23,"cut":false,"hidden":false,"merged":[[10,2,10,4],[22,2,22,4],[20,6,20,10],[22,6,22,10],[13,1,13,5],[11,1,11,5],[15,1,15,5],[17,1,17,5],[19,1,19,5],[21,1,21,5],[10,6,10,10],[12,6,12,10],[14,6,14,10],[16,6,16,10],[18,6,18,10]]}
[]
[null,"LTC4162-L"]
[null,"Li-Ion JEITA Calculator"]
[]
[]
[]
[null,"RSNSB = ",10,"mOhms"]
[]
[]
[null,"jeita_region","vcharge_jeita","Charge Voltage (V)","icharge_jeita","Charge Current (A)","JEITA Temperature","thermistor_voltage","Network Resistance (kΩ)","NTC Resistance (kΩ)","Temperature"]
[null,"R1","Charger Off",null,null,0]
[null,null,null,null,null,null,"jeita_t1",16117,{"$f":"('NTC Input'!$D$27*H12/(21829-H12))","v":28.216036414565828},{"$f":"(('NTC Input'!$D$29 * 'NTC Input'!$D$30) - I12 * ('NTC Input'!$D$29 + 'NTC Input'!$D$30)) / (I12 - 'NTC Input'!$D$30)","v":28.216036415361973},{"$f":" IF(Hidden!$D$4=1,1 / ('NTC Input'!$G$12 + 'NTC Input'!$G$13*LN(J12/'NTC Input'!$F$21) + 'NTC Input'!$G$14*POWER(LN(J12/'NTC Input'!$F$21),2) + 'NTC Input'!$G$15*POWER(LN(J12/'NTC Input'!$F$21),3)) -273.15,'NTC Input'!$K$11 / (LN(J12 / ('NTC Input'!$F$21 * EXP(-'NTC Input'!$K$11 / 298.15)))) - 273.15)","v":-2.5322405073382015E-2}]
[null,"R2",31,{"$f":"C13*0.0125 + 3.8125","v":4.2},15,{"$f":"(E13+1)/$C$7","v":1.6}]
[null,null,null,null,null,null,"jeita_t2",14113,{"$f":"('NTC Input'!$D$27*H14/(21829-H14))","v":18.29056505961638},{"$f":"(('NTC Input'!$D$29 * 'NTC Input'!$D$30) - I14 * ('NTC Input'!$D$29 + 'NTC Input'!$D$30)) / (I14 - 'NTC Input'!$D$30)","v":18.290565059950925},{"$f":" IF(Hidden!$D$4=1,1 / ('NTC Input'!$G$12 + 'NTC Input'!$G$13*LN(J14/'NTC Input'!$F$21) + 'NTC Input'!$G$14*POWER(LN(J14/'NTC Input'!$F$21),2) + 'NTC Input'!$G$15*POWER(LN(J14/'NTC Input'!$F$21),3)) -273.15,'NTC Input'!$K$11 / (LN(J14 / ('NTC Input'!$F$21 * EXP(-'NTC Input'!$K$11 / 298.15)))) - 273.15)","v":9.9841459843347025}]
[null,"R3",31,{"$f":"C15*0.0125 + 3.8125","v":4.2},31,{"$f":"(E15+1)/$C$7","v":3.2}]
[null,null,null,null,null,null,"jeita_t3",7970,{"$f":"('NTC Input'!$D$27*H16/(21829-H16))","v":5.7507756692402046},{"$f":"(('NTC Input'!$D$29 * 'NTC Input'!$D$30) - I16 * ('NTC Input'!$D$29 + 'NTC Input'!$D$30)) / (I16 - 'NTC Input'!$D$30)","v":5.7507756692732759},{"$f":" IF(Hidden!$D$4=1,1 / ('NTC Input'!$G$12 + 'NTC Input'!$G$13*LN(J16/'NTC Input'!$F$21) + 'NTC Input'!$G$14*POWER(LN(J16/'NTC Input'!$F$21),2) + 'NTC Input'!$G$15*POWER(LN(J16/'NTC Input'!$F$21),3)) -273.15,'NTC Input'!$K$11 / (LN(J16 / ('NTC Input'!$F$21 * EXP(-'NTC Input'!$K$11 / 298.15)))) - 273.15)","v":40.010485987565914}]
[null,"R4",23,{"$f":"C17*0.0125 + 3.8125","v":4.0999999999999996},31,{"$f":"(E17+1)/$C$7","v":3.2}]
[null,null,null,null,null,null,"jeita_t4",7112,{"$f":"('NTC Input'!$D$27*H18/(21829-H18))","v":4.8325066249915061},{"$f":"(('NTC Input'!$D$29 * 'NTC Input'!$D$30) - I18 * ('NTC Input'!$D$29 + 'NTC Input'!$D$30)) / (I18 - 'NTC Input'!$D$30)","v":4.8325066250148598},{"$f":" IF(Hidden!$D$4=1,1 / ('NTC Input'!$G$12 + 'NTC Input'!$G$13*LN(J18/'NTC Input'!$F$21) + 'NTC Input'!$G$14*POWER(LN(J18/'NTC Input'!$F$21),2) + 'NTC Input'!$G$15*POWER(LN(J18/'NTC Input'!$F$21),3)) -273.15,'NTC Input'!$K$11 / (LN(J18 / ('NTC Input'!$F$21 * EXP(-'NTC Input'!$K$11 / 298.15)))) - 273.15)","v":45.007456466965039}]
[null,"R5",23,{"$f":"C19*0.0125 + 3.8125","v":4.0999999999999996},15,{"$f":"(E19+1)/$C$7","v":1.6}]
[null,null,null,null,null,null,"jeita_t5",6325,{"$f":"('NTC Input'!$D$27*H20/(21829-H20))","v":4.079592363261094},{"$f":"(('NTC Input'!$D$29 * 'NTC Input'!$D$30) - I20 * ('NTC Input'!$D$29 + 'NTC Input'!$D$30)) / (I20 - 'NTC Input'!$D$30)","v":4.0795923632777367},{"$f":" IF(Hidden!$D$4=1,1 / ('NTC Input'!$G$12 + 'NTC Input'!$G$13*LN(J20/'NTC Input'!$F$21) + 'NTC Input'!$G$14*POWER(LN(J20/'NTC Input'!$F$21),2) + 'NTC Input'!$G$15*POWER(LN(J20/'NTC Input'!$F$21),3)) -273.15,'NTC Input'!$K$11 / (LN(J20 / ('NTC Input'!$F$21 * EXP(-'NTC Input'!$K$11 / 298.15)))) - 273.15)","v":50.009970447867261}]
[null,"R6",19,{"$f":"C21*0.0125 + 3.8125","v":4.05},15,{"$f":"(E21+1)/$C$7","v":1.6}]
[null,null,null,null,null,null,"jeita_t6",4970,{"$f":"('NTC Input'!$D$27*H22/(21829-H22))","v":2.9479803072542854},{"$f":"(('NTC Input'!$D$29 * 'NTC Input'!$D$30) - I22 * ('NTC Input'!$D$29 + 'NTC Input'!$D$30)) / (I22 - 'NTC Input'!$D$30)","v":2.9479803072629762},{"$f":" IF(Hidden!$D$4=1,1 / ('NTC Input'!$G$12 + 'NTC Input'!$G$13*LN(J22/'NTC Input'!$F$21) + 'NTC Input'!$G$14*POWER(LN(J22/'NTC Input'!$F$21),2) + 'NTC Input'!$G$15*POWER(LN(J22/'NTC Input'!$F$21),3)) -273.15,'NTC Input'!$K$11 / (LN(J22 / ('NTC Input'!$F$21 * EXP(-'NTC Input'!$K$11 / 298.15)))) - 273.15)","v":60.00982204726597}]
[null,"R7","Charger Off",null,null,0]

{"sheet":"JEITA (LiFePO4)","index":3,"n_rows":23,"n_cols":11,"rows_kept":23,"cut":false,"hidden":false,"merged":[[21,1,21,5],[22,2,22,4],[22,6,22,10],[15,1,15,5],[16,6,16,10],[17,1,17,5],[18,6,18,10],[19,1,19,5],[20,6,20,10],[14,6,14,10],[10,2,10,4],[10,6,10,10],[11,1,11,5],[12,6,12,10],[13,1,13,5]]}
[]
[null,"LTC4162-F"]
[null,"LiFePO4 JEITA Calculator"]
[]
[]
[]
[null,"RSNSB = ",10,"mOhms"]
[]
[]
[null,"jeita_region","vcharge_jeita","Charge Voltage (V)","icharge_jeita","Charge Current (A)","JEITA Temperature","thermistor_voltage","Network Resistance (kΩ)","NTC Resistance (kΩ)","Temperature"]
[null,"R1","Charger Off",null,null,0]
[null,null,null,null,null,null,"jeita_t1",16117,{"$f":"('NTC Input'!$D$27*H12/(21829-H12))","v":28.216036414565828},{"$f":"(('NTC Input'!$D$29 * 'NTC Input'!$D$30) - I12 * ('NTC Input'!$D$29 + 'NTC Input'!$D$30)) / (I12 - 'NTC Input'!$D$30)","v":28.216036415361973},{"$f":" IF(Hidden!$D$4=1,1 / ('NTC Input'!$G$12 + 'NTC Input'!$G$13*LN(J12/'NTC Input'!$F$21) + 'NTC Input'!$G$14*POWER(LN(J12/'NTC Input'!$F$21),2) + 'NTC Input'!$G$15*POWER(LN(J12/'NTC Input'!$F$21),3)) -273.15,'NTC Input'!$K$11 / (LN(J12 / ('NTC Input'!$F$21 * EXP(-'NTC Input'!$K$11 / 298.15)))) - 273.15)","v":-2.5322405073382015E-2}]
[null,"R2",15,{"$f":"C13*0.0125 + 3.4125","v":3.6},15,{"$f":"(E13+1)/$C$7","v":1.6}]
[null,null,null,null,null,null,"jeita_t2",14113,{"$f":"('NTC Input'!$D$27*H14/(21829-H14))","v":18.29056505961638},{"$f":"(('NTC Input'!$D$29 * 'NTC Input'!$D$30) - I14 * ('NTC Input'!$D$29 + 'NTC Input'!$D$30)) / (I14 - 'NTC Input'!$D$30)","v":18.290565059950925},{"$f":" IF(Hidden!$D$4=1,1 / ('NTC Input'!$G$12 + 'NTC Input'!$G$13*LN(J14/'NTC Input'!$F$21) + 'NTC Input'!$G$14*POWER(LN(J14/'NTC Input'!$F$21),2) + 'NTC Input'!$G$15*POWER(LN(J14/'NTC Input'!$F$21),3)) -273.15,'NTC Input'!$K$11 / (LN(J14 / ('NTC Input'!$F$21 * EXP(-'NTC Input'!$K$11 / 298.15)))) - 273.15)","v":9.9841459843347025}]
[null,"R3",15,{"$f":"C15*0.0125 + 3.4125","v":3.6},31,{"$f":"(E15+1)/$C$7","v":3.2}]
[null,null,null,null,null,null,"jeita_t3",7970,{"$f":"('NTC Input'!$D$27*H16/(21829-H16))","v":5.7507756692402046},{"$f":"(('NTC Input'!$D$29 * 'NTC Input'!$D$30) - I16 * ('NTC Input'!$D$29 + 'NTC Input'!$D$30)) / (I16 - 'NTC Input'!$D$30)","v":5.7507756692732759},{"$f":" IF(Hidden!$D$4=1,1 / ('NTC Input'!$G$12 + 'NTC Input'!$G$13*LN(J16/'NTC Input'!$F$21) + 'NTC Input'!$G$14*POWER(LN(J16/'NTC Input'!$F$21),2) + 'NTC Input'!$G$15*POWER(LN(J16/'NTC Input'!$F$21),3)) -273.15,'NTC Input'!$K$11 / (LN(J16 / ('NTC Input'!$F$21 * EXP(-'NTC Input'!$K$11 / 298.15)))) - 273.15)","v":40.010485987565914}]
[null,"R4",7,{"$f":"C17*0.0125 + 3.4125","v":3.5},31,{"$f":"(E17+1)/$C$7","v":3.2}]
[null,null,null,null,null,null,"jeita_t4",7112,{"$f":"('NTC Input'!$D$27*H18/(21829-H18))","v":4.8325066249915061},{"$f":"(('NTC Input'!$D$29 * 'NTC Input'!$D$30) - I18 * ('NTC Input'!$D$29 + 'NTC Input'!$D$30)) / (I18 - 'NTC Input'!$D$30)","v":4.8325066250148598},{"$f":" IF(Hidden!$D$4=1,1 / ('NTC Input'!$G$12 + 'NTC Input'!$G$13*LN(J18/'NTC Input'!$F$21) + 'NTC Input'!$G$14*POWER(LN(J18/'NTC Input'!$F$21),2) + 'NTC Input'!$G$15*POWER(LN(J18/'NTC Input'!$F$21),3)) -273.15,'NTC Input'!$K$11 / (LN(J18 / ('NTC Input'!$F$21 * EXP(-'NTC Input'!$K$11 / 298.15)))) - 273.15)","v":45.007456466965039}]
[null,"R5",7,{"$f":"C19*0.0125 + 3.4125","v":3.5},15,{"$f":"(E19+1)/$C$7","v":1.6}]
[null,null,null,null,null,null,"jeita_t5",6325,{"$f":"('NTC Input'!$D$27*H20/(21829-H20))","v":4.079592363261094},{"$f":"(('NTC Input'!$D$29 * 'NTC Input'!$D$30) - I20 * ('NTC Input'!$D$29 + 'NTC Input'!$D$30)) / (I20 - 'NTC Input'!$D$30)","v":4.0795923632777367},{"$f":" IF(Hidden!$D$4=1,1 / ('NTC Input'!$G$12 + 'NTC Input'!$G$13*LN(J20/'NTC Input'!$F$21) + 'NTC Input'!$G$14*POWER(LN(J20/'NTC Input'!$F$21),2) + 'NTC Input'!$G$15*POWER(LN(J20/'NTC Input'!$F$21),3)) -273.15,'NTC Input'!$K$11 / (LN(J20 / ('NTC Input'!$F$21 * EXP(-'NTC Input'!$K$11 / 298.15)))) - 273.15)","v":50.009970447867261}]
[null,"R6",3,{"$f":"C21*0.0125 + 3.4125","v":3.45},15,{"$f":"(E21+1)/$C$7","v":1.6}]
[null,null,null,null,null,null,"jeita_t6",4970,{"$f":"('NTC Input'!$D$27*H22/(21829-H22))","v":2.9479803072542854},{"$f":"(('NTC Input'!$D$29 * 'NTC Input'!$D$30) - I22 * ('NTC Input'!$D$29 + 'NTC Input'!$D$30)) / (I22 - 'NTC Input'!$D$30)","v":2.9479803072629762},{"$f":" IF(Hidden!$D$4=1,1 / ('NTC Input'!$G$12 + 'NTC Input'!$G$13*LN(J22/'NTC Input'!$F$21) + 'NTC Input'!$G$14*POWER(LN(J22/'NTC Input'!$F$21),2) + 'NTC Input'!$G$15*POWER(LN(J22/'NTC Input'!$F$21),3)) -273.15,'NTC Input'!$K$11 / (LN(J22 / ('NTC Input'!$F$21 * EXP(-'NTC Input'!$K$11 / 298.15)))) - 273.15)","v":60.00982204726597}]
[null,"R7","Charger Off",null,null,0]

{"sheet":"Temp Comp (Lead-Acid)","index":4,"n_rows":49,"n_cols":18,"rows_kept":49,"cut":false,"hidden":false,"merged":[[10,9,12,11],[6,15,6,17],[8,13,8,14],[9,13,9,14],[10,13,10,14],[11,13,11,14],[46,13,46,14],[47,13,47,14],[48,13,48,14],[6,9,6,11],[6,13,7,14],[23,13,23,14],[12,13,12,14],[13,13,13,14],[14,13,14,14],[15,13,15,14],[16,13,16,14],[17,13,17,14],[18,13,18,14],[19,13,19,14],[20,13,20,14],[21,13,21,14],[22,13,22,14],[35,13,35,14],[24,13,24,14],[25,13,25,14],[26,13,26,14],[27,13,27,14],[28,13,28,14],[29,13,29,14],[30,13,30,14],[31,13,31,14],[32,13,32,14],[33,13,33,14],[34,13,34,14],[36,13,36,14],[37,13,37,14],[43,13,43,14],[44,13,44,14],[45,13,45,14],[38,13,38,14],[39,13,39,14],[40,13,40,14],[41,13,41,14],[42,13,42,14]]}
[]
[null,"LTC4162-S"]
[null,"Lead-Acid Temperature Compensation Calculator"]
[]
[]
[]
[null,null,null,null,null,null,null,null,null,"Average Slope (mV/°C/cell)",null,null,null,"Temperature (°C)",null,"Charge Voltage per Cell (V)"]
[null,null,null,null,null,null,null,null,null,"CC/CV","Absorb","Equalize",null,null,null,"CC/CV","Absorb","Equalize"]
[null,null,null,null,null,null,null,null,null,{"$f":"Data!L154","v":-3.7078281651086691},{"$f":"Data!M154","v":-3.7057583508985203},{"$f":"Data!N154","v":-3.7068140259745581},null,-50,null,{"$f":"VLOOKUP($N9,Data!AG4:AH148,2,TRUE)","v":14.914242},{"$f":"VLOOKUP($N9,Data!AJ4:AK148,2,TRUE)","v":15.599945999999999},{"$f":"VLOOKUP($N9,Data!AM4:AN148,2,TRUE)","v":15.599945999999999}]
[null,null,null,null,null,null,null,null,null,null,null,null,null,{"$f":"N9+5","v":-45},null,{"$f":"VLOOKUP($N10,Data!AG5:AH149,2,TRUE)","v":14.799958},{"$f":"VLOOKUP($N10,Data!AJ5:AK149,2,TRUE)","v":15.599945999999999},{"$f":"VLOOKUP($N10,Data!AM5:AN149,2,TRUE)","v":15.599945999999999}]
[null,null,null,null,null,null,null,null,null,"(this slope will change when series or parallel resistance is added)",null,null,null,-40,null,{"$f":"VLOOKUP($N11,Data!AG6:AH150,2,TRUE)","v":14.685674000000001},{"$f":"VLOOKUP($N11,Data!AJ6:AK150,2,TRUE)","v":15.599945999999999},{"$f":"VLOOKUP($N11,Data!AM6:AN150,2,TRUE)","v":15.599945999999999}]
[null,null,null,null,null,null,null,null,null,null,null,null,null,-35,null,{"$f":"VLOOKUP($N12,Data!AG7:AH151,2,TRUE)","v":14.571390000000001},{"$f":"VLOOKUP($N12,Data!AJ7:AK151,2,TRUE)","v":15.599945999999999},{"$f":"VLOOKUP($N12,Data!AM7:AN151,2,TRUE)","v":15.599945999999999}]
[null,null,null,null,null,null,null,null,null,null,null,null,null,-30,null,{"$f":"VLOOKUP($N13,Data!AG8:AH152,2,TRUE)","v":14.457106},{"$f":"VLOOKUP($N13,Data!AJ8:AK152,2,TRUE)","v":15.599945999999999},{"$f":"VLOOKUP($N13,Data!AM8:AN152,2,TRUE)","v":15.599945999999999}]
[null,null,null,null,null,null,null,null,null,null,null,null,null,-25,null,{"$f":"VLOOKUP($N14,Data!AG9:AH153,2,TRUE)","v":14.342822},{"$f":"VLOOKUP($N14,Data!AJ9:AK153,2,TRUE)","v":15.542804},{"$f":"VLOOKUP($N14,Data!AM9:AN153,2,TRUE)","v":15.599945999999999}]
[null,null,null,null,null,null,null,null,null,null,null,null,null,-20,null,{"$f":"VLOOKUP($N15,Data!AG10:AH154,2,TRUE)","v":14.228538},{"$f":"VLOOKUP($N15,Data!AJ10:AK154,2,TRUE)","v":15.428519999999999},{"$f":"VLOOKUP($N15,Data!AM10:AN154,2,TRUE)","v":15.599945999999999}]
[null,null,null,null,null,null,null,null,null,null,null,null,null,-15,null,{"$f":"VLOOKUP($N16,Data!AG11:AH155,2,TRUE)","v":14.114253999999999},{"$f":"VLOOKUP($N16,Data!AJ11:AK155,2,TRUE)","v":15.314235999999999},{"$f":"VLOOKUP($N16,Data!AM11:AN155,2,TRUE)","v":15.599945999999999}]
[null,null,null,null,null,null,null,null,null,null,null,null,null,-10,null,{"$f":"VLOOKUP($N17,Data!AG12:AH156,2,TRUE)","v":13.999969999999999},{"$f":"VLOOKUP($N17,Data!AJ12:AK156,2,TRUE)","v":15.199952},{"$f":"VLOOKUP($N17,Data!AM12:AN156,2,TRUE)","v":15.599945999999999}]
[null,null,null,null,null,null,null,null,null,null,null,null,null,-5,null,{"$f":"VLOOKUP($N18,Data!AG13:AH157,2,TRUE)","v":13.885686},{"$f":"VLOOKUP($N18,Data!AJ13:AK157,2,TRUE)","v":15.085668},{"$f":"VLOOKUP($N18,Data!AM13:AN157,2,TRUE)","v":15.599945999999999}]
[null,null,null,null,null,null,null,null,null,null,null,null,null,0,null,{"$f":"VLOOKUP($N19,Data!AG14:AH158,2,TRUE)","v":13.771402},{"$f":"VLOOKUP($N19,Data!AJ14:AK158,2,TRUE)","v":14.971384},{"$f":"VLOOKUP($N19,Data!AM14:AN158,2,TRUE)","v":15.599945999999999}]
[null,null,null,null,null,null,null,null,null,null,null,null,null,5,null,{"$f":"VLOOKUP($N20,Data!AG15:AH159,2,TRUE)","v":13.657118000000001},{"$f":"VLOOKUP($N20,Data!AJ15:AK159,2,TRUE)","v":14.857099999999999},{"$f":"VLOOKUP($N20,Data!AM15:AN159,2,TRUE)","v":15.599945999999999}]
[null,null,null,null,null,null,null,null,null,null,null,null,null,10,null,{"$f":"VLOOKUP($N21,Data!AG16:AH160,2,TRUE)","v":13.542833999999999},{"$f":"VLOOKUP($N21,Data!AJ16:AK160,2,TRUE)","v":14.742815999999999},{"$f":"VLOOKUP($N21,Data!AM16:AN160,2,TRUE)","v":15.599945999999999}]
[null,null,null,null,null,null,null,null,null,null,null,null,null,15,null,{"$f":"VLOOKUP($N22,Data!AG17:AH161,2,TRUE)","v":13.42855},{"$f":"VLOOKUP($N22,Data!AJ17:AK161,2,TRUE)","v":14.628532},{"$f":"VLOOKUP($N22,Data!AM17:AN161,2,TRUE)","v":15.599945999999999}]
[null,null,null,null,null,null,null,null,null,null,null,null,null,20,null,{"$f":"VLOOKUP($N23,Data!AG18:AH162,2,TRUE)","v":13.314266},{"$f":"VLOOKUP($N23,Data!AJ18:AK162,2,TRUE)","v":14.514248},{"$f":"VLOOKUP($N23,Data!AM18:AN162,2,TRUE)","v":15.599945999999999}]
[null,null,null,null,null,null,null,null,null,null,null,null,null,25,null,{"$f":"VLOOKUP($N24,Data!AG19:AH163,2,TRUE)","v":13.199982},{"$f":"VLOOKUP($N24,Data!AJ19:AK163,2,TRUE)","v":14.399964000000001},{"$f":"VLOOKUP($N24,Data!AM19:AN163,2,TRUE)","v":15.599945999999999}]
[null,null,null,null,null,null,null,null,null,null,null,null,null,30,null,{"$f":"VLOOKUP($N25,Data!AG20:AH164,2,TRUE)","v":13.085698000000001},{"$f":"VLOOKUP($N25,Data!AJ20:AK164,2,TRUE)","v":14.285679999999999},{"$f":"VLOOKUP($N25,Data!AM20:AN164,2,TRUE)","v":15.485662}]
[null,null,null,null,null,null,null,null,null,null,null,null,null,35,null,{"$f":"VLOOKUP($N26,Data!AG21:AH165,2,TRUE)","v":12.971413999999999},{"$f":"VLOOKUP($N26,Data!AJ21:AK165,2,TRUE)","v":14.171396},{"$f":"VLOOKUP($N26,Data!AM21:AN165,2,TRUE)","v":15.371378}]
[null,null,null,null,null,null,null,null,null,null,null,null,null,40,null,{"$f":"VLOOKUP($N27,Data!AG22:AH166,2,TRUE)","v":12.914272},{"$f":"VLOOKUP($N27,Data!AJ22:AK166,2,TRUE)","v":14.114253999999999},{"$f":"VLOOKUP($N27,Data!AM22:AN166,2,TRUE)","v":15.314235999999999}]
[null,null,null,null,null,null,null,null,null,null,null,null,null,45,null,{"$f":"VLOOKUP($N28,Data!AG23:AH167,2,TRUE)","v":12.799987999999999},{"$f":"VLOOKUP($N28,Data!AJ23:AK167,2,TRUE)","v":13.999969999999999},{"$f":"VLOOKUP($N28,Data!AM23:AN167,2,TRUE)","v":15.199952}]
[null,null,null,null,null,null,null,null,null,null,null,null,null,50,null,{"$f":"VLOOKUP($N29,Data!AG24:AH168,2,TRUE)","v":12.685703999999999},{"$f":"VLOOKUP($N29,Data!AJ24:AK168,2,TRUE)","v":13.885686},{"$f":"VLOOKUP($N29,Data!AM24:AN168,2,TRUE)","v":15.085668}]
[null,null,null,null,null,null,"# Cells = ",6,null,null,null,null,null,55,null,{"$f":"VLOOKUP($N30,Data!AG25:AH169,2,TRUE)","v":12.57142},{"$f":"VLOOKUP($N30,Data!AJ25:AK169,2,TRUE)","v":13.771402},{"$f":"VLOOKUP($N30,Data!AM25:AN169,2,TRUE)","v":14.971384}]
[null,null,null,null,null,null,null,null,null,null,null,null,null,60,null,{"$f":"VLOOKUP($N31,Data!AG26:AH170,2,TRUE)","v":12.457136},{"$f":"VLOOKUP($N31,Data!AJ26:AK170,2,TRUE)","v":13.657118000000001},{"$f":"VLOOKUP($N31,Data!AM26:AN170,2,TRUE)","v":14.857099999999999}]
[null,null,null,null,null,null,null,null,null,null,null,null,null,65,null,{"$f":"VLOOKUP($N32,Data!AG27:AH171,2,TRUE)","v":12.342852000000001},{"$f":"VLOOKUP($N32,Data!AJ27:AK171,2,TRUE)","v":13.542833999999999},{"$f":"VLOOKUP($N32,Data!AM27:AN171,2,TRUE)","v":14.742815999999999}]
[null,null,null,null,null,null,null,null,null,null,null,null,null,70,null,{"$f":"VLOOKUP($N33,Data!AG28:AH172,2,TRUE)","v":12.228567999999999},{"$f":"VLOOKUP($N33,Data!AJ28:AK172,2,TRUE)","v":13.42855},{"$f":"VLOOKUP($N33,Data!AM28:AN172,2,TRUE)","v":14.628532}]
[null,null,null,null,null,null,null,null,null,null,null,null,null,75,null,{"$f":"VLOOKUP($N34,Data!AG29:AH173,2,TRUE)","v":12.114284},{"$f":"VLOOKUP($N34,Data!AJ29:AK173,2,TRUE)","v":13.314266},{"$f":"VLOOKUP($N34,Data!AM29:AN173,2,TRUE)","v":14.514248}]
[null,null,null,null,null,null,null,null,null,null,null,null,null,80,null,{"$f":"VLOOKUP($N35,Data!AG30:AH174,2,TRUE)","v":12},{"$f":"VLOOKUP($N35,Data!AJ30:AK174,2,TRUE)","v":13.199982},{"$f":"VLOOKUP($N35,Data!AM30:AN174,2,TRUE)","v":14.399964000000001}]
[null,null,null,null,null,null,null,null,null,null,null,null,null,85,null,{"$f":"VLOOKUP($N36,Data!AG31:AH175,2,TRUE)","v":12},{"$f":"VLOOKUP($N36,Data!AJ31:AK175,2,TRUE)","v":13.085698000000001},{"$f":"VLOOKUP($N36,Data!AM31:AN175,2,TRUE)","v":14.285679999999999}]
[null,null,null,null,null,null,null,null,null,null,null,null,null,90,null,{"$f":"VLOOKUP($N37,Data!AG32:AH176,2,TRUE)","v":12},{"$f":"VLOOKUP($N37,Data!AJ32:AK176,2,TRUE)","v":12.971413999999999},{"$f":"VLOOKUP($N37,Data!AM32:AN176,2,TRUE)","v":14.171396}]
[null,null,null,null,null,null,null,null,null,null,null,null,null,95,null,{"$f":"VLOOKUP($N38,Data!AG33:AH177,2,TRUE)","v":12},{"$f":"VLOOKUP($N38,Data!AJ33:AK177,2,TRUE)","v":12.85713},{"$f":"VLOOKUP($N38,Data!AM33:AN177,2,TRUE)","v":14.057112}]
[null,null,null,null,null,null,null,null,null,null,null,null,null,100,null,{"$f":"VLOOKUP($N39,Data!AG34:AH178,2,TRUE)","v":12},{"$f":"VLOOKUP($N39,Data!AJ34:AK178,2,TRUE)","v":12.742846},{"$f":"VLOOKUP($N39,Data!AM34:AN178,2,TRUE)","v":13.942828}]
[null,null,null,null,null,null,null,null,null,null,null,null,null,105,null,{"$f":"VLOOKUP($N40,Data!AG35:AH179,2,TRUE)","v":12},{"$f":"VLOOKUP($N40,Data!AJ35:AK179,2,TRUE)","v":12.628562000000001},{"$f":"VLOOKUP($N40,Data!AM35:AN179,2,TRUE)","v":13.828544000000001}]
[null,null,null,null,null,null,null,null,null,null,null,null,null,110,null,{"$f":"VLOOKUP($N41,Data!AG36:AH180,2,TRUE)","v":12},{"$f":"VLOOKUP($N41,Data!AJ36:AK180,2,TRUE)","v":12.514278000000001},{"$f":"VLOOKUP($N41,Data!AM36:AN180,2,TRUE)","v":13.714259999999999}]
[null,null,null,null,null,null,null,null,null,null,null,null,null,115,null,{"$f":"VLOOKUP($N42,Data!AG37:AH181,2,TRUE)","v":12},{"$f":"VLOOKUP($N42,Data!AJ37:AK181,2,TRUE)","v":12.399994},{"$f":"VLOOKUP($N42,Data!AM37:AN181,2,TRUE)","v":13.599976}]
[null,null,null,null,null,null,null,null,null,null,null,null,null,120,null,{"$f":"VLOOKUP($N43,Data!AG38:AH182,2,TRUE)","v":12},{"$f":"VLOOKUP($N43,Data!AJ38:AK182,2,TRUE)","v":12.28571},{"$f":"VLOOKUP($N43,Data!AM38:AN182,2,TRUE)","v":13.485692}]
[null,null,null,null,null,null,null,null,null,null,null,null,null,125,null,{"$f":"VLOOKUP($N44,Data!AG39:AH183,2,TRUE)","v":12},{"$f":"VLOOKUP($N44,Data!AJ39:AK183,2,TRUE)","v":12.171426},{"$f":"VLOOKUP($N44,Data!AM39:AN183,2,TRUE)","v":13.371408000000001}]
[null,null,null,null,null,null,null,null,null,null,null,null,null,130,null,{"$f":"VLOOKUP($N45,Data!AG40:AH184,2,TRUE)","v":12},{"$f":"VLOOKUP($N45,Data!AJ40:AK184,2,TRUE)","v":12.114284},{"$f":"VLOOKUP($N45,Data!AM40:AN184,2,TRUE)","v":13.314266}]
[null,null,null,null,null,null,null,null,null,null,null,null,null,135,null,{"$f":"VLOOKUP($N46,Data!AG41:AH185,2,TRUE)","v":12},{"$f":"VLOOKUP($N46,Data!AJ41:AK185,2,TRUE)","v":12},{"$f":"VLOOKUP($N46,Data!AM41:AN185,2,TRUE)","v":13.199982}]
[null,null,null,null,null,null,null,null,null,null,null,null,null,140,null,{"$f":"VLOOKUP($N47,Data!AG42:AH186,2,TRUE)","v":12},{"$f":"VLOOKUP($N47,Data!AJ42:AK186,2,TRUE)","v":12},{"$f":"VLOOKUP($N47,Data!AM42:AN186,2,TRUE)","v":13.199982}]
[null,null,null,null,null,null,null,null,null,null,null,null,null,145,null,{"$f":"VLOOKUP($N48,Data!AG43:AH187,2,TRUE)","v":12},{"$f":"VLOOKUP($N48,Data!AJ43:AK187,2,TRUE)","v":12},{"$f":"VLOOKUP($N48,Data!AM43:AN187,2,TRUE)","v":13.199982}]
[null,null,null,null,null,null,null,null,null,null,null,null,null,150,null,{"$f":"VLOOKUP($N49,Data!AG44:AH188,2,TRUE)","v":12},{"$f":"VLOOKUP($N49,Data!AJ44:AK188,2,TRUE)","v":12},{"$f":"VLOOKUP($N49,Data!AM44:AN188,2,TRUE)","v":13.199982}]

{"sheet":"Hidden","index":5,"n_rows":56,"n_cols":29,"rows_kept":56,"cut":false,"hidden":true,"merged":[]}
[]
[null,null,null,null,null,null,null,null,"Li-Ion"]
[]
[null,null,"Formula:",1,null,null,null,null,null,"JEITA Voltage Plot Data"]
[]
[null,null,"1 = steinhart-hart",null,null,null,null,null,null,"R2",null,null,"R3",null,null,"R4",null,null,"R5",null,null,"R6"]
[null,null,"2 = beta",null,null,null,null,null,null,"temp","voltage",null,"temp","voltage",null,"temp","voltage",null,"temp","voltage",null,"temp","voltage"]
[null,null,null,null,null,null,null,null,null,{"$f":"'JEITA (Li-Ion)'!$K$12","v":-2.5322405073382015E-2},{"$f":"'JEITA (Li-Ion)'!$D$13","v":4.2},null,{"$f":"'JEITA (Li-Ion)'!K14","v":9.9841459843347025},{"$f":"'JEITA (Li-Ion)'!D15","v":4.2},null,{"$f":"'JEITA (Li-Ion)'!K16","v":40.010485987565914},{"$f":"'JEITA (Li-Ion)'!D17","v":4.0999999999999996},null,{"$f":"'JEITA (Li-Ion)'!K18","v":45.007456466965039},{"$f":"'JEITA (Li-Ion)'!D19","v":4.0999999999999996},null,{"$f":"'JEITA (Li-Ion)'!K20","v":50.009970447867261},{"$f":"'JEITA (Li-Ion)'!D21","v":4.05}]
[null,null,null,null,null,null,null,null,null,{"$f":"'JEITA (Li-Ion)'!$K$14","v":9.9841459843347025},{"$f":"K8","v":4.2},null,{"$f":"'JEITA (Li-Ion)'!K16","v":40.010485987565914},{"$f":"N8","v":4.2},null,{"$f":"'JEITA (Li-Ion)'!K18","v":45.007456466965039},{"$f":"Q8","v":4.0999999999999996},null,{"$f":"'JEITA (Li-Ion)'!K20","v":50.009970447867261},{"$f":"T8","v":4.0999999999999996},null,{"$f":"'JEITA (Li-Ion)'!K22","v":60.00982204726597},{"$f":"W8","v":4.05}]
[]
[null,null,null,null,null,null,null,null,null,null,"jeita_t2",null,null,"jeita_t3",null,null,"jeita_t4",null,null,"jeita_t5"]
[null,null,null,null,null,null,null,null,null,null,"temp","voltage",null,"temp","voltage",null,"temp","voltage",null,"temp","voltage"]
[null,null,null,null,null,null,null,null,null,null,{"$f":"J9","v":9.9841459843347025},{"$f":"K9","v":4.2},null,{"$f":"M9","v":40.010485987565914},{"$f":"N9","v":4.2},null,{"$f":"P9","v":45.007456466965039},{"$f":"Q9","v":4.0999999999999996},null,{"$f":"S9","v":50.009970447867261},{"$f":"T9","v":4.0999999999999996}]
[null,null,null,null,null,null,null,null,null,null,{"$f":"K13","v":9.9841459843347025},{"$f":"N8","v":4.2},null,{"$f":"N13","v":40.010485987565914},{"$f":"Q8","v":4.0999999999999996},null,{"$f":"Q13","v":45.007456466965039},{"$f":"T8","v":4.0999999999999996},null,{"$f":"T13","v":50.009970447867261},{"$f":"W8","v":4.05}]
[]
[null,null,"Lead Acid Temp Comp"]
[null,null,null,null,null,null,null,null,null,"JEITA Current Plot Data"]
[null,null,"N = ",{"$f":"IF(MOD('Temp Comp (Lead-Acid)'!H30,3)=0,'Temp Comp (Lead-Acid)'!H30/3,\"ERR\")","v":2}]
[null,null,"DAC Resolution = ",2.8570999999999999E-2,null,null,null,null,null,"R1",null,null,"R2",null,null,"R3",null,null,"R4",null,null,"R5",null,null,"R6",null,null,"R7"]
[null,null,"Charge Voltage Offset = ",6,null,null,null,null,null,"temp","current",null,"temp","current",null,"temp","current",null,"temp","current",null,"temp","current",null,"temp","current",null,"temp","current"]
[null,null,null,null,null,null,null,null,null,-100,{"$f":"'JEITA (Li-Ion)'!$F$11","v":0},null,{"$f":"J8","v":-2.5322405073382015E-2},{"$f":"'JEITA (Li-Ion)'!$F$13","v":1.6},null,{"$f":"M8","v":9.9841459843347025},{"$f":"'JEITA (Li-Ion)'!$F$15","v":3.2},null,{"$f":"P8","v":40.010485987565914},{"$f":"'JEITA (Li-Ion)'!$F$17","v":3.2},null,{"$f":"S8","v":45.007456466965039},{"$f":"'JEITA (Li-Ion)'!$F$19","v":1.6},null,{"$f":"V8","v":50.009970447867261},{"$f":"'JEITA (Li-Ion)'!$F$21","v":1.6},null,{"$f":"Y22","v":60.00982204726597},{"$f":"'JEITA (Li-Ion)'!$F$23","v":0}]
[null,null,null,null,null,null,null,null,null,{"$f":"'JEITA (Li-Ion)'!$K$12","v":-2.5322405073382015E-2},{"$f":"K21","v":0},null,{"$f":"J9","v":9.9841459843347025},{"$f":"N21","v":1.6},null,{"$f":"M9","v":40.010485987565914},{"$f":"Q21","v":3.2},null,{"$f":"P9","v":45.007456466965039},{"$f":"T21","v":3.2},null,{"$f":"S9","v":50.009970447867261},{"$f":"W21","v":1.6},null,{"$f":"V9","v":60.00982204726597},{"$f":"Z21","v":1.6},null,200,{"$f":"AC21","v":0}]
[]
[null,null,null,null,null,null,null,null,null,null,"jeita_t1",null,null,"jeita_t2",null,null,"jeita_t3",null,null,"jeita_t4",null,null,"jeita_t5",null,null,"jeita_t6"]
[null,null,null,null,null,null,null,null,null,null,"temp","current",null,"temp","current",null,"temp","current",null,"temp","current",null,"temp","current",null,"temp","current"]
[null,null,null,null,null,null,null,null,null,null,{"$f":"J22","v":-2.5322405073382015E-2},{"$f":"K22","v":0},null,{"$f":"M22","v":9.9841459843347025},{"$f":"N22","v":1.6},null,{"$f":"P22","v":40.010485987565914},{"$f":"Q22","v":3.2},null,{"$f":"S22","v":45.007456466965039},{"$f":"T22","v":3.2},null,{"$f":"V22","v":50.009970447867261},{"$f":"W22","v":1.6},null,{"$f":"Y22","v":60.00982204726597},{"$f":"Z22","v":1.6}]
[null,null,null,null,null,null,null,null,null,null,{"$f":"K26","v":-2.5322405073382015E-2},{"$f":"N21","v":1.6},null,{"$f":"N26","v":9.9841459843347025},{"$f":"Q21","v":3.2},null,{"$f":"Q26","v":40.010485987565914},{"$f":"T21","v":3.2},null,{"$f":"T26","v":45.007456466965039},{"$f":"W21","v":1.6},null,{"$f":"W26","v":50.009970447867261},{"$f":"Z21","v":1.6},null,{"$f":"Z26","v":60.00982204726597},{"$f":"AC21","v":0}]
[]
[]
[]
[null,null,null,null,null,null,null,null,"LiFePO4"]
[]
[null,null,null,null,null,null,null,null,null,"JEITA Voltage Plot Data"]
[]
[null,null,null,null,null,null,null,null,null,"R2",null,null,"R3",null,null,"R4",null,null,"R5",null,null,"R6"]
[null,null,null,null,null,null,null,null,null,"temp","voltage",null,"temp","voltage",null,"temp","voltage",null,"temp","voltage",null,"temp","voltage"]
[null,null,null,null,null,null,null,null,null,{"$f":"'JEITA (LiFePO4)'!K12","v":-2.5322405073382015E-2},{"$f":"'JEITA (LiFePO4)'!D13","v":3.6},null,{"$f":"'JEITA (LiFePO4)'!K14","v":9.9841459843347025},{"$f":"'JEITA (LiFePO4)'!D15","v":3.6},null,{"$f":"'JEITA (LiFePO4)'!K16","v":40.010485987565914},{"$f":"'JEITA (LiFePO4)'!D17","v":3.5},null,{"$f":"'JEITA (LiFePO4)'!K18","v":45.007456466965039},{"$f":"'JEITA (LiFePO4)'!D19","v":3.5},null,{"$f":"'JEITA (LiFePO4)'!K20","v":50.009970447867261},{"$f":"'JEITA (LiFePO4)'!D21","v":3.45}]
[null,null,null,null,null,null,null,null,null,{"$f":"'JEITA (LiFePO4)'!K14","v":9.9841459843347025},{"$f":"K37","v":3.6},null,{"$f":"'JEITA (LiFePO4)'!K16","v":40.010485987565914},{"$f":"N37","v":3.6},null,{"$f":"'JEITA (LiFePO4)'!K18","v":45.007456466965039},{"$f":"Q37","v":3.5},null,{"$f":"'JEITA (LiFePO4)'!K20","v":50.009970447867261},{"$f":"T37","v":3.5},null,{"$f":"'JEITA (LiFePO4)'!K22","v":60.00982204726597},{"$f":"W37","v":3.45}]
[]
[null,null,null,null,null,null,null,null,null,null,"jeita_t2",null,null,"jeita_t3",null,null,"jeita_t4",null,null,"jeita_t5"]
[null,null,null,null,null,null,null,null,null,null,"temp","voltage",null,"temp","voltage",null,"temp","voltage",null,"temp","voltage"]
[null,null,null,null,null,null,null,null,null,null,{"$f":"J38","v":9.9841459843347025},{"$f":"K38","v":3.6},null,{"$f":"M38","v":40.010485987565914},{"$f":"N38","v":3.6},null,{"$f":"P38","v":45.007456466965039},{"$f":"Q38","v":3.5},null,{"$f":"S38","v":50.009970447867261},{"$f":"T38","v":3.5}]
[null,null,null,null,null,null,null,null,null,null,{"$f":"K42","v":9.9841459843347025},{"$f":"N37","v":3.6},null,{"$f":"N42","v":40.010485987565914},{"$f":"Q37","v":3.5},null,{"$f":"Q42","v":45.007456466965039},{"$f":"T37","v":3.5},null,{"$f":"T42","v":50.009970447867261},{"$f":"W37","v":3.45}]
[]
[]
[null,null,null,null,null,null,null,null,null,"JEITA Current Plot Data"]
[]
[null,null,null,null,null,null,null,null,null,"R1",null,null,"R2",null,null,"R3",null,null,"R4",null,null,"R5",null,null,"R6",null,null,"R7"]
[null,null,null,null,null,null,null,null,null,"temp","current",null,"temp","current",null,"temp","current",null,"temp","current",null,"temp","current",null,"temp","current",null,"temp","current"]
[null,null,null,null,null,null,null,null,null,-100,{"$f":"'JEITA (LiFePO4)'!F11","v":0},null,{"$f":"'JEITA (LiFePO4)'!K12","v":-2.5322405073382015E-2},{"$f":"'JEITA (LiFePO4)'!F13","v":1.6},null,{"$f":"M51","v":9.9841459843347025},{"$f":"'JEITA (LiFePO4)'!F15","v":3.2},null,{"$f":"P51","v":40.010485987565914},{"$f":"'JEITA (LiFePO4)'!F17","v":3.2},null,{"$f":"S51","v":45.007456466965039},{"$f":"'JEITA (LiFePO4)'!F19","v":1.6},null,{"$f":"V51","v":50.009970447867261},{"$f":"'JEITA (LiFePO4)'!F21","v":1.6},null,{"$f":"Y51","v":60.00982204726597},{"$f":"'JEITA (LiFePO4)'!F23","v":0}]
[null,null,null,null,null,null,null,null,null,{"$f":"'JEITA (LiFePO4)'!K12","v":-2.5322405073382015E-2},{"$f":"K50","v":0},null,{"$f":"'JEITA (LiFePO4)'!K14","v":9.9841459843347025},{"$f":"N50","v":1.6},null,{"$f":"'JEITA (LiFePO4)'!K16","v":40.010485987565914},{"$f":"Q50","v":3.2},null,{"$f":"'JEITA (LiFePO4)'!K18","v":45.007456466965039},{"$f":"T50","v":3.2},null,{"$f":"'JEITA (LiFePO4)'!K20","v":50.009970447867261},{"$f":"W50","v":1.6},null,{"$f":"'JEITA (LiFePO4)'!K22","v":60.00982204726597},{"$f":"Z50","v":1.6},null,200,{"$f":"AC50","v":0}]
[]
[null,null,null,null,null,null,null,null,null,null,"jeita_t1",null,null,"jeita_t2",null,null,"jeita_t3",null,null,"jeita_t4",null,null,"jeita_t5",null,null,"jeita_t6"]
[null,null,null,null,null,null,null,null,null,null,"temp","current",null,"temp","current",null,"temp","current",null,"temp","current",null,"temp","current",null,"temp","current"]
[null,null,null,null,null,null,null,null,null,null,{"$f":"J51","v":-2.5322405073382015E-2},{"$f":"K51","v":0},null,{"$f":"M51","v":9.9841459843347025},{"$f":"N51","v":1.6},null,{"$f":"P51","v":40.010485987565914},{"$f":"Q51","v":3.2},null,{"$f":"S51","v":45.007456466965039},{"$f":"T51","v":3.2},null,{"$f":"V51","v":50.009970447867261},{"$f":"W51","v":1.6},null,{"$f":"Y51","v":60.00982204726597},{"$f":"Z51","v":1.6}]
[null,null,null,null,null,null,null,null,null,null,{"$f":"K55","v":-2.5322405073382015E-2},{"$f":"N50","v":1.6},null,{"$f":"N55","v":9.9841459843347025},{"$f":"Q50","v":3.2},null,{"$f":"Q55","v":40.010485987565914},{"$f":"T50","v":3.2},null,{"$f":"T55","v":45.007456466965039},{"$f":"W50","v":1.6},null,{"$f":"W55","v":50.009970447867261},{"$f":"Z50","v":1.6},null,{"$f":"Z55","v":60.00982204726597},{"$f":"AC50","v":0}]

{"sheet":"Data","index":6,"n_rows":154,"n_cols":40,"rows_kept":154,"cut":false,"hidden":true,"merged":[[0,11,0,13],[0,6,1,6],[0,8,0,10],[0,7,1,7],[0,0,1,0],[0,1,0,3],[0,4,1,4],[0,5,1,5]]}
["NTC_RATIO","DAC CODE",null,null,"RNTC (of whole network)\n(kOhms)","NTC Resistance\n(kOhms)","Temperature (degC)","Vetted \nTemperature (degC)","Charge Voltage",null,null,"Local Slope\n(mV/degC/cell)",null,null,null,null,null,null,null,null,null,null,null,null,null,null,null,null,null,null,null,null,null,null,null,null,"these are for VLOOKUP"]
[null,"CC/CV","ABSORB","EQUALIZE",null,null,null,null,"CC/CV","ABSORB","EQUALIZE","CC/CV","ABSORB","EQUALIZE",null,null,null,null,null,null,null,null,null,null,"LTC4162",null,null,"LTC4015"]
[50000,51,63,63,null,null,-100,{"$f":"IF(ISERROR(G4),NA(),G3)","v":-100},{"$f":" Hidden!$D$18 * (B3*Hidden!$D$19 + Hidden!$D$20)","v":14.914242},{"$f":" Hidden!$D$18 * (C3*Hidden!$D$19 + Hidden!$D$20)","v":15.599945999999999},{"$f":" Hidden!$D$18 * (D3*Hidden!$D$19 + Hidden!$D$20)","v":15.599945999999999},{"$f":" (I4-I3)/(F4-F3)/'Temp Comp (Lead-Acid)'!$H$30*1000","v":0},{"$f":" (J4-J3)/(G4-G3)/'Temp Comp (Lead-Acid)'!$H$30*1000","v":0},{"$f":" (K4-K3)/(H4-H3)/'Temp Comp (Lead-Acid)'!$H$30*1000","v":0},null,null,null,null,null,null,null,null,null,null,null,null,null,null,null,null,null,null,null,"CC/CV",null,null,"ABSORB",null,null,"EQUALIZE"]
[21353,51,63,63,{"$f":" 'NTC Input'!$D$27 * A4 / (21829 - A4)","v":448.5924369747899},{"$f":" 1/((1/E4) - (1/'NTC Input'!$D$30)) - 'NTC Input'!$D$29","v":448.59243717602504},{"$f":" IF(Hidden!$D$4=1, 1 / ('NTC Input'!$G$12 + 'NTC Input'!$G$13*LN(F4/'NTC Input'!$F$21) + 'NTC Input'!$G$14*POWER(LN(F4/'NTC Input'!$F$21),2) + 'NTC Input'!$G$15*POWER(LN(F4/'NTC Input'!$F$21),3)) -273.15,  'NTC Input'!$K$11 / (LN(F4 / ('NTC Input'!$F$21 * EXP(-'NTC Input'!$K$11 / 298.15)))) - 273.15)","v":-52.357209025171898},{"$f":"IFERROR(G4,NA())","v":-52.357209025171898},{"$f":" Hidden!$D$18 * (B4*Hidden!$D$19 + Hidden!$D$20)","v":14.914242},{"$f":" Hidden!$D$18 * (C4*Hidden!$D$19 + Hidden!$D$20)","v":15.599945999999999},{"$f":" Hidden!$D$18 * (D4*Hidden!$D$19 + Hidden!$D$20)","v":15.599945999999999},{"$f":" (I6-I4)/($G6-$G4)/'Temp Comp (Lead-Acid)'!$H$30*1000","v":-3.7454501833662053},{"$f":" (J6-J4)/($G6-$G4)/'Temp Comp (Lead-Acid)'!$H$30*1000","v":0},{"$f":" (K6-K4)/($G6-$G4)/'Temp Comp (Lead-Acid)'!$H$30*1000","v":0},null,null,null,null,null,null,null,null,null,null,21353,null,null,21367,null,null,null,null,{"$f":"H4","v":-52.357209025171898},{"$f":"I4","v":14.914242},null,{"$f":"H4","v":-52.357209025171898},{"$f":"J4","v":15.599945999999999},null,{"$f":"H4","v":-52.357209025171898},{"$f":"K4","v":15.599945999999999}]
[null,null,null,null,null,null,{"$f":"G6","v":-49.814479526602668},{"$f":"IFERROR(G5,NA())","v":-49.814479526602668},{"$f":"I4","v":14.914242},{"$f":"J4","v":15.599945999999999},{"$f":"K4","v":15.599945999999999},null,null,null,null,null,null,null,null,null,null,null,null,null,null,null,null,null,null,null,null,null,{"$f":"H5","v":-49.814479526602668},{"$f":"I5","v":14.914242},null,{"$f":"H5","v":-49.814479526602668},{"$f":"J5","v":15.599945999999999},null,{"$f":"H5","v":-49.814479526602668},{"$f":"K5","v":15.599945999999999}]
[21274,50,63,63,{"$f":" 'NTC Input'!$D$27 * A6 / (21829 - A6)","v":383.31531531531533},{"$f":" 1/((1/E6) - (1/'NTC Input'!$D$30)) - 'NTC Input'!$D$29","v":383.31531546224596},{"$f":" IF(Hidden!$D$4=1, 1 / ('NTC Input'!$G$12 + 'NTC Input'!$G$13*LN(F6/'NTC Input'!$F$21) + 'NTC Input'!$G$14*POWER(LN(F6/'NTC Input'!$F$21),2) + 'NTC Input'!$G$15*POWER(LN(F6/'NTC Input'!$F$21),3)) -273.15,  'NTC Input'!$K$11 / (LN(F6 / ('NTC Input'!$F$21 * EXP(-'NTC Input'!$K$11 / 298.15)))) - 273.15)","v":-49.814479526602668},-49.814479526602668,{"$f":" Hidden!$D$18 * (B6*Hidden!$D$19 + Hidden!$D$20)","v":14.857099999999999},{"$f":" Hidden!$D$18 * (C6*Hidden!$D$19 + Hidden!$D$20)","v":15.599945999999999},{"$f":" Hidden!$D$18 * (D6*Hidden!$D$19 + Hidden!$D$20)","v":15.599945999999999},{"$f":" (I8-I6)/($G8-$G6)/'Temp Comp (Lead-Acid)'!$H$30*1000","v":-3.7087281917883925},{"$f":" (J8-J6)/($G8-$G6)/'Temp Comp (Lead-Acid)'!$H$30*1000","v":0},{"$f":" (K8-K6)/($G8-$G6)/'Temp Comp (Lead-Acid)'!$H$30*1000","v":0},null,null,null,null,null,null,null,null,null,null,21274,null,null,21288,null,null,null,null,-49.814479526602668,14.857099999999999,null,-49.814479526602668,15.599945999999999,null,-49.814479526602668,15.599945999999999]
[null,null,null,null,null,null,{"$f":"G8","v":-47.246573178611698},-47.246573178611698,{"$f":"I6","v":14.857099999999999},{"$f":"J6","v":15.599945999999999},{"$f":"K6","v":15.599945999999999},null,null,null,null,null,null,null,null,null,null,null,null,null,null,null,null,null,null,null,null,null,-47.246573178611698,14.857099999999999,null,-47.246573178611698,15.599945999999999,null,-47.246573178611698,15.599945999999999]
[21183,49,63,63,{"$f":" 'NTC Input'!$D$27 * A8 / (21829 - A8)","v":327.91021671826627},{"$f":" 1/((1/E8) - (1/'NTC Input'!$D$30)) - 'NTC Input'!$D$29","v":327.91021682579139},{"$f":" IF(Hidden!$D$4=1, 1 / ('NTC Input'!$G$12 + 'NTC Input'!$G$13*LN(F8/'NTC Input'!$F$21) + 'NTC Input'!$G$14*POWER(LN(F8/'NTC Input'!$F$21),2) + 'NTC Input'!$G$15*POWER(LN(F8/'NTC Input'!$F$21),3)) -273.15,  'NTC Input'!$K$11 / (LN(F8 / ('NTC Input'!$F$21 * EXP(-'NTC Input'!$K$11 / 298.15)))) - 273.15)","v":-47.246573178611698},-47.246573178611698,{"$f":" Hidden!$D$18 * (B8*Hidden!$D$19 + Hidden!$D$20)","v":14.799958},{"$f":" Hidden!$D$18 * (C8*Hidden!$D$19 + Hidden!$D$20)","v":15.599945999999999},{"$f":" Hidden!$D$18 * (D8*Hidden!$D$19 + Hidden!$D$20)","v":15.599945999999999},{"$f":" (I10-I8)/($G10-$G8)/'Temp Comp (Lead-Acid)'!$H$30*1000","v":-3.7247678932539192},{"$f":" (J10-J8)/($G10-$G8)/'Temp Comp (Lead-Acid)'!$H$30*1000","v":0},{"$f":" (K10-K8)/($G10-$G8)/'Temp Comp (Lead-Acid)'!$H$30*1000","v":0},null,null,null,null,null,null,null,null,null,null,21183,null,null,21198,null,null,null,null,-47.246573178611698,14.799958,null,-47.246573178611698,15.599945999999999,null,-47.246573178611698,15.599945999999999]
[null,null,null,null,null,null,{"$f":"G10","v":-44.689724821989131},-44.689724821989131,{"$f":"I8","v":14.799958},{"$f":"J8","v":15.599945999999999},{"$f":"K8","v":15.599945999999999},null,null,null,null,null,null,null,null,null,null,null,null,null,null,null,null,null,null,null,null,null,-44.689724821989131,14.799958,null,-44.689724821989131,15.599945999999999,null,-44.689724821989131,15.599945999999999]
[21080,48,63,63,{"$f":" 'NTC Input'!$D$27 * A10 / (21829 - A10)","v":281.4419225634179},{"$f":" 1/((1/E10) - (1/'NTC Input'!$D$30)) - 'NTC Input'!$D$29","v":281.44192264262745},{"$f":" IF(Hidden!$D$4=1, 1 / ('NTC Input'!$G$12 + 'NTC Input'!$G$13*LN(F10/'NTC Input'!$F$21) + 'NTC Input'!$G$14*POWER(LN(F10/'NTC Input'!$F$21),2) + 'NTC Input'!$G$15*POWER(LN(F10/'NTC Input'!$F$21),3)) -273.15,  'NTC Input'!$K$11 / (LN(F10 / ('NTC Input'!$F$21 * EXP(-'NTC Input'!$K$11 / 298.15)))) - 273.15)","v":-44.689724821989131},-44.689724821989131,{"$f":" Hidden!$D$18 * (B10*Hidden!$D$19 + Hidden!$D$20)","v":14.742815999999999},{"$f":" Hidden!$D$18 * (C10*Hidden!$D$19 + Hidden!$D$20)","v":15.599945999999999},{"$f":" Hidden!$D$18 * (D10*Hidden!$D$19 + Hidden!$D$20)","v":15.599945999999999},{"$f":" (I12-I10)/($G12-$G10)/'Temp Comp (Lead-Acid)'!$H$30*1000","v":-3.743275316495053},{"$f":" (J12-J10)/($G12-$G10)/'Temp Comp (Lead-Acid)'!$H$30*1000","v":0},{"$f":" (K12-K10)/($G12-$G10)/'Temp Comp (Lead-Acid)'!$H$30*1000","v":0},null,null,null,null,null,null,null,null,null,null,21080,null,null,21095,null,null,null,null,-44.689724821989131,14.742815999999999,null,-44.689724821989131,15.599945999999999,null,-44.689724821989131,15.599945999999999]
[null,null,null,null,null,null,{"$f":"G12","v":-42.145517981338202},-42.145517981338202,{"$f":"I10","v":14.742815999999999},{"$f":"J10","v":15.599945999999999},{"$f":"K10","v":15.599945999999999},null,null,null,null,null,null,null,null,null,null,null,null,null,null,null,null,null,null,null,null,null,-42.145517981338202,14.742815999999999,null,-42.145517981338202,15.599945999999999,null,-42.145517981338202,15.599945999999999]
[20964,47,63,63,{"$f":" 'NTC Input'!$D$27 * A12 / (21829 - A12)","v":242.35838150289018},{"$f":" 1/((1/E12) - (1/'NTC Input'!$D$30)) - 'NTC Input'!$D$29","v":242.35838156162777},{"$f":" IF(Hidden!$D$4=1, 1 / ('NTC Input'!$G$12 + 'NTC Input'!$G$13*LN(F12/'NTC Input'!$F$21) + 'NTC Input'!$G$14*POWER(LN(F12/'NTC Input'!$F$21),2) + 'NTC Input'!$G$15*POWER(LN(F12/'NTC Input'!$F$21),3)) -273.15,  'NTC Input'!$K$11 / (LN(F12 / ('NTC Input'!$F$21 * EXP(-'NTC Input'!$K$11 / 298.15)))) - 273.15)","v":-42.145517981338202},-42.145517981338202,{"$f":" Hidden!$D$18 * (B12*Hidden!$D$19 + Hidden!$D$20)","v":14.685674000000001},{"$f":" Hidden!$D$18 * (C12*Hidden!$D$19 + Hidden!$D$20)","v":15.599945999999999},{"$f":" Hidden!$D$18 * (D12*Hidden!$D$19 + Hidden!$D$20)","v":15.599945999999999},{"$f":" (I14-I12)/($G14-$G12)/'Temp Comp (Lead-Acid)'!$H$30*1000","v":-3.7097614879460279},{"$f":" (J14-J12)/($G14-$G12)/'Temp Comp (Lead-Acid)'!$H$30*1000","v":0},{"$f":" (K14-K12)/($G14-$G12)/'Temp Comp (Lead-Acid)'!$H$30*1000","v":0},null,null,null,null,null,null,null,null,null,null,20964,null,null,20978,null,null,null,null,-42.145517981338202,14.685674000000001,null,-42.145517981338202,15.599945999999999,null,-42.145517981338202,15.599945999999999]
[null,null,null,null,null,null,{"$f":"G14","v":-39.578326883578512},-39.578326883578512,{"$f":"I12","v":14.685674000000001},{"$f":"J12","v":15.599945999999999},{"$f":"K12","v":15.599945999999999},null,null,null,null,null,null,null,null,null,null,null,null,null,null,null,null,null,null,null,null,null,-39.578326883578512,14.685674000000001,null,-39.578326883578512,15.599945999999999,null,-39.578326883578512,15.599945999999999]
[20832,46,63,63,{"$f":" 'NTC Input'!$D$27 * A14 / (21829 - A14)","v":208.9468405215647},{"$f":" 1/((1/E14) - (1/'NTC Input'!$D$30)) - 'NTC Input'!$D$29","v":208.94684056522348},{"$f":" IF(Hidden!$D$4=1, 1 / ('NTC Input'!$G$12 + 'NTC Input'!$G$13*LN(F14/'NTC Input'!$F$21) + 'NTC Input'!$G$14*POWER(LN(F14/'NTC Input'!$F$21),2) + 'NTC Input'!$G$15*POWER(LN(F14/'NTC Input'!$F$21),3)) -273.15,  'NTC Input'!$K$11 / (LN(F14 / ('NTC Input'!$F$21 * EXP(-'NTC Input'!$K$11 / 298.15)))) - 273.15)","v":-39.578326883578512},-39.578326883578512,{"$f":" Hidden!$D$18 * (B14*Hidden!$D$19 + Hidden!$D$20)","v":14.628532},{"$f":" Hidden!$D$18 * (C14*Hidden!$D$19 + Hidden!$D$20)","v":15.599945999999999},{"$f":" Hidden!$D$18 * (D14*Hidden!$D$19 + Hidden!$D$20)","v":15.599945999999999},{"$f":" (I16-I14)/($G16-$G14)/'Temp Comp (Lead-Acid)'!$H$30*1000","v":-3.7419170553321859},{"$f":" (J16-J14)/($G16-$G14)/'Temp Comp (Lead-Acid)'!$H$30*1000","v":0},{"$f":" (K16-K14)/($G16-$G14)/'Temp Comp (Lead-Acid)'!$H$30*1000","v":0},null,null,null,null,null,null,null,null,null,null,20832,null,null,20847,null,null,null,null,-39.578326883578512,14.628532,null,-39.578326883578512,15.599945999999999,null,-39.578326883578512,15.599945999999999]
[null,null,null,null,null,null,{"$f":"G16","v":-37.033196533055275},-37.033196533055275,{"$f":"I14","v":14.628532},{"$f":"J14","v":15.599945999999999},{"$f":"K14","v":15.599945999999999},null,null,null,null,null,null,null,null,null,null,null,null,null,null,null,null,null,null,null,null,null,-37.033196533055275,14.628532,null,-37.033196533055275,15.599945999999999,null,-37.033196533055275,15.599945999999999]
[20685,45,63,63,{"$f":" 'NTC Input'!$D$27 * A16 / (21829 - A16)","v":180.81293706293707},{"$f":" 1/((1/E16) - (1/'NTC Input'!$D$30)) - 'NTC Input'!$D$29","v":180.81293709563039},{"$f":" IF(Hidden!$D$4=1, 1 / ('NTC Input'!$G$12 + 'NTC Input'!$G$13*LN(F16/'NTC Input'!$F$21) + 'NTC Input'!$G$14*POWER(LN(F16/'NTC Input'!$F$21),2) + 'NTC Input'!$G$15*POWER(LN(F16/'NTC Input'!$F$21),3)) -273.15,  'NTC Input'!$K$11 / (LN(F16 / ('NTC Input'!$F$21 * EXP(-'NTC Input'!$K$11 / 298.15)))) - 273.15)","v":-37.033196533055275},-37.033196533055275,{"$f":" Hidden!$D$18 * (B16*Hidden!$D$19 + Hidden!$D$20)","v":14.571390000000001},{"$f":" Hidden!$D$18 * (C16*Hidden!$D$19 + Hidden!$D$20)","v":15.599945999999999},{"$f":" Hidden!$D$18 * (D16*Hidden!$D$19 + Hidden!$D$20)","v":15.599945999999999},{"$f":" (I18-I16)/($G18-$G16)/'Temp Comp (Lead-Acid)'!$H$30*1000","v":-3.7072257910526116},{"$f":" (J18-J16)/($G18-$G16)/'Temp Comp (Lead-Acid)'!$H$30*1000","v":0},{"$f":" (K18-K16)/($G18-$G16)/'Temp Comp (Lead-Acid)'!$H$30*1000","v":0},null,null,null,null,null,null,null,null,null,null,20685,null,null,20699,null,null,null,null,-37.033196533055275,14.571390000000001,null,-37.033196533055275,15.599945999999999,null,-37.033196533055275,15.599945999999999]
[null,null,null,null,null,null,{"$f":"G18","v":-34.464249508125704},-34.464249508125704,{"$f":"I16","v":14.571390000000001},{"$f":"J16","v":15.599945999999999},{"$f":"K16","v":15.599945999999999},null,null,null,null,null,null,null,null,null,null,null,null,null,null,null,null,null,null,null,null,null,-34.464249508125704,14.571390000000001,null,-34.464249508125704,15.599945999999999,null,-34.464249508125704,15.599945999999999]
[20519,44,63,63,{"$f":" 'NTC Input'!$D$27 * A18 / (21829 - A18)","v":156.63358778625954},{"$f":" 1/((1/E18) - (1/'NTC Input'!$D$30)) - 'NTC Input'!$D$29","v":156.63358781079364},{"$f":" IF(Hidden!$D$4=1, 1 / ('NTC Input'!$G$12 + 'NTC Input'!$G$13*LN(F18/'NTC Input'!$F$21) + 'NTC Input'!$G$14*POWER(LN(F18/'NTC Input'!$F$21),2) + 'NTC Input'!$G$15*POWER(LN(F18/'NTC Input'!$F$21),3)) -273.15,  'NTC Input'!$K$11 / (LN(F18 / ('NTC Input'!$F$21 * EXP(-'NTC Input'!$K$11 / 298.15)))) - 273.15)","v":-34.464249508125704},-34.464249508125704,{"$f":" Hidden!$D$18 * (B18*Hidden!$D$19 + Hidden!$D$20)","v":14.514248},{"$f":" Hidden!$D$18 * (C18*Hidden!$D$19 + Hidden!$D$20)","v":15.599945999999999},{"$f":" Hidden!$D$18 * (D18*Hidden!$D$19 + Hidden!$D$20)","v":15.599945999999999},{"$f":" (I20-I18)/($G20-$G18)/'Temp Comp (Lead-Acid)'!$H$30*1000","v":-3.7078178149501495},{"$f":" (J20-J18)/($G20-$G18)/'Temp Comp (Lead-Acid)'!$H$30*1000","v":0},{"$f":" (K20-K18)/($G20-$G18)/'Temp Comp (Lead-Acid)'!$H$30*1000","v":0},null,null,null,null,null,null,null,null,null,null,20519,null,null,20533,null,null,null,null,-34.464249508125704,14.514248,null,-34.464249508125704,15.599945999999999,null,-34.464249508125704,15.599945999999999]
[null,null,null,null,null,null,{"$f":"G20","v":-31.895712664630651},-31.895712664630651,{"$f":"I18","v":14.514248},{"$f":"J18","v":15.599945999999999},{"$f":"K18","v":15.599945999999999},null,null,null,null,null,null,null,null,null,null,null,null,null,null,null,null,null,null,null,null,null,-31.895712664630651,14.514248,null,-31.895712664630651,15.599945999999999,null,-31.895712664630651,15.599945999999999]
[20334,43,63,63,{"$f":" 'NTC Input'!$D$27 * A20 / (21829 - A20)","v":136.01337792642141},{"$f":" 1/((1/E20) - (1/'NTC Input'!$D$30)) - 'NTC Input'!$D$29","v":136.01337794492107},{"$f":" IF(Hidden!$D$4=1, 1 / ('NTC Input'!$G$12 + 'NTC Input'!$G$13*LN(F20/'NTC Input'!$F$21) + 'NTC Input'!$G$14*POWER(LN(F20/'NTC Input'!$F$21),2) + 'NTC Input'!$G$15*POWER(LN(F20/'NTC Input'!$F$21),3)) -273.15,  'NTC Input'!$K$11 / (LN(F20 / ('NTC Input'!$F$21 * EXP(-'NTC Input'!$K$11 / 298.15)))) - 273.15)","v":-31.895712664630651},-31.895712664630651,{"$f":" Hidden!$D$18 * (B20*Hidden!$D$19 + Hidden!$D$20)","v":14.457106},{"$f":" Hidden!$D$18 * (C20*Hidden!$D$19 + Hidden!$D$20)","v":15.599945999999999},{"$f":" Hidden!$D$18 * (D20*Hidden!$D$19 + Hidden!$D$20)","v":15.599945999999999},{"$f":" (I22-I20)/($G22-$G20)/'Temp Comp (Lead-Acid)'!$H$30*1000","v":-3.7131432542421194},{"$f":" (J22-J20)/($G22-$G20)/'Temp Comp (Lead-Acid)'!$H$30*1000","v":0},{"$f":" (K22-K20)/($G22-$G20)/'Temp Comp (Lead-Acid)'!$H$30*1000","v":0},null,null,null,null,null,null,null,null,null,null,20334,null,null,20348,null,null,null,null,-31.895712664630651,14.457106,null,-31.895712664630651,15.599945999999999,null,-31.895712664630651,15.599945999999999]
[null,null,null,null,null,null,{"$f":"G22","v":-29.330859650735732},-29.330859650735732,{"$f":"I20","v":14.457106},{"$f":"J20","v":15.599945999999999},{"$f":"K20","v":15.599945999999999},null,null,null,null,null,null,null,null,null,null,null,null,null,null,null,null,null,null,null,null,null,-29.330859650735732,14.457106,null,-29.330859650735732,15.599945999999999,null,-29.330859650735732,15.599945999999999]
[20129,42,63,63,{"$f":" 'NTC Input'!$D$27 * A22 / (21829 - A22)","v":118.40588235294118},{"$f":" 1/((1/E22) - (1/'NTC Input'!$D$30)) - 'NTC Input'!$D$29","v":118.40588236696114},{"$f":" IF(Hidden!$D$4=1, 1 / ('NTC Input'!$G$12 + 'NTC Input'!$G$13*LN(F22/'NTC Input'!$F$21) + 'NTC Input'!$G$14*POWER(LN(F22/'NTC Input'!$F$21),2) + 'NTC Input'!$G$15*POWER(LN(F22/'NTC Input'!$F$21),3)) -273.15,  'NTC Input'!$K$11 / (LN(F22 / ('NTC Input'!$F$21 * EXP(-'NTC Input'!$K$11 / 298.15)))) - 273.15)","v":-29.330859650735732},-29.330859650735732,{"$f":" Hidden!$D$18 * (B22*Hidden!$D$19 + Hidden!$D$20)","v":14.399964000000001},{"$f":" Hidden!$D$18 * (C22*Hidden!$D$19 + Hidden!$D$20)","v":15.599945999999999},{"$f":" Hidden!$D$18 * (D22*Hidden!$D$19 + Hidden!$D$20)","v":15.599945999999999},{"$f":" (I24-I22)/($G24-$G22)/'Temp Comp (Lead-Acid)'!$H$30*1000","v":-3.7202699347103456},{"$f":" (J24-J22)/($G24-$G22)/'Temp Comp (Lead-Acid)'!$H$30*1000","v":-3.7202699347102297},{"$f":" (K24-K22)/($G24-$G22)/'Temp Comp (Lead-Acid)'!$H$30*1000","v":0},null,null,null,null,null,null,null,null,null,null,20129,null,null,20143,null,null,null,null,-29.330859650735732,14.399964000000001,null,-29.330859650735732,15.599945999999999,null,-29.330859650735732,15.599945999999999]
[null,null,null,null,null,null,{"$f":"G24","v":-26.770919959851909},-26.770919959851909,{"$f":"I22","v":14.399964000000001},{"$f":"J22","v":15.599945999999999},{"$f":"K22","v":15.599945999999999},null,null,null,null,null,null,null,null,null,null,null,null,null,null,null,null,null,null,null,null,null,-26.770919959851909,14.399964000000001,null,-26.770919959851909,15.599945999999999,null,-26.770919959851909,15.599945999999999]
[19903,41,62,63,{"$f":" 'NTC Input'!$D$27 * A24 / (21829 - A24)","v":103.33852544132918},{"$f":" 1/((1/E24) - (1/'NTC Input'!$D$30)) - 'NTC Input'!$D$29","v":103.33852545200803},{"$f":" IF(Hidden!$D$4=1, 1 / ('NTC Input'!$G$12 + 'NTC Input'!$G$13*LN(F24/'NTC Input'!$F$21) + 'NTC Input'!$G$14*POWER(LN(F24/'NTC Input'!$F$21),2) + 'NTC Input'!$G$15*POWER(LN(F24/'NTC Input'!$F$21),3)) -273.15,  'NTC Input'!$K$11 / (LN(F24 / ('NTC Input'!$F$21 * EXP(-'NTC Input'!$K$11 / 298.15)))) - 273.15)","v":-26.770919959851909},-26.770919959851909,{"$f":" Hidden!$D$18 * (B24*Hidden!$D$19 + Hidden!$D$20)","v":14.342822},{"$f":" Hidden!$D$18 * (C24*Hidden!$D$19 + Hidden!$D$20)","v":15.542804},{"$f":" Hidden!$D$18 * (D24*Hidden!$D$19 + Hidden!$D$20)","v":15.599945999999999},{"$f":" (I26-I24)/($G26-$G24)/'Temp Comp (Lead-Acid)'!$H$30*1000","v":-3.6983687950678492},{"$f":" (J26-J24)/($G26-$G24)/'Temp Comp (Lead-Acid)'!$H$30*1000","v":-3.6983687950678492},{"$f":" (K26-K24)/($G26-$G24)/'Temp Comp (Lead-Acid)'!$H$30*1000","v":0},null,null,null,null,null,null,null,null,null,null,19903,null,null,19916,null,null,null,null,-26.770919959851909,14.342822,null,-26.770919959851909,15.542804,null,-26.770919959851909,15.599945999999999]
[null,null,null,null,null,null,{"$f":"G26","v":-24.19582072167762},-24.19582072167762,{"$f":"I24","v":14.342822},{"$f":"J24","v":15.542804},{"$f":"K24","v":15.599945999999999},null,null,null,null,null,null,null,null,null,null,null,null,null,null,null,null,null,null,null,null,null,-24.19582072167762,14.342822,null,-24.19582072167762,15.542804,null,-24.19582072167762,15.599945999999999]
[19653,40,61,63,{"$f":" 'NTC Input'!$D$27 * A26 / (21829 - A26)","v":90.31709558823529},{"$f":" 1/((1/E26) - (1/'NTC Input'!$D$30)) - 'NTC Input'!$D$29","v":90.317095596392477},{"$f":" IF(Hidden!$D$4=1, 1 / ('NTC Input'!$G$12 + 'NTC Input'!$G$13*LN(F26/'NTC Input'!$F$21) + 'NTC Input'!$G$14*POWER(LN(F26/'NTC Input'!$F$21),2) + 'NTC Input'!$G$15*POWER(LN(F26/'NTC Input'!$F$21),3)) -273.15,  'NTC Input'!$K$11 / (LN(F26 / ('NTC Input'!$F$21 * EXP(-'NTC Input'!$K$11 / 298.15)))) - 273.15)","v":-24.19582072167762},-24.19582072167762,{"$f":" Hidden!$D$18 * (B26*Hidden!$D$19 + Hidden!$D$20)","v":14.285679999999999},{"$f":" Hidden!$D$18 * (C26*Hidden!$D$19 + Hidden!$D$20)","v":15.485662},{"$f":" Hidden!$D$18 * (D26*Hidden!$D$19 + Hidden!$D$20)","v":15.599945999999999},{"$f":" (I28-I26)/($G28-$G26)/'Temp Comp (Lead-Acid)'!$H$30*1000","v":-3.7072190045418822},{"$f":" (J28-J26)/($G28-$G26)/'Temp Comp (Lead-Acid)'!$H$30*1000","v":-3.7072190045419982},{"$f":" (K28-K26)/($G28-$G26)/'Temp Comp (Lead-Acid)'!$H$30*1000","v":0},null,null,null,null,null,null,null,null,null,null,19653,null,null,19667,null,null,null,null,-24.19582072167762,14.285679999999999,null,-24.19582072167762,15.485662,null,-24.19582072167762,15.599945999999999]
[null,null,null,null,null,null,{"$f":"G28","v":-21.626868993981304},-21.626868993981304,{"$f":"I26","v":14.285679999999999},{"$f":"J26","v":15.485662},{"$f":"K26","v":15.599945999999999},null,null,null,null,null,null,null,null,null,null,null,null,null,null,null,null,null,null,null,null,null,-21.626868993981304,14.285679999999999,null,-21.626868993981304,15.485662,null,-21.626868993981304,15.599945999999999]
[19380,39,60,63,{"$f":" 'NTC Input'!$D$27 * A28 / (21829 - A28)","v":79.134340547162111},{"$f":" 1/((1/E28) - (1/'NTC Input'!$D$30)) - 'NTC Input'!$D$29","v":79.134340553424352},{"$f":" IF(Hidden!$D$4=1, 1 / ('NTC Input'!$G$12 + 'NTC Input'!$G$13*LN(F28/'NTC Input'!$F$21) + 'NTC Input'!$G$14*POWER(LN(F28/'NTC Input'!$F$21),2) + 'NTC Input'!$G$15*POWER(LN(F28/'NTC Input'!$F$21),3)) -273.15,  'NTC Input'!$K$11 / (LN(F28 / ('NTC Input'!$F$21 * EXP(-'NTC Input'!$K$11 / 298.15)))) - 273.15)","v":-21.626868993981304},-21.626868993981304,{"$f":" Hidden!$D$18 * (B28*Hidden!$D$19 + Hidden!$D$20)","v":14.228538},{"$f":" Hidden!$D$18 * (C28*Hidden!$D$19 + Hidden!$D$20)","v":15.428519999999999},{"$f":" Hidden!$D$18 * (D28*Hidden!$D$19 + Hidden!$D$20)","v":15.599945999999999},{"$f":" (I30-I28)/($G30-$G28)/'Temp Comp (Lead-Acid)'!$H$30*1000","v":-3.711160117717391},{"$f":" (J30-J28)/($G30-$G28)/'Temp Comp (Lead-Acid)'!$H$30*1000","v":-3.7111601177172751},{"$f":" (K30-K28)/($G30-$G28)/'Temp Comp (Lead-Acid)'!$H$30*1000","v":0},null,null,null,null,null,null,null,null,null,null,19380,null,null,19394,null,null,null,null,-21.626868993981304,14.228538,null,-21.626868993981304,15.428519999999999,null,-21.626868993981304,15.599945999999999]
[null,null,null,null,null,null,{"$f":"G30","v":-19.060645396891005},-19.060645396891005,{"$f":"I28","v":14.228538},{"$f":"J28","v":15.428519999999999},{"$f":"K28","v":15.599945999999999},null,null,null,null,null,null,null,null,null,null,null,null,null,null,null,null,null,null,null,null,null,-19.060645396891005,14.228538,null,-19.060645396891005,15.428519999999999,null,-19.060645396891005,15.599945999999999]
[19083,38,59,63,{"$f":" 'NTC Input'!$D$27 * A30 / (21829 - A30)","v":69.493809176984712},{"$f":" 1/((1/E30) - (1/'NTC Input'!$D$30)) - 'NTC Input'!$D$29","v":69.4938091818141},{"$f":" IF(Hidden!$D$4=1, 1 / ('NTC Input'!$G$12 + 'NTC Input'!$G$13*LN(F30/'NTC Input'!$F$21) + 'NTC Input'!$G$14*POWER(LN(F30/'NTC Input'!$F$21),2) + 'NTC Input'!$G$15*POWER(LN(F30/'NTC Input'!$F$21),3)) -273.15,  'NTC Input'!$K$11 / (LN(F30 / ('NTC Input'!$F$21 * EXP(-'NTC Input'!$K$11 / 298.15)))) - 273.15)","v":-19.060645396891005},-19.060645396891005,{"$f":" Hidden!$D$18 * (B30*Hidden!$D$19 + Hidden!$D$20)","v":14.171396},{"$f":" Hidden!$D$18 * (C30*Hidden!$D$19 + Hidden!$D$20)","v":15.371378},{"$f":" Hidden!$D$18 * (D30*Hidden!$D$19 + Hidden!$D$20)","v":15.599945999999999},{"$f":" (I32-I30)/($G32-$G30)/'Temp Comp (Lead-Acid)'!$H$30*1000","v":-3.7090107008108961},{"$f":" (J32-J30)/($G32-$G30)/'Temp Comp (Lead-Acid)'!$H$30*1000","v":-3.7090107008108961},{"$f":" (K32-K30)/($G32-$G30)/'Temp Comp (Lead-Acid)'!$H$30*1000","v":0},null,null,null,null,null,null,null,null,null,null,19083,null,null,19096,null,null,null,null,-19.060645396891005,14.171396,null,-19.060645396891005,15.371378,null,-19.060645396891005,15.599945999999999]
[null,null,null,null,null,null,{"$f":"G32","v":-16.492934641949091},-16.492934641949091,{"$f":"I30","v":14.171396},{"$f":"J30","v":15.371378},{"$f":"K30","v":15.599945999999999},null,null,null,null,null,null,null,null,null,null,null,null,null,null,null,null,null,null,null,null,null,-16.492934641949091,14.171396,null,-16.492934641949091,15.371378,null,-16.492934641949091,15.599945999999999]
[18761,37,58,63,{"$f":" 'NTC Input'!$D$27 * A32 / (21829 - A32)","v":61.150586701434158},{"$f":" 1/((1/E32) - (1/'NTC Input'!$D$30)) - 'NTC Input'!$D$29","v":61.150586705173545},{"$f":" IF(Hidden!$D$4=1, 1 / ('NTC Input'!$G$12 + 'NTC Input'!$G$13*LN(F32/'NTC Input'!$F$21) + 'NTC Input'!$G$14*POWER(LN(F32/'NTC Input'!$F$21),2) + 'NTC Input'!$G$15*POWER(LN(F32/'NTC Input'!$F$21),3)) -273.15,  'NTC Input'!$K$11 / (LN(F32 / ('NTC Input'!$F$21 * EXP(-'NTC Input'!$K$11 / 298.15)))) - 273.15)","v":-16.492934641949091},-16.492934641949091,{"$f":" Hidden!$D$18 * (B32*Hidden!$D$19 + Hidden!$D$20)","v":14.114253999999999},{"$f":" Hidden!$D$18 * (C32*Hidden!$D$19 + Hidden!$D$20)","v":15.314235999999999},{"$f":" Hidden!$D$18 * (D32*Hidden!$D$19 + Hidden!$D$20)","v":15.599945999999999},{"$f":" (I34-I32)/($G34-$G32)/'Temp Comp (Lead-Acid)'!$H$30*1000","v":-3.6997376635791372},{"$f":" (J34-J32)/($G34-$G32)/'Temp Comp (Lead-Acid)'!$H$30*1000","v":-3.6997376635791372},{"$f":" (K34-K32)/($G34-$G32)/'Temp Comp (Lead-Acid)'!$H$30*1000","v":0},null,null,null,null,null,null,null,null,null,null,18761,null,null,18773,null,null,null,null,-16.492934641949091,14.114253999999999,null,-16.492934641949091,15.314235999999999,null,-16.492934641949091,15.599945999999999]
[null,null,null,null,null,null,{"$f":"G34","v":-13.918788166532977},-13.918788166532977,{"$f":"I32","v":14.114253999999999},{"$f":"J32","v":15.314235999999999},{"$f":"K32","v":15.599945999999999},null,null,null,null,null,null,null,null,null,null,null,null,null,null,null,null,null,null,null,null,null,-13.918788166532977,14.114253999999999,null,-13.918788166532977,15.314235999999999,null,-13.918788166532977,15.599945999999999]
[18413,36,57,63,{"$f":" 'NTC Input'!$D$27 * A34 / (21829 - A34)","v":53.902224824355969},{"$f":" 1/((1/E34) - (1/'NTC Input'!$D$30)) - 'NTC Input'!$D$29","v":53.902224827261414},{"$f":" IF(Hidden!$D$4=1, 1 / ('NTC Input'!$G$12 + 'NTC Input'!$G$13*LN(F34/'NTC Input'!$F$21) + 'NTC Input'!$G$14*POWER(LN(F34/'NTC Input'!$F$21),2) + 'NTC Input'!$G$15*POWER(LN(F34/'NTC Input'!$F$21),3)) -273.15,  'NTC Input'!$K$11 / (LN(F34 / ('NTC Input'!$F$21 * EXP(-'NTC Input'!$K$11 / 298.15)))) - 273.15)","v":-13.918788166532977},-13.918788166532977,{"$f":" Hidden!$D$18 * (B34*Hidden!$D$19 + Hidden!$D$20)","v":14.057112},{"$f":" Hidden!$D$18 * (C34*Hidden!$D$19 + Hidden!$D$20)","v":15.257094},{"$f":" Hidden!$D$18 * (D34*Hidden!$D$19 + Hidden!$D$20)","v":15.599945999999999},{"$f":" (I36-I34)/($G36-$G34)/'Temp Comp (Lead-Acid)'!$H$30*1000","v":-3.7015250721712354},{"$f":" (J36-J34)/($G36-$G34)/'Temp Comp (Lead-Acid)'!$H$30*1000","v":-3.7015250721712354},{"$f":" (K36-K34)/($G36-$G34)/'Temp Comp (Lead-Acid)'!$H$30*1000","v":0},null,null,null,"slope = ",{"$f":"(I106-I4)/(G106-G4)/'Temp Comp (Lead-Acid)'!H30*1000","v":-3.707798297220005},"mV/degC/cell",null,null,null,null,18413,null,null,18426,null,null,null,null,-13.918788166532977,14.057112,null,-13.918788166532977,15.257094,null,-13.918788166532977,15.599945999999999]
[null,null,null,null,null,null,{"$f":"G36","v":-11.345884706208608},-11.345884706208608,{"$f":"I34","v":14.057112},{"$f":"J34","v":15.257094},{"$f":"K34","v":15.599945999999999},null,null,null,null,null,null,null,null,null,null,null,null,null,null,null,null,null,null,null,null,null,-11.345884706208608,14.057112,null,-11.345884706208608,15.257094,null,-11.345884706208608,15.599945999999999]
[18040,35,56,63,{"$f":" 'NTC Input'!$D$27 * A36 / (21829 - A36)","v":47.611506993929794},{"$f":" 1/((1/E36) - (1/'NTC Input'!$D$30)) - 'NTC Input'!$D$29","v":47.611506996196646},{"$f":" IF(Hidden!$D$4=1, 1 / ('NTC Input'!$G$12 + 'NTC Input'!$G$13*LN(F36/'NTC Input'!$F$21) + 'NTC Input'!$G$14*POWER(LN(F36/'NTC Input'!$F$21),2) + 'NTC Input'!$G$15*POWER(LN(F36/'NTC Input'!$F$21),3)) -273.15,  'NTC Input'!$K$11 / (LN(F36 / ('NTC Input'!$F$21 * EXP(-'NTC Input'!$K$11 / 298.15)))) - 273.15)","v":-11.345884706208608},-11.345884706208608,{"$f":" Hidden!$D$18 * (B36*Hidden!$D$19 + Hidden!$D$20)","v":13.999969999999999},{"$f":" Hidden!$D$18 * (C36*Hidden!$D$19 + Hidden!$D$20)","v":15.199952},{"$f":" Hidden!$D$18 * (D36*Hidden!$D$19 + Hidden!$D$20)","v":15.599945999999999},{"$f":" (I38-I36)/($G38-$G36)/'Temp Comp (Lead-Acid)'!$H$30*1000","v":-3.7086867933639418},{"$f":" (J38-J36)/($G38-$G36)/'Temp Comp (Lead-Acid)'!$H$30*1000","v":-3.7086867933639418},{"$f":" (K38-K36)/($G38-$G36)/'Temp Comp (Lead-Acid)'!$H$30*1000","v":0},null,null,null,null,null,null,null,null,null,null,18040,null,null,18053,null,null,null,null,-11.345884706208608,13.999969999999999,null,-11.345884706208608,15.199952,null,-11.345884706208608,15.599945999999999]
[null,null,null,null,null,null,{"$f":"G38","v":-8.7779496938189254},-8.7779496938189254,{"$f":"I36","v":13.999969999999999},{"$f":"J36","v":15.199952},{"$f":"K36","v":15.599945999999999},null,null,null,null,null,null,null,null,null,null,null,null,null,null,null,null,null,null,null,null,null,-8.7779496938189254,13.999969999999999,null,-8.7779496938189254,15.199952,null,-8.7779496938189254,15.599945999999999]
[17643,34,55,63,{"$f":" 'NTC Input'!$D$27 * A38 / (21829 - A38)","v":42.147634973721928},{"$f":" 1/((1/E38) - (1/'NTC Input'!$D$30)) - 'NTC Input'!$D$29","v":42.147634975498349},{"$f":" IF(Hidden!$D$4=1, 1 / ('NTC Input'!$G$12 + 'NTC Input'!$G$13*LN(F38/'NTC Input'!$F$21) + 'NTC Input'!$G$14*POWER(LN(F38/'NTC Input'!$F$21),2) + 'NTC Input'!$G$15*POWER(LN(F38/'NTC Input'!$F$21),3)) -273.15,  'NTC Input'!$K$11 / (LN(F38 / ('NTC Input'!$F$21 * EXP(-'NTC Input'!$K$11 / 298.15)))) - 273.15)","v":-8.7779496938189254},-8.7779496938189254,{"$f":" Hidden!$D$18 * (B38*Hidden!$D$19 + Hidden!$D$20)","v":13.942828},{"$f":" Hidden!$D$18 * (C38*Hidden!$D$19 + Hidden!$D$20)","v":15.142810000000001},{"$f":" Hidden!$D$18 * (D38*Hidden!$D$19 + Hidden!$D$20)","v":15.599945999999999},{"$f":" (I40-I38)/($G40-$G38)/'Temp Comp (Lead-Acid)'!$H$30*1000","v":-3.6999393133168663},{"$f":" (J40-J38)/($G40-$G38)/'Temp Comp (Lead-Acid)'!$H$30*1000","v":-3.6999393133168663},{"$f":" (K40-K38)/($G40-$G38)/'Temp Comp (Lead-Acid)'!$H$30*1000","v":0},null,null,null,null,null,null,null,null,null,null,17643,null,null,17655,null,null,null,null,-8.7779496938189254,13.942828,null,-8.7779496938189254,15.142810000000001,null,-8.7779496938189254,15.599945999999999]
[null,null,null,null,null,null,{"$f":"G40","v":-6.2039435115042352},-6.2039435115042352,{"$f":"I38","v":13.942828},{"$f":"J38","v":15.142810000000001},{"$f":"K38","v":15.599945999999999},null,null,null,null,null,null,null,null,null,null,null,null,null,null,null,null,null,null,null,null,null,-6.2039435115042352,13.942828,null,-6.2039435115042352,15.142810000000001,null,-6.2039435115042352,15.599945999999999]
[17221,33,54,63,{"$f":" 'NTC Input'!$D$27 * A40 / (21829 - A40)","v":37.371961805555557},{"$f":" 1/((1/E40) - (1/'NTC Input'!$D$30)) - 'NTC Input'!$D$29","v":37.371961806952221},{"$f":" IF(Hidden!$D$4=1, 1 / ('NTC Input'!$G$12 + 'NTC Input'!$G$13*LN(F40/'NTC Input'!$F$21) + 'NTC Input'!$G$14*POWER(LN(F40/'NTC Input'!$F$21),2) + 'NTC Input'!$G$15*POWER(LN(F40/'NTC Input'!$F$21),3)) -273.15,  'NTC Input'!$K$11 / (LN(F40 / ('NTC Input'!$F$21 * EXP(-'NTC Input'!$K$11 / 298.15)))) - 273.15)","v":-6.2039435115042352},-6.2039435115042352,{"$f":" Hidden!$D$18 * (B40*Hidden!$D$19 + Hidden!$D$20)","v":13.885686},{"$f":" Hidden!$D$18 * (C40*Hidden!$D$19 + Hidden!$D$20)","v":15.085668},{"$f":" Hidden!$D$18 * (D40*Hidden!$D$19 + Hidden!$D$20)","v":15.599945999999999},{"$f":" (I42-I40)/($G42-$G40)/'Temp Comp (Lead-Acid)'!$H$30*1000","v":-3.6999524114628186},{"$f":" (J42-J40)/($G42-$G40)/'Temp Comp (Lead-Acid)'!$H$30*1000","v":-3.6999524114629341},{"$f":" (K42-K40)/($G42-$G40)/'Temp Comp (Lead-Acid)'!$H$30*1000","v":0},null,null,null,null,null,null,null,null,null,null,17221,null,null,17233,null,null,null,null,-6.2039435115042352,13.885686,null,-6.2039435115042352,15.085668,null,-6.2039435115042352,15.599945999999999]
[null,null,null,null,null,null,{"$f":"G42","v":-3.6299464413902456},-3.6299464413902456,{"$f":"I40","v":13.885686},{"$f":"J40","v":15.085668},{"$f":"K40","v":15.599945999999999},null,null,null,null,null,null,null,null,null,null,null,null,null,null,null,null,null,null,null,null,null,-3.6299464413902456,13.885686,null,-3.6299464413902456,15.085668,null,-3.6299464413902456,15.599945999999999]
[16776,32,53,63,{"$f":" 'NTC Input'!$D$27 * A42 / (21829 - A42)","v":33.200079160894518},{"$f":" 1/((1/E42) - (1/'NTC Input'!$D$30)) - 'NTC Input'!$D$29","v":33.200079161996761},{"$f":" IF(Hidden!$D$4=1, 1 / ('NTC Input'!$G$12 + 'NTC Input'!$G$13*LN(F42/'NTC Input'!$F$21) + 'NTC Input'!$G$14*POWER(LN(F42/'NTC Input'!$F$21),2) + 'NTC Input'!$G$15*POWER(LN(F42/'NTC Input'!$F$21),3)) -273.15,  'NTC Input'!$K$11 / (LN(F42 / ('NTC Input'!$F$21 * EXP(-'NTC Input'!$K$11 / 298.15)))) - 273.15)","v":-3.6299464413902456},-3.6299464413902456,{"$f":" Hidden!$D$18 * (B42*Hidden!$D$19 + Hidden!$D$20)","v":13.828544000000001},{"$f":" Hidden!$D$18 * (C42*Hidden!$D$19 + Hidden!$D$20)","v":15.028525999999999},{"$f":" Hidden!$D$18 * (D42*Hidden!$D$19 + Hidden!$D$20)","v":15.599945999999999},{"$f":" (I44-I42)/($G44-$G42)/'Temp Comp (Lead-Acid)'!$H$30*1000","v":-3.7042065465006333},{"$f":" (J44-J42)/($G44-$G42)/'Temp Comp (Lead-Acid)'!$H$30*1000","v":-3.7042065465005183},{"$f":" (K44-K42)/($G44-$G42)/'Temp Comp (Lead-Acid)'!$H$30*1000","v":0},null,null,null,null,null,null,null,null,null,null,16776,null,null,16788,null,null,null,null,-3.6299464413902456,13.828544000000001,null,-3.6299464413902456,15.028525999999999,null,-3.6299464413902456,15.599945999999999]
[null,null,null,null,null,null,{"$f":"G44","v":-1.0589055053323477},-1.0589055053323477,{"$f":"I42","v":13.828544000000001},{"$f":"J42","v":15.028525999999999},{"$f":"K42","v":15.599945999999999},null,null,null,null,null,null,null,null,null,null,null,null,null,null,null,null,null,null,null,null,null,-1.0589055053323477,13.828544000000001,null,-1.0589055053323477,15.028525999999999,null,-1.0589055053323477,15.599945999999999]
[16310,31,52,63,{"$f":" 'NTC Input'!$D$27 * A44 / (21829 - A44)","v":29.552455154919368},{"$f":" 1/((1/E44) - (1/'NTC Input'!$D$30)) - 'NTC Input'!$D$29","v":29.552455155792714},{"$f":" IF(Hidden!$D$4=1, 1 / ('NTC Input'!$G$12 + 'NTC Input'!$G$13*LN(F44/'NTC Input'!$F$21) + 'NTC Input'!$G$14*POWER(LN(F44/'NTC Input'!$F$21),2) + 'NTC Input'!$G$15*POWER(LN(F44/'NTC Input'!$F$21),3)) -273.15,  'NTC Input'!$K$11 / (LN(F44 / ('NTC Input'!$F$21 * EXP(-'NTC Input'!$K$11 / 298.15)))) - 273.15)","v":-1.0589055053323477},-1.0589055053323477,{"$f":" Hidden!$D$18 * (B44*Hidden!$D$19 + Hidden!$D$20)","v":13.771402},{"$f":" Hidden!$D$18 * (C44*Hidden!$D$19 + Hidden!$D$20)","v":14.971384},{"$f":" Hidden!$D$18 * (D44*Hidden!$D$19 + Hidden!$D$20)","v":15.599945999999999},{"$f":" (I46-I44)/($G46-$G44)/'Temp Comp (Lead-Acid)'!$H$30*1000","v":-3.7019459623471862},{"$f":" (J46-J44)/($G46-$G44)/'Temp Comp (Lead-Acid)'!$H$30*1000","v":-3.7019459623471862},{"$f":" (K46-K44)/($G46-$G44)/'Temp Comp (Lead-Acid)'!$H$30*1000","v":0},null,null,null,null,null,null,null,null,null,null,16310,null,null,16321,null,null,null,null,-1.0589055053323477,13.771402,null,-1.0589055053323477,14.971384,null,-1.0589055053323477,15.599945999999999]
[null,null,null,null,null,null,{"$f":"G46","v":1.5137054305194511},1.5137054305194511,{"$f":"I44","v":13.771402},{"$f":"J44","v":14.971384},{"$f":"K44","v":15.599945999999999},null,null,null,null,null,null,null,null,null,null,null,null,null,null,null,null,null,null,null,null,null,1.5137054305194511,13.771402,null,1.5137054305194511,14.971384,null,1.5137054305194511,15.599945999999999]
[15824,30,51,63,{"$f":" 'NTC Input'!$D$27 * A46 / (21829 - A46)","v":26.351373855120734},{"$f":" 1/((1/E46) - (1/'NTC Input'!$D$30)) - 'NTC Input'!$D$29","v":26.351373855815126},{"$f":" IF(Hidden!$D$4=1, 1 / ('NTC Input'!$G$12 + 'NTC Input'!$G$13*LN(F46/'NTC Input'!$F$21) + 'NTC Input'!$G$14*POWER(LN(F46/'NTC Input'!$F$21),2) + 'NTC Input'!$G$15*POWER(LN(F46/'NTC Input'!$F$21),3)) -273.15,  'NTC Input'!$K$11 / (LN(F46 / ('NTC Input'!$F$21 * EXP(-'NTC Input'!$K$11 / 298.15)))) - 273.15)","v":1.5137054305194511},1.5137054305194511,{"$f":" Hidden!$D$18 * (B46*Hidden!$D$19 + Hidden!$D$20)","v":13.714259999999999},{"$f":" Hidden!$D$18 * (C46*Hidden!$D$19 + Hidden!$D$20)","v":14.914242},{"$f":" Hidden!$D$18 * (D46*Hidden!$D$19 + Hidden!$D$20)","v":15.599945999999999},{"$f":" (I48-I46)/($G48-$G46)/'Temp Comp (Lead-Acid)'!$H$30*1000","v":-3.6989903688544983},{"$f":" (J48-J46)/($G48-$G46)/'Temp Comp (Lead-Acid)'!$H$30*1000","v":-3.6989903688546133},{"$f":" (K48-K46)/($G48-$G46)/'Temp Comp (Lead-Acid)'!$H$30*1000","v":0},null,null,null,null,null,null,null,null,null,null,15824,null,null,15834,null,null,null,null,1.5137054305194511,13.714259999999999,null,1.5137054305194511,14.914242,null,1.5137054305194511,15.599945999999999]
[null,null,null,null,null,null,{"$f":"G48","v":4.0883719521886519},4.0883719521886519,{"$f":"I46","v":13.714259999999999},{"$f":"J46","v":14.914242},{"$f":"K46","v":15.599945999999999},null,null,null,null,null,null,null,null,null,null,null,null,null,null,null,null,null,null,null,null,null,4.0883719521886519,13.714259999999999,null,4.0883719521886519,14.914242,null,4.0883719521886519,15.599945999999999]
[15320,29,50,63,{"$f":" 'NTC Input'!$D$27 * A48 / (21829 - A48)","v":23.536641573206328},{"$f":" 1/((1/E48) - (1/'NTC Input'!$D$30)) - 'NTC Input'!$D$29","v":23.536641573760299},{"$f":" IF(Hidden!$D$4=1, 1 / ('NTC Input'!$G$12 + 'NTC Input'!$G$13*LN(F48/'NTC Input'!$F$21) + 'NTC Input'!$G$14*POWER(LN(F48/'NTC Input'!$F$21),2) + 'NTC Input'!$G$15*POWER(LN(F48/'NTC Input'!$F$21),3)) -273.15,  'NTC Input'!$K$11 / (LN(F48 / ('NTC Input'!$F$21 * EXP(-'NTC Input'!$K$11 / 298.15)))) - 273.15)","v":4.0883719521886519},4.0883719521886519,{"$f":" Hidden!$D$18 * (B48*Hidden!$D$19 + Hidden!$D$20)","v":13.657118000000001},{"$f":" Hidden!$D$18 * (C48*Hidden!$D$19 + Hidden!$D$20)","v":14.857099999999999},{"$f":" Hidden!$D$18 * (D48*Hidden!$D$19 + Hidden!$D$20)","v":15.599945999999999},{"$f":" (I50-I48)/($G50-$G48)/'Temp Comp (Lead-Acid)'!$H$30*1000","v":-3.7003459761850404},{"$f":" (J50-J48)/($G50-$G48)/'Temp Comp (Lead-Acid)'!$H$30*1000","v":-3.7003459761849253},{"$f":" (K50-K48)/($G50-$G48)/'Temp Comp (Lead-Acid)'!$H$30*1000","v":0},null,null,null,null,null,null,null,null,null,null,15320,null,null,15330,null,null,null,null,4.0883719521886519,13.657118000000001,null,4.0883719521886519,14.857099999999999,null,4.0883719521886519,15.599945999999999]
[null,null,null,null,null,null,{"$f":"G50","v":6.6620952548095147},6.6620952548095147,{"$f":"I48","v":13.657118000000001},{"$f":"J48","v":14.857099999999999},{"$f":"K48","v":15.599945999999999},null,null,null,null,null,null,null,null,null,null,null,null,null,null,null,null,null,null,null,null,null,6.6620952548095147,13.657118000000001,null,6.6620952548095147,14.857099999999999,null,6.6620952548095147,15.599945999999999]
[14801,28,49,63,{"$f":" 'NTC Input'!$D$27 * A50 / (21829 - A50)","v":21.060045532157087},{"$f":" 1/((1/E50) - (1/'NTC Input'!$D$30)) - 'NTC Input'!$D$29","v":21.060045532600611},{"$f":" IF(Hidden!$D$4=1, 1 / ('NTC Input'!$G$12 + 'NTC Input'!$G$13*LN(F50/'NTC Input'!$F$21) + 'NTC Input'!$G$14*POWER(LN(F50/'NTC Input'!$F$21),2) + 'NTC Input'!$G$15*POWER(LN(F50/'NTC Input'!$F$21),3)) -273.15,  'NTC Input'!$K$11 / (LN(F50 / ('NTC Input'!$F$21 * EXP(-'NTC Input'!$K$11 / 298.15)))) - 273.15)","v":6.6620952548095147},6.6620952548095147,{"$f":" Hidden!$D$18 * (B50*Hidden!$D$19 + Hidden!$D$20)","v":13.599976},{"$f":" Hidden!$D$18 * (C50*Hidden!$D$19 + Hidden!$D$20)","v":14.799958},{"$f":" Hidden!$D$18 * (D50*Hidden!$D$19 + Hidden!$D$20)","v":15.599945999999999},{"$f":" (I52-I50)/($G52-$G50)/'Temp Comp (Lead-Acid)'!$H$30*1000","v":-3.7038992473635521},{"$f":" (J52-J50)/($G52-$G50)/'Temp Comp (Lead-Acid)'!$H$30*1000","v":-3.7038992473635521},{"$f":" (K52-K50)/($G52-$G50)/'Temp Comp (Lead-Acid)'!$H$30*1000","v":0},null,null,null,null,null,null,null,null,null,null,14801,null,null,14811,null,null,null,null,6.6620952548095147,13.599976,null,6.6620952548095147,14.799958,null,6.6620952548095147,15.599945999999999]
[null,null,null,null,null,null,{"$f":"G52","v":9.2333495008438149},9.2333495008438149,{"$f":"I50","v":13.599976},{"$f":"J50","v":14.799958},{"$f":"K50","v":15.599945999999999},null,null,null,null,null,null,null,null,null,null,null,null,null,null,null,null,null,null,null,null,null,9.2333495008438149,13.599976,null,9.2333495008438149,14.799958,null,9.2333495008438149,15.599945999999999]
[14270,27,48,63,{"$f":" 'NTC Input'!$D$27 * A52 / (21829 - A52)","v":18.878158486572296},{"$f":" 1/((1/E52) - (1/'NTC Input'!$D$30)) - 'NTC Input'!$D$29","v":18.87815848692868},{"$f":" IF(Hidden!$D$4=1, 1 / ('NTC Input'!$G$12 + 'NTC Input'!$G$13*LN(F52/'NTC Input'!$F$21) + 'NTC Input'!$G$14*POWER(LN(F52/'NTC Input'!$F$21),2) + 'NTC Input'!$G$15*POWER(LN(F52/'NTC Input'!$F$21),3)) -273.15,  'NTC Input'!$K$11 / (LN(F52 / ('NTC Input'!$F$21 * EXP(-'NTC Input'!$K$11 / 298.15)))) - 273.15)","v":9.2333495008438149},9.2333495008438149,{"$f":" Hidden!$D$18 * (B52*Hidden!$D$19 + Hidden!$D$20)","v":13.542833999999999},{"$f":" Hidden!$D$18 * (C52*Hidden!$D$19 + Hidden!$D$20)","v":14.742815999999999},{"$f":" Hidden!$D$18 * (D52*Hidden!$D$19 + Hidden!$D$20)","v":15.599945999999999},{"$f":" (I54-I52)/($G54-$G52)/'Temp Comp (Lead-Acid)'!$H$30*1000","v":-3.701500770637776},{"$f":" (J54-J52)/($G54-$G52)/'Temp Comp (Lead-Acid)'!$H$30*1000","v":-3.701500770637776},{"$f":" (K54-K52)/($G54-$G52)/'Temp Comp (Lead-Acid)'!$H$30*1000","v":0},null,null,null,null,null,null,null,null,null,null,14270,null,null,14280,null,null,null,null,9.2333495008438149,13.542833999999999,null,9.2333495008438149,14.742815999999999,null,9.2333495008438149,15.599945999999999]
[null,null,null,null,null,null,{"$f":"G54","v":11.806269853100162},11.806269853100162,{"$f":"I52","v":13.542833999999999},{"$f":"J52","v":14.742815999999999},{"$f":"K52","v":15.599945999999999},null,null,null,null,null,null,null,null,null,null,null,null,null,null,null,null,null,null,null,null,null,11.806269853100162,13.542833999999999,null,11.806269853100162,14.742815999999999,null,11.806269853100162,15.599945999999999]
[13729,26,47,63,{"$f":" 'NTC Input'!$D$27 * A54 / (21829 - A54)","v":16.949382716049382},{"$f":" 1/((1/E54) - (1/'NTC Input'!$D$30)) - 'NTC Input'!$D$29","v":16.949382716336661},{"$f":" IF(Hidden!$D$4=1, 1 / ('NTC Input'!$G$12 + 'NTC Input'!$G$13*LN(F54/'NTC Input'!$F$21) + 'NTC Input'!$G$14*POWER(LN(F54/'NTC Input'!$F$21),2) + 'NTC Input'!$G$15*POWER(LN(F54/'NTC Input'!$F$21),3)) -273.15,  'NTC Input'!$K$11 / (LN(F54 / ('NTC Input'!$F$21 * EXP(-'NTC Input'!$K$11 / 298.15)))) - 273.15)","v":11.806269853100162},11.806269853100162,{"$f":" Hidden!$D$18 * (B54*Hidden!$D$19 + Hidden!$D$20)","v":13.485692},{"$f":" Hidden!$D$18 * (C54*Hidden!$D$19 + Hidden!$D$20)","v":14.685674000000001},{"$f":" Hidden!$D$18 * (D54*Hidden!$D$19 + Hidden!$D$20)","v":15.599945999999999},{"$f":" (I56-I54)/($G56-$G54)/'Temp Comp (Lead-Acid)'!$H$30*1000","v":-3.6994040780687163},{"$f":" (J56-J54)/($G56-$G54)/'Temp Comp (Lead-Acid)'!$H$30*1000","v":-3.6994040780687163},{"$f":" (K56-K54)/($G56-$G54)/'Temp Comp (Lead-Acid)'!$H$30*1000","v":0},null,null,null,null,null,null,null,null,null,null,13729,null,null,13738,null,null,null,null,11.806269853100162,13.485692,null,11.806269853100162,14.685674000000001,null,11.806269853100162,15.599945999999999]
[null,null,null,null,null,null,{"$f":"G56","v":14.380648446432588},14.380648446432588,{"$f":"I54","v":13.485692},{"$f":"J54","v":14.685674000000001},{"$f":"K54","v":15.599945999999999},null,null,null,null,null,null,null,null,null,null,null,null,null,null,null,null,null,null,null,null,null,14.380648446432588,13.485692,null,14.380648446432588,14.685674000000001,null,14.380648446432588,15.599945999999999]
[13181,25,46,63,{"$f":" 'NTC Input'!$D$27 * A56 / (21829 - A56)","v":15.241674375578169},{"$f":" 1/((1/E56) - (1/'NTC Input'!$D$30)) - 'NTC Input'!$D$29","v":15.241674375810481},{"$f":" IF(Hidden!$D$4=1, 1 / ('NTC Input'!$G$12 + 'NTC Input'!$G$13*LN(F56/'NTC Input'!$F$21) + 'NTC Input'!$G$14*POWER(LN(F56/'NTC Input'!$F$21),2) + 'NTC Input'!$G$15*POWER(LN(F56/'NTC Input'!$F$21),3)) -273.15,  'NTC Input'!$K$11 / (LN(F56 / ('NTC Input'!$F$21 * EXP(-'NTC Input'!$K$11 / 298.15)))) - 273.15)","v":14.380648446432588},14.380648446432588,{"$f":" Hidden!$D$18 * (B56*Hidden!$D$19 + Hidden!$D$20)","v":13.42855},{"$f":" Hidden!$D$18 * (C56*Hidden!$D$19 + Hidden!$D$20)","v":14.628532},{"$f":" Hidden!$D$18 * (D56*Hidden!$D$19 + Hidden!$D$20)","v":15.599945999999999},{"$f":" (I58-I56)/($G58-$G56)/'Temp Comp (Lead-Acid)'!$H$30*1000","v":-3.7038544916785363},{"$f":" (J58-J56)/($G58-$G56)/'Temp Comp (Lead-Acid)'!$H$30*1000","v":-3.7038544916785363},{"$f":" (K58-K56)/($G58-$G56)/'Temp Comp (Lead-Acid)'!$H$30*1000","v":0},null,null,null,null,null,null,null,null,null,null,13181,null,null,13190,null,null,null,null,14.380648446432588,13.42855,null,14.380648446432588,14.628532,null,14.380648446432588,15.599945999999999]
[null,null,null,null,null,null,{"$f":"G58","v":16.951933762328053},16.951933762328053,{"$f":"I56","v":13.42855},{"$f":"J56","v":14.628532},{"$f":"K56","v":15.599945999999999},null,null,null,null,null,null,null,null,null,null,null,null,null,null,null,null,null,null,null,null,null,16.951933762328053,13.42855,null,16.951933762328053,14.628532,null,16.951933762328053,15.599945999999999]
[12630,24,45,63,{"$f":" 'NTC Input'!$D$27 * A58 / (21829 - A58)","v":13.729753234047179},{"$f":" 1/((1/E58) - (1/'NTC Input'!$D$30)) - 'NTC Input'!$D$29","v":13.729753234235687},{"$f":" IF(Hidden!$D$4=1, 1 / ('NTC Input'!$G$12 + 'NTC Input'!$G$13*LN(F58/'NTC Input'!$F$21) + 'NTC Input'!$G$14*POWER(LN(F58/'NTC Input'!$F$21),2) + 'NTC Input'!$G$15*POWER(LN(F58/'NTC Input'!$F$21),3)) -273.15,  'NTC Input'!$K$11 / (LN(F58 / ('NTC Input'!$F$21 * EXP(-'NTC Input'!$K$11 / 298.15)))) - 273.15)","v":16.951933762328053},16.951933762328053,{"$f":" Hidden!$D$18 * (B58*Hidden!$D$19 + Hidden!$D$20)","v":13.371408000000001},{"$f":" Hidden!$D$18 * (C58*Hidden!$D$19 + Hidden!$D$20)","v":14.571390000000001},{"$f":" Hidden!$D$18 * (D58*Hidden!$D$19 + Hidden!$D$20)","v":15.599945999999999},{"$f":" (I60-I58)/($G60-$G58)/'Temp Comp (Lead-Acid)'!$H$30*1000","v":-3.7014724464528386},{"$f":" (J60-J58)/($G60-$G58)/'Temp Comp (Lead-Acid)'!$H$30*1000","v":-3.7014724464528386},{"$f":" (K60-K58)/($G60-$G58)/'Temp Comp (Lead-Acid)'!$H$30*1000","v":0},null,null,null,null,null,null,null,null,null,null,12630,null,null,12638,null,null,null,null,16.951933762328053,13.371408000000001,null,16.951933762328053,14.571390000000001,null,16.951933762328053,15.599945999999999]
[null,null,null,null,null,null,{"$f":"G60","v":19.524873802930927},19.524873802930927,{"$f":"I58","v":13.371408000000001},{"$f":"J58","v":14.571390000000001},{"$f":"K58","v":15.599945999999999},null,null,null,null,null,null,null,null,null,null,null,null,null,null,null,null,null,null,null,null,null,19.524873802930927,13.371408000000001,null,19.524873802930927,14.571390000000001,null,19.524873802930927,15.599945999999999]
[12078,23,44,63,{"$f":" 'NTC Input'!$D$27 * A60 / (21829 - A60)","v":12.386421905445596},{"$f":" 1/((1/E60) - (1/'NTC Input'!$D$30)) - 'NTC Input'!$D$29","v":12.386421905599022},{"$f":" IF(Hidden!$D$4=1, 1 / ('NTC Input'!$G$12 + 'NTC Input'!$G$13*LN(F60/'NTC Input'!$F$21) + 'NTC Input'!$G$14*POWER(LN(F60/'NTC Input'!$F$21),2) + 'NTC Input'!$G$15*POWER(LN(F60/'NTC Input'!$F$21),3)) -273.15,  'NTC Input'!$K$11 / (LN(F60 / ('NTC Input'!$F$21 * EXP(-'NTC Input'!$K$11 / 298.15)))) - 273.15)","v":19.524873802930927},19.524873802930927,{"$f":" Hidden!$D$18 * (B60*Hidden!$D$19 + Hidden!$D$20)","v":13.314266},{"$f":" Hidden!$D$18 * (C60*Hidden!$D$19 + Hidden!$D$20)","v":14.514248},{"$f":" Hidden!$D$18 * (D60*Hidden!$D$19 + Hidden!$D$20)","v":15.599945999999999},{"$f":" (I62-I60)/($G62-$G60)/'Temp Comp (Lead-Acid)'!$H$30*1000","v":-3.69948936987163},{"$f":" (J62-J60)/($G62-$G60)/'Temp Comp (Lead-Acid)'!$H$30*1000","v":-3.69948936987163},{"$f":" (K62-K60)/($G62-$G60)/'Temp Comp (Lead-Acid)'!$H$30*1000","v":0},null,null,null,null,null,null,null,null,null,null,12078,null,null,12086,null,null,null,null,19.524873802930927,13.314266,null,19.524873802930927,14.514248,null,19.524873802930927,15.599945999999999]
[null,null,null,null,null,null,{"$f":"G62","v":22.099193043912351},22.099193043912351,{"$f":"I60","v":13.314266},{"$f":"J60","v":14.514248},{"$f":"K60","v":15.599945999999999},null,null,null,null,null,null,null,null,null,null,null,null,null,null,null,null,null,null,null,null,null,22.099193043912351,13.314266,null,22.099193043912351,14.514248,null,22.099193043912351,15.599945999999999]
[11528,22,43,63,{"$f":" 'NTC Input'!$D$27 * A62 / (21829 - A62)","v":11.191146490631978},{"$f":" 1/((1/E62) - (1/'NTC Input'!$D$30)) - 'NTC Input'!$D$29","v":11.191146490757221},{"$f":" IF(Hidden!$D$4=1, 1 / ('NTC Input'!$G$12 + 'NTC Input'!$G$13*LN(F62/'NTC Input'!$F$21) + 'NTC Input'!$G$14*POWER(LN(F62/'NTC Input'!$F$21),2) + 'NTC Input'!$G$15*POWER(LN(F62/'NTC Input'!$F$21),3)) -273.15,  'NTC Input'!$K$11 / (LN(F62 / ('NTC Input'!$F$21 * EXP(-'NTC Input'!$K$11 / 298.15)))) - 273.15)","v":22.099193043912351},22.099193043912351,{"$f":" Hidden!$D$18 * (B62*Hidden!$D$19 + Hidden!$D$20)","v":13.257123999999999},{"$f":" Hidden!$D$18 * (C62*Hidden!$D$19 + Hidden!$D$20)","v":14.457106},{"$f":" Hidden!$D$18 * (D62*Hidden!$D$19 + Hidden!$D$20)","v":15.599945999999999},{"$f":" (I64-I62)/($G64-$G62)/'Temp Comp (Lead-Acid)'!$H$30*1000","v":-3.7056079509725519},{"$f":" (J64-J62)/($G64-$G62)/'Temp Comp (Lead-Acid)'!$H$30*1000","v":-3.7056079509725519},{"$f":" (K64-K62)/($G64-$G62)/'Temp Comp (Lead-Acid)'!$H$30*1000","v":0},null,null,null,null,null,null,null,null,null,null,11528,null,null,11536,null,null,null,null,22.099193043912351,13.257123999999999,null,22.099193043912351,14.457106,null,22.099193043912351,15.599945999999999]
[null,null,null,null,null,null,{"$f":"G64","v":24.6692616514581},24.6692616514581,{"$f":"I62","v":13.257123999999999},{"$f":"J62","v":14.457106},{"$f":"K62","v":15.599945999999999},null,null,null,null,null,null,null,null,null,null,null,null,null,null,null,null,null,null,null,null,null,24.6692616514581,13.257123999999999,null,24.6692616514581,14.457106,null,24.6692616514581,15.599945999999999]
[10984,21,42,{"$f":"D66+1","v":63},{"$f":" 'NTC Input'!$D$27 * A64 / (21829 - A64)","v":10.128169663439373},{"$f":" 1/((1/E64) - (1/'NTC Input'!$D$30)) - 'NTC Input'!$D$29","v":10.128169663541954},{"$f":" IF(Hidden!$D$4=1, 1 / ('NTC Input'!$G$12 + 'NTC Input'!$G$13*LN(F64/'NTC Input'!$F$21) + 'NTC Input'!$G$14*POWER(LN(F64/'NTC Input'!$F$21),2) + 'NTC Input'!$G$15*POWER(LN(F64/'NTC Input'!$F$21),3)) -273.15,  'NTC Input'!$K$11 / (LN(F64 / ('NTC Input'!$F$21 * EXP(-'NTC Input'!$K$11 / 298.15)))) - 273.15)","v":24.6692616514581},24.6692616514581,{"$f":" Hidden!$D$18 * (B64*Hidden!$D$19 + Hidden!$D$20)","v":13.199982},{"$f":" Hidden!$D$18 * (C64*Hidden!$D$19 + Hidden!$D$20)","v":14.399964000000001},{"$f":" Hidden!$D$18 * (D64*Hidden!$D$19 + Hidden!$D$20)","v":15.599945999999999},{"$f":" (I66-I64)/($G66-$G64)/'Temp Comp (Lead-Acid)'!$H$30*1000","v":-3.700730050203533},{"$f":" (J66-J64)/($G66-$G64)/'Temp Comp (Lead-Acid)'!$H$30*1000","v":-3.700730050203533},{"$f":" (K66-K64)/($G66-$G64)/'Temp Comp (Lead-Acid)'!$H$30*1000","v":-3.7007300502034175},null,null,null,null,null,null,null,null,null,null,10984,null,null,10991,null,null,null,null,24.6692616514581,13.199982,null,24.6692616514581,14.399964000000001,null,24.6692616514581,15.599945999999999]
[null,null,null,null,null,null,{"$f":"G66","v":27.242717844552487},27.242717844552487,{"$f":"I64","v":13.199982},{"$f":"J64","v":14.399964000000001},{"$f":"K64","v":15.599945999999999},null,null,null,null,null,null,null,null,null,null,null,null,null,null,null,null,null,null,null,null,null,27.242717844552487,13.199982,null,27.242717844552487,14.399964000000001,null,27.242717844552487,15.599945999999999]
[10447,20,41,{"$f":"D68+1","v":62},{"$f":" 'NTC Input'!$D$27 * A66 / (21829 - A66)","v":9.17852749956071},{"$f":" 1/((1/E66) - (1/'NTC Input'!$D$30)) - 'NTC Input'!$D$29","v":9.1785274996449555},{"$f":" IF(Hidden!$D$4=1, 1 / ('NTC Input'!$G$12 + 'NTC Input'!$G$13*LN(F66/'NTC Input'!$F$21) + 'NTC Input'!$G$14*POWER(LN(F66/'NTC Input'!$F$21),2) + 'NTC Input'!$G$15*POWER(LN(F66/'NTC Input'!$F$21),3)) -273.15,  'NTC Input'!$K$11 / (LN(F66 / ('NTC Input'!$F$21 * EXP(-'NTC Input'!$K$11 / 298.15)))) - 273.15)","v":27.242717844552487},27.242717844552487,{"$f":" Hidden!$D$18 * (B66*Hidden!$D$19 + Hidden!$D$20)","v":13.14284},{"$f":" Hidden!$D$18 * (C66*Hidden!$D$19 + Hidden!$D$20)","v":14.342822},{"$f":" Hidden!$D$18 * (D66*Hidden!$D$19 + Hidden!$D$20)","v":15.542804},{"$f":" (I68-I66)/($G68-$G66)/'Temp Comp (Lead-Acid)'!$H$30*1000","v":-3.7070181287411903},{"$f":" (J68-J66)/($G68-$G66)/'Temp Comp (Lead-Acid)'!$H$30*1000","v":-3.7070181287413053},{"$f":" (K68-K66)/($G68-$G66)/'Temp Comp (Lead-Acid)'!$H$30*1000","v":-3.7070181287413053},null,null,null,null,null,null,null,null,null,null,10447,null,null,10454,null,null,null,null,27.242717844552487,13.14284,null,27.242717844552487,14.342822,null,27.242717844552487,15.542804]
[null,null,null,null,null,null,{"$f":"G68","v":29.81180877853734},29.81180877853734,{"$f":"I66","v":13.14284},{"$f":"J66","v":14.342822},{"$f":"K66","v":15.542804},null,null,null,null,null,null,null,null,null,null,null,null,null,null,null,null,null,null,null,null,null,29.81180877853734,13.14284,null,29.81180877853734,14.342822,null,29.81180877853734,15.542804]
[9921,19,40,{"$f":"D70+1","v":61},{"$f":" 'NTC Input'!$D$27 * A68 / (21829 - A68)","v":8.3313738663083647},{"$f":" 1/((1/E68) - (1/'NTC Input'!$D$30)) - 'NTC Input'!$D$29","v":8.3313738663777777},{"$f":" IF(Hidden!$D$4=1, 1 / ('NTC Input'!$G$12 + 'NTC Input'!$G$13*LN(F68/'NTC Input'!$F$21) + 'NTC Input'!$G$14*POWER(LN(F68/'NTC Input'!$F$21),2) + 'NTC Input'!$G$15*POWER(LN(F68/'NTC Input'!$F$21),3)) -273.15,  'NTC Input'!$K$11 / (LN(F68 / ('NTC Input'!$F$21 * EXP(-'NTC Input'!$K$11 / 298.15)))) - 273.15)","v":29.81180877853734},29.81180877853734,{"$f":" Hidden!$D$18 * (B68*Hidden!$D$19 + Hidden!$D$20)","v":13.085698000000001},{"$f":" Hidden!$D$18 * (C68*Hidden!$D$19 + Hidden!$D$20)","v":14.285679999999999},{"$f":" Hidden!$D$18 * (D68*Hidden!$D$19 + Hidden!$D$20)","v":15.485662},{"$f":" (I70-I68)/($G70-$G68)/'Temp Comp (Lead-Acid)'!$H$30*1000","v":-3.698207029232464},{"$f":" (J70-J68)/($G70-$G68)/'Temp Comp (Lead-Acid)'!$H$30*1000","v":-3.698207029232349},{"$f":" (K70-K68)/($G70-$G68)/'Temp Comp (Lead-Acid)'!$H$30*1000","v":-3.698207029232464},null,null,null,null,null,null,null,null,null,null,9921,null,null,9927,null,null,null,null,29.81180877853734,13.085698000000001,null,29.81180877853734,14.285679999999999,null,29.81180877853734,15.485662]
[null,null,null,null,null,null,{"$f":"G70","v":32.387020655911158},{"$f":"IFERROR(G69,NA())","v":32.387020655911158},{"$f":"I68","v":13.085698000000001},{"$f":"J68","v":14.285679999999999},{"$f":"K68","v":15.485662},null,null,null,null,null,null,null,null,null,null,null,null,null,null,null,null,null,null,null,null,null,{"$f":"H69","v":32.387020655911158},{"$f":"I69","v":13.085698000000001},null,{"$f":"H69","v":32.387020655911158},{"$f":"J69","v":14.285679999999999},null,{"$f":"H69","v":32.387020655911158},{"$f":"K69","v":15.485662}]
[9406,18,39,{"$f":"D72+1","v":60},{"$f":" 'NTC Input'!$D$27 * A70 / (21829 - A70)","v":7.5714400708363518},{"$f":" 1/((1/E70) - (1/'NTC Input'!$D$30)) - 'NTC Input'!$D$29","v":7.5714400708936784},{"$f":" IF(Hidden!$D$4=1, 1 / ('NTC Input'!$G$12 + 'NTC Input'!$G$13*LN(F70/'NTC Input'!$F$21) + 'NTC Input'!$G$14*POWER(LN(F70/'NTC Input'!$F$21),2) + 'NTC Input'!$G$15*POWER(LN(F70/'NTC Input'!$F$21),3)) -273.15,  'NTC Input'!$K$11 / (LN(F70 / ('NTC Input'!$F$21 * EXP(-'NTC Input'!$K$11 / 298.15)))) - 273.15)","v":32.387020655911158},32.387020655911158,{"$f":" Hidden!$D$18 * (B70*Hidden!$D$19 + Hidden!$D$20)","v":13.028556},{"$f":" Hidden!$D$18 * (C70*Hidden!$D$19 + Hidden!$D$20)","v":14.228538},{"$f":" Hidden!$D$18 * (D70*Hidden!$D$19 + Hidden!$D$20)","v":15.428519999999999},{"$f":" (I72-I70)/($G72-$G70)/'Temp Comp (Lead-Acid)'!$H$30*1000","v":-3.7047562629309363},{"$f":" (J72-J70)/($G72-$G70)/'Temp Comp (Lead-Acid)'!$H$30*1000","v":-3.7047562629309363},{"$f":" (K72-K70)/($G72-$G70)/'Temp Comp (Lead-Acid)'!$H$30*1000","v":-3.7047562629308208},null,null,null,null,null,null,null,null,null,null,9406,null,null,9413,null,null,null,null,32.387020655911158,13.028556,null,32.387020655911158,14.228538,null,32.387020655911158,15.428519999999999]
[null,null,null,null,null,null,{"$f":"G72","v":34.957680097656009},34.957680097656009,{"$f":"I70","v":13.028556},{"$f":"J70","v":14.228538},{"$f":"K70","v":15.428519999999999},null,null,null,null,null,null,null,null,null,null,null,null,null,null,null,null,null,null,null,null,null,34.957680097656009,13.028556,null,34.957680097656009,14.228538,null,34.957680097656009,15.428519999999999]
[8906,17,38,{"$f":"D74+1","v":59},{"$f":" 'NTC Input'!$D$27 * A72 / (21829 - A72)","v":6.8915886404085738},{"$f":" 1/((1/E72) - (1/'NTC Input'!$D$30)) - 'NTC Input'!$D$29","v":6.8915886404560673},{"$f":" IF(Hidden!$D$4=1, 1 / ('NTC Input'!$G$12 + 'NTC Input'!$G$13*LN(F72/'NTC Input'!$F$21) + 'NTC Input'!$G$14*POWER(LN(F72/'NTC Input'!$F$21),2) + 'NTC Input'!$G$15*POWER(LN(F72/'NTC Input'!$F$21),3)) -273.15,  'NTC Input'!$K$11 / (LN(F72 / ('NTC Input'!$F$21 * EXP(-'NTC Input'!$K$11 / 298.15)))) - 273.15)","v":34.957680097656009},34.957680097656009,{"$f":" Hidden!$D$18 * (B72*Hidden!$D$19 + Hidden!$D$20)","v":12.971413999999999},{"$f":" Hidden!$D$18 * (C72*Hidden!$D$19 + Hidden!$D$20)","v":14.171396},{"$f":" Hidden!$D$18 * (D72*Hidden!$D$19 + Hidden!$D$20)","v":15.371378},{"$f":" (I74-I72)/($G74-$G72)/'Temp Comp (Lead-Acid)'!$H$30*1000","v":-3.7075486728282412},{"$f":" (J74-J72)/($G74-$G72)/'Temp Comp (Lead-Acid)'!$H$30*1000","v":-3.7075486728283567},{"$f":" (K74-K72)/($G74-$G72)/'Temp Comp (Lead-Acid)'!$H$30*1000","v":-3.7075486728283567},null,null,null,null,null,null,null,null,null,null,8906,null,null,8912,null,null,null,null,34.957680097656009,12.971413999999999,null,34.957680097656009,14.171396,null,34.957680097656009,15.371378]
[null,null,null,null,null,null,{"$f":"G74","v":37.526403398974537},37.526403398974537,{"$f":"I72","v":12.971413999999999},{"$f":"J72","v":14.171396},{"$f":"K72","v":15.371378},null,null,null,null,null,null,null,null,null,null,null,null,null,null,null,null,null,null,null,null,null,37.526403398974537,12.971413999999999,null,37.526403398974537,14.171396,null,37.526403398974537,15.371378]
[8422,16,37,{"$f":"D76+1","v":58},{"$f":" 'NTC Input'!$D$27 * A74 / (21829 - A74)","v":6.2817930931602897},{"$f":" 1/((1/E74) - (1/'NTC Input'!$D$30)) - 'NTC Input'!$D$29","v":6.2817930931997505},{"$f":" IF(Hidden!$D$4=1, 1 / ('NTC Input'!$G$12 + 'NTC Input'!$G$13*LN(F74/'NTC Input'!$F$21) + 'NTC Input'!$G$14*POWER(LN(F74/'NTC Input'!$F$21),2) + 'NTC Input'!$G$15*POWER(LN(F74/'NTC Input'!$F$21),3)) -273.15,  'NTC Input'!$K$11 / (LN(F74 / ('NTC Input'!$F$21 * EXP(-'NTC Input'!$K$11 / 298.15)))) - 273.15)","v":37.526403398974537},37.526403398974537,{"$f":" Hidden!$D$18 * (B74*Hidden!$D$19 + Hidden!$D$20)","v":12.914272},{"$f":" Hidden!$D$18 * (C74*Hidden!$D$19 + Hidden!$D$20)","v":14.114253999999999},{"$f":" Hidden!$D$18 * (D74*Hidden!$D$19 + Hidden!$D$20)","v":15.314235999999999},{"$f":" (I76-I74)/($G76-$G74)/'Temp Comp (Lead-Acid)'!$H$30*1000","v":-3.7003740262360658},{"$f":" (J76-J74)/($G76-$G74)/'Temp Comp (Lead-Acid)'!$H$30*1000","v":-3.7003740262359508},{"$f":" (K76-K74)/($G76-$G74)/'Temp Comp (Lead-Acid)'!$H$30*1000","v":-3.7003740262359508},null,null,null,"vale = ",18,null,null,null,null,null,8422,null,null,8427,null,null,null,null,37.526403398974537,12.914272,null,37.526403398974537,14.114253999999999,null,37.526403398974537,15.314235999999999]
[null,null,null,null,null,null,{"$f":"G76","v":40.100107191927066},40.100107191927066,{"$f":"I74","v":12.914272},{"$f":"J74","v":14.114253999999999},{"$f":"K74","v":15.314235999999999},null,null,null,null,null,null,null,null,null,null,null,null,null,null,null,null,null,null,null,null,null,40.100107191927066,12.914272,null,40.100107191927066,14.114253999999999,null,40.100107191927066,15.314235999999999]
[7954,15,36,{"$f":"D78+1","v":57},{"$f":" 'NTC Input'!$D$27 * A76 / (21829 - A76)","v":5.7326126126126127},{"$f":" 1/((1/E76) - (1/'NTC Input'!$D$30)) - 'NTC Input'!$D$29","v":5.7326126126454753},{"$f":" IF(Hidden!$D$4=1, 1 / ('NTC Input'!$G$12 + 'NTC Input'!$G$13*LN(F76/'NTC Input'!$F$21) + 'NTC Input'!$G$14*POWER(LN(F76/'NTC Input'!$F$21),2) + 'NTC Input'!$G$15*POWER(LN(F76/'NTC Input'!$F$21),3)) -273.15,  'NTC Input'!$K$11 / (LN(F76 / ('NTC Input'!$F$21 * EXP(-'NTC Input'!$K$11 / 298.15)))) - 273.15)","v":40.100107191927066},40.100107191927066,{"$f":" Hidden!$D$18 * (B76*Hidden!$D$19 + Hidden!$D$20)","v":12.85713},{"$f":" Hidden!$D$18 * (C76*Hidden!$D$19 + Hidden!$D$20)","v":14.057112},{"$f":" Hidden!$D$18 * (D76*Hidden!$D$19 + Hidden!$D$20)","v":15.257094},{"$f":" (I78-I76)/($G78-$G76)/'Temp Comp (Lead-Acid)'!$H$30*1000","v":-3.7092247189299834},{"$f":" (J78-J76)/($G78-$G76)/'Temp Comp (Lead-Acid)'!$H$30*1000","v":-3.7092247189299834},{"$f":" (K78-K76)/($G78-$G76)/'Temp Comp (Lead-Acid)'!$H$30*1000","v":-3.7092247189299834},null,null,null,{"$f":"VLOOKUP(S74,$H$4:$I$146,2) + ((LOOKUP(S74,$H$4:$H$146,$I$5:$I$148)-VLOOKUP(S74,$H$4:$I$146,2)) * (S74-VLOOKUP(S74,$H$4:$I$146,1))/(LOOKUP(S74,$H$4:$H$146,$H$5:$H$148)-VLOOKUP(S74,$H$4:$I$146,1)))","v":13.371408000000001},null,null,null,null,null,null,7954,null,null,7959,null,null,null,null,40.100107191927066,12.85713,null,40.100107191927066,14.057112,null,40.100107191927066,15.257094]
[null,null,null,null,null,null,{"$f":"G78","v":42.667669792829315},42.667669792829315,{"$f":"I76","v":12.85713},{"$f":"J76","v":14.057112},{"$f":"K76","v":15.257094},null,null,null,null,null,null,null,null,null,null,null,null,null,null,null,null,null,null,null,null,null,42.667669792829315,12.85713,null,42.667669792829315,14.057112,null,42.667669792829315,15.257094]
[7505,14,35,{"$f":"D80+1","v":56},{"$f":" 'NTC Input'!$D$27 * A78 / (21829 - A78)","v":5.2394582518849484},{"$f":" 1/((1/E78) - (1/'NTC Input'!$D$30)) - 'NTC Input'!$D$29","v":5.2394582519124011},{"$f":" IF(Hidden!$D$4=1, 1 / ('NTC Input'!$G$12 + 'NTC Input'!$G$13*LN(F78/'NTC Input'!$F$21) + 'NTC Input'!$G$14*POWER(LN(F78/'NTC Input'!$F$21),2) + 'NTC Input'!$G$15*POWER(LN(F78/'NTC Input'!$F$21),3)) -273.15,  'NTC Input'!$K$11 / (LN(F78 / ('NTC Input'!$F$21 * EXP(-'NTC Input'!$K$11 / 298.15)))) - 273.15)","v":42.667669792829315},42.667669792829315,{"$f":" Hidden!$D$18 * (B78*Hidden!$D$19 + Hidden!$D$20)","v":12.799987999999999},{"$f":" Hidden!$D$18 * (C78*Hidden!$D$19 + Hidden!$D$20)","v":13.999969999999999},{"$f":" Hidden!$D$18 * (D78*Hidden!$D$19 + Hidden!$D$20)","v":15.199952},{"$f":" (I80-I78)/($G80-$G78)/'Temp Comp (Lead-Acid)'!$H$30*1000","v":-3.7041112237320166},{"$f":" (J80-J78)/($G80-$G78)/'Temp Comp (Lead-Acid)'!$H$30*1000","v":-3.7041112237320166},{"$f":" (K80-K78)/($G80-$G78)/'Temp Comp (Lead-Acid)'!$H$30*1000","v":-3.7041112237320166},null,null,null,null,null,null,null,null,null,null,7505,null,null,7509,null,null,null,null,42.667669792829315,12.799987999999999,null,42.667669792829315,13.999969999999999,null,42.667669792829315,15.199952]
[null,null,null,null,null,null,{"$f":"G80","v":45.238776892866952},45.238776892866952,{"$f":"I78","v":12.799987999999999},{"$f":"J78","v":13.999969999999999},{"$f":"K78","v":15.199952},null,null,null,null,null,null,null,null,null,null,null,null,null,null,null,null,null,null,null,null,null,45.238776892866952,12.799987999999999,null,45.238776892866952,13.999969999999999,null,45.238776892866952,15.199952]
[7074,13,34,{"$f":"D82+1","v":55},{"$f":" 'NTC Input'!$D$27 * A80 / (21829 - A80)","v":4.7943070145713316},{"$f":" 1/((1/E80) - (1/'NTC Input'!$D$30)) - 'NTC Input'!$D$29","v":4.7943070145943167},{"$f":" IF(Hidden!$D$4=1, 1 / ('NTC Input'!$G$12 + 'NTC Input'!$G$13*LN(F80/'NTC Input'!$F$21) + 'NTC Input'!$G$14*POWER(LN(F80/'NTC Input'!$F$21),2) + 'NTC Input'!$G$15*POWER(LN(F80/'NTC Input'!$F$21),3)) -273.15,  'NTC Input'!$K$11 / (LN(F80 / ('NTC Input'!$F$21 * EXP(-'NTC Input'!$K$11 / 298.15)))) - 273.15)","v":45.238776892866952},45.238776892866952,{"$f":" Hidden!$D$18 * (B80*Hidden!$D$19 + Hidden!$D$20)","v":12.742846},{"$f":" Hidden!$D$18 * (C80*Hidden!$D$19 + Hidden!$D$20)","v":13.942828},{"$f":" Hidden!$D$18 * (D80*Hidden!$D$19 + Hidden!$D$20)","v":15.142810000000001},{"$f":" (I82-I80)/($G82-$G80)/'Temp Comp (Lead-Acid)'!$H$30*1000","v":-3.7031627783313983},{"$f":" (J82-J80)/($G82-$G80)/'Temp Comp (Lead-Acid)'!$H$30*1000","v":-3.7031627783313983},{"$f":" (K82-K80)/($G82-$G80)/'Temp Comp (Lead-Acid)'!$H$30*1000","v":-3.7031627783313983},null,null,null,null,null,null,null,null,null,null,7074,null,null,7078,null,null,null,null,45.238776892866952,12.742846,null,45.238776892866952,13.942828,null,45.238776892866952,15.142810000000001]
[null,null,null,null,null,null,{"$f":"G82","v":47.810542498849316},47.810542498849316,{"$f":"I80","v":12.742846},{"$f":"J80","v":13.942828},{"$f":"K80","v":15.142810000000001},null,null,null,null,null,null,null,null,null,null,null,null,null,null,null,null,null,null,null,null,null,47.810542498849316,12.742846,null,47.810542498849316,13.942828,null,47.810542498849316,15.142810000000001]
[6662,12,33,{"$f":"D84+1","v":54},{"$f":" 'NTC Input'!$D$27 * A82 / (21829 - A82)","v":4.3924309355838336},{"$f":" 1/((1/E82) - (1/'NTC Input'!$D$30)) - 'NTC Input'!$D$29","v":4.3924309356031275},{"$f":" IF(Hidden!$D$4=1, 1 / ('NTC Input'!$G$12 + 'NTC Input'!$G$13*LN(F82/'NTC Input'!$F$21) + 'NTC Input'!$G$14*POWER(LN(F82/'NTC Input'!$F$21),2) + 'NTC Input'!$G$15*POWER(LN(F82/'NTC Input'!$F$21),3)) -273.15,  'NTC Input'!$K$11 / (LN(F82 / ('NTC Input'!$F$21 * EXP(-'NTC Input'!$K$11 / 298.15)))) - 273.15)","v":47.810542498849316},47.810542498849316,{"$f":" Hidden!$D$18 * (B82*Hidden!$D$19 + Hidden!$D$20)","v":12.685703999999999},{"$f":" Hidden!$D$18 * (C82*Hidden!$D$19 + Hidden!$D$20)","v":13.885686},{"$f":" Hidden!$D$18 * (D82*Hidden!$D$19 + Hidden!$D$20)","v":15.085668},{"$f":" (I84-I82)/($G84-$G82)/'Temp Comp (Lead-Acid)'!$H$30*1000","v":-3.6997324527166411},{"$f":" (J84-J82)/($G84-$G82)/'Temp Comp (Lead-Acid)'!$H$30*1000","v":-3.6997324527166411},{"$f":" (K84-K82)/($G84-$G82)/'Temp Comp (Lead-Acid)'!$H$30*1000","v":-3.6997324527167552},null,null,null,{"$f":"VLOOKUP(S74,H4:I148,2,TRUE)","v":13.371408000000001},null,null,null,null,null,null,6662,null,null,6666,null,null,null,null,47.810542498849316,12.685703999999999,null,47.810542498849316,13.885686,null,47.810542498849316,15.085668]
[null,null,null,null,null,null,{"$f":"G84","v":50.384692599804168},50.384692599804168,{"$f":"I82","v":12.685703999999999},{"$f":"J82","v":13.885686},{"$f":"K82","v":15.085668},null,null,null,null,null,null,null,null,null,null,null,null,null,null,null,null,null,null,null,null,null,50.384692599804168,12.685703999999999,null,50.384692599804168,13.885686,null,50.384692599804168,15.085668]
[6269,11,32,{"$f":"D86+1","v":53},{"$f":" 'NTC Input'!$D$27 * A84 / (21829 - A84)","v":4.0289203084832907},{"$f":" 1/((1/E84) - (1/'NTC Input'!$D$30)) - 'NTC Input'!$D$29","v":4.0289203084995231},{"$f":" IF(Hidden!$D$4=1, 1 / ('NTC Input'!$G$12 + 'NTC Input'!$G$13*LN(F84/'NTC Input'!$F$21) + 'NTC Input'!$G$14*POWER(LN(F84/'NTC Input'!$F$21),2) + 'NTC Input'!$G$15*POWER(LN(F84/'NTC Input'!$F$21),3)) -273.15,  'NTC Input'!$K$11 / (LN(F84 / ('NTC Input'!$F$21 * EXP(-'NTC Input'!$K$11 / 298.15)))) - 273.15)","v":50.384692599804168},50.384692599804168,{"$f":" Hidden!$D$18 * (B84*Hidden!$D$19 + Hidden!$D$20)","v":12.628562000000001},{"$f":" Hidden!$D$18 * (C84*Hidden!$D$19 + Hidden!$D$20)","v":13.828544000000001},{"$f":" Hidden!$D$18 * (D84*Hidden!$D$19 + Hidden!$D$20)","v":15.028525999999999},{"$f":" (I86-I84)/($G86-$G84)/'Temp Comp (Lead-Acid)'!$H$30*1000","v":-3.7055449746917835},{"$f":" (J86-J84)/($G86-$G84)/'Temp Comp (Lead-Acid)'!$H$30*1000","v":-3.7055449746917835},{"$f":" (K86-K84)/($G86-$G84)/'Temp Comp (Lead-Acid)'!$H$30*1000","v":-3.705544974691668},null,null,null,null,null,null,null,null,null,null,6269,null,null,6273,null,null,null,null,50.384692599804168,12.628562000000001,null,50.384692599804168,13.828544000000001,null,50.384692599804168,15.028525999999999]
[null,null,null,null,null,null,{"$f":"G86","v":52.954804886043235},52.954804886043235,{"$f":"I84","v":12.628562000000001},{"$f":"J84","v":13.828544000000001},{"$f":"K84","v":15.028525999999999},null,null,null,null,null,null,null,null,null,null,null,null,null,null,null,null,null,null,null,null,null,52.954804886043235,12.628562000000001,null,52.954804886043235,13.828544000000001,null,52.954804886043235,15.028525999999999]
[5896,10,31,{"$f":"D88+1","v":52},{"$f":" 'NTC Input'!$D$27 * A86 / (21829 - A86)","v":3.7004958262725163},{"$f":" 1/((1/E86) - (1/'NTC Input'!$D$30)) - 'NTC Input'!$D$29","v":3.7004958262862102},{"$f":" IF(Hidden!$D$4=1, 1 / ('NTC Input'!$G$12 + 'NTC Input'!$G$13*LN(F86/'NTC Input'!$F$21) + 'NTC Input'!$G$14*POWER(LN(F86/'NTC Input'!$F$21),2) + 'NTC Input'!$G$15*POWER(LN(F86/'NTC Input'!$F$21),3)) -273.15,  'NTC Input'!$K$11 / (LN(F86 / ('NTC Input'!$F$21 * EXP(-'NTC Input'!$K$11 / 298.15)))) - 273.15)","v":52.954804886043235},52.954804886043235,{"$f":" Hidden!$D$18 * (B86*Hidden!$D$19 + Hidden!$D$20)","v":12.57142},{"$f":" Hidden!$D$18 * (C86*Hidden!$D$19 + Hidden!$D$20)","v":13.771402},{"$f":" Hidden!$D$18 * (D86*Hidden!$D$19 + Hidden!$D$20)","v":14.971384},{"$f":" (I88-I86)/($G88-$G86)/'Temp Comp (Lead-Acid)'!$H$30*1000","v":-3.7138670022045557},{"$f":" (J88-J86)/($G88-$G86)/'Temp Comp (Lead-Acid)'!$H$30*1000","v":-3.7138670022046711},{"$f":" (K88-K86)/($G88-$G86)/'Temp Comp (Lead-Acid)'!$H$30*1000","v":-3.7138670022046711},null,null,null,null,null,null,null,null,null,null,5896,null,null,5900,null,null,null,null,52.954804886043235,12.57142,null,52.954804886043235,13.771402,null,52.954804886043235,14.971384]
[null,null,null,null,null,null,{"$f":"G88","v":55.519158068592105},55.519158068592105,{"$f":"I86","v":12.57142},{"$f":"J86","v":13.771402},{"$f":"K86","v":14.971384},null,null,null,null,null,null,null,null,null,null,null,null,null,null,null,null,null,null,null,null,null,55.519158068592105,12.57142,null,55.519158068592105,13.771402,null,55.519158068592105,14.971384]
[5543,9,30,{"$f":"D90+1","v":51},{"$f":" 'NTC Input'!$D$27 * A88 / (21829 - A88)","v":3.4035367800564904},{"$f":" 1/((1/E88) - (1/'NTC Input'!$D$30)) - 'NTC Input'!$D$29","v":3.403536780068074},{"$f":" IF(Hidden!$D$4=1, 1 / ('NTC Input'!$G$12 + 'NTC Input'!$G$13*LN(F88/'NTC Input'!$F$21) + 'NTC Input'!$G$14*POWER(LN(F88/'NTC Input'!$F$21),2) + 'NTC Input'!$G$15*POWER(LN(F88/'NTC Input'!$F$21),3)) -273.15,  'NTC Input'!$K$11 / (LN(F88 / ('NTC Input'!$F$21 * EXP(-'NTC Input'!$K$11 / 298.15)))) - 273.15)","v":55.519158068592105},55.519158068592105,{"$f":" Hidden!$D$18 * (B88*Hidden!$D$19 + Hidden!$D$20)","v":12.514278000000001},{"$f":" Hidden!$D$18 * (C88*Hidden!$D$19 + Hidden!$D$20)","v":13.714259999999999},{"$f":" Hidden!$D$18 * (D88*Hidden!$D$19 + Hidden!$D$20)","v":14.914242},{"$f":" (I90-I88)/($G90-$G88)/'Temp Comp (Lead-Acid)'!$H$30*1000","v":-3.7041388522348329},{"$f":" (J90-J88)/($G90-$G88)/'Temp Comp (Lead-Acid)'!$H$30*1000","v":-3.7041388522347178},{"$f":" (K90-K88)/($G90-$G88)/'Temp Comp (Lead-Acid)'!$H$30*1000","v":-3.7041388522348329},null,null,null,null,null,null,null,null,null,null,5543,null,null,5546,null,null,null,null,55.519158068592105,12.514278000000001,null,55.519158068592105,13.714259999999999,null,55.519158068592105,14.914242]
[null,null,null,null,null,null,{"$f":"G90","v":58.090245991206245},58.090245991206245,{"$f":"I88","v":12.514278000000001},{"$f":"J88","v":13.714259999999999},{"$f":"K88","v":14.914242},null,null,null,null,null,null,null,null,null,null,null,null,null,null,null,null,null,null,null,null,null,58.090245991206245,12.514278000000001,null,58.090245991206245,13.714259999999999,null,58.090245991206245,14.914242]
[5208,8,29,{"$f":"D92+1","v":50},{"$f":" 'NTC Input'!$D$27 * A90 / (21829 - A90)","v":3.133385476204801},{"$f":" 1/((1/E90) - (1/'NTC Input'!$D$30)) - 'NTC Input'!$D$29","v":3.1333854762146189},{"$f":" IF(Hidden!$D$4=1, 1 / ('NTC Input'!$G$12 + 'NTC Input'!$G$13*LN(F90/'NTC Input'!$F$21) + 'NTC Input'!$G$14*POWER(LN(F90/'NTC Input'!$F$21),2) + 'NTC Input'!$G$15*POWER(LN(F90/'NTC Input'!$F$21),3)) -273.15,  'NTC Input'!$K$11 / (LN(F90 / ('NTC Input'!$F$21 * EXP(-'NTC Input'!$K$11 / 298.15)))) - 273.15)","v":58.090245991206245},58.090245991206245,{"$f":" Hidden!$D$18 * (B90*Hidden!$D$19 + Hidden!$D$20)","v":12.457136},{"$f":" Hidden!$D$18 * (C90*Hidden!$D$19 + Hidden!$D$20)","v":13.657118000000001},{"$f":" Hidden!$D$18 * (D90*Hidden!$D$19 + Hidden!$D$20)","v":14.857099999999999},{"$f":" (I92-I90)/($G92-$G90)/'Temp Comp (Lead-Acid)'!$H$30*1000","v":-3.7097671448334721},{"$f":" (J92-J90)/($G92-$G90)/'Temp Comp (Lead-Acid)'!$H$30*1000","v":-3.7097671448334721},{"$f":" (K92-K90)/($G92-$G90)/'Temp Comp (Lead-Acid)'!$H$30*1000","v":-3.7097671448333562},null,null,null,null,null,null,null,null,null,null,5208,null,null,5211,null,null,null,null,58.090245991206245,12.457136,null,58.090245991206245,13.657118000000001,null,58.090245991206245,14.857099999999999]
[null,null,null,null,null,null,{"$f":"G92","v":60.657433174350672},60.657433174350672,{"$f":"I90","v":12.457136},{"$f":"J90","v":13.657118000000001},{"$f":"K90","v":14.857099999999999},null,null,null,null,null,null,null,null,null,null,null,null,null,null,null,null,null,null,null,null,null,60.657433174350672,12.457136,null,60.657433174350672,13.657118000000001,null,60.657433174350672,14.857099999999999]
[4892,7,28,{"$f":"D94+1","v":49},{"$f":" 'NTC Input'!$D$27 * A92 / (21829 - A92)","v":2.8883509476294504},{"$f":" 1/((1/E92) - (1/'NTC Input'!$D$30)) - 'NTC Input'!$D$29","v":2.8883509476377927},{"$f":" IF(Hidden!$D$4=1, 1 / ('NTC Input'!$G$12 + 'NTC Input'!$G$13*LN(F92/'NTC Input'!$F$21) + 'NTC Input'!$G$14*POWER(LN(F92/'NTC Input'!$F$21),2) + 'NTC Input'!$G$15*POWER(LN(F92/'NTC Input'!$F$21),3)) -273.15,  'NTC Input'!$K$11 / (LN(F92 / ('NTC Input'!$F$21 * EXP(-'NTC Input'!$K$11 / 298.15)))) - 273.15)","v":60.657433174350672},60.657433174350672,{"$f":" Hidden!$D$18 * (B92*Hidden!$D$19 + Hidden!$D$20)","v":12.399994},{"$f":" Hidden!$D$18 * (C92*Hidden!$D$19 + Hidden!$D$20)","v":13.599976},{"$f":" Hidden!$D$18 * (D92*Hidden!$D$19 + Hidden!$D$20)","v":14.799958},{"$f":" (I94-I92)/($G94-$G92)/'Temp Comp (Lead-Acid)'!$H$30*1000","v":-3.6975179009619192},{"$f":" (J94-J92)/($G94-$G92)/'Temp Comp (Lead-Acid)'!$H$30*1000","v":-3.6975179009620347},{"$f":" (K94-K92)/($G94-$G92)/'Temp Comp (Lead-Acid)'!$H$30*1000","v":-3.6975179009620347},null,null,null,null,null,null,null,null,null,null,4892,null,null,4895,null,null,null,null,60.657433174350672,12.399994,null,60.657433174350672,13.599976,null,60.657433174350672,14.799958]
[null,null,null,null,null,null,{"$f":"G94","v":63.233125009186381},63.233125009186381,{"$f":"I92","v":12.399994},{"$f":"J92","v":13.599976},{"$f":"K92","v":14.799958},null,null,null,null,null,null,null,null,null,null,null,null,null,null,null,null,null,null,null,null,null,63.233125009186381,12.399994,null,63.233125009186381,13.599976,null,63.233125009186381,14.799958]
[4593,6,27,{"$f":"D96+1","v":48},{"$f":" 'NTC Input'!$D$27 * A94 / (21829 - A94)","v":2.664771408679508},{"$f":" 1/((1/E94) - (1/'NTC Input'!$D$30)) - 'NTC Input'!$D$29","v":2.6647714086866086},{"$f":" IF(Hidden!$D$4=1, 1 / ('NTC Input'!$G$12 + 'NTC Input'!$G$13*LN(F94/'NTC Input'!$F$21) + 'NTC Input'!$G$14*POWER(LN(F94/'NTC Input'!$F$21),2) + 'NTC Input'!$G$15*POWER(LN(F94/'NTC Input'!$F$21),3)) -273.15,  'NTC Input'!$K$11 / (LN(F94 / ('NTC Input'!$F$21 * EXP(-'NTC Input'!$K$11 / 298.15)))) - 273.15)","v":63.233125009186381},63.233125009186381,{"$f":" Hidden!$D$18 * (B94*Hidden!$D$19 + Hidden!$D$20)","v":12.342852000000001},{"$f":" Hidden!$D$18 * (C94*Hidden!$D$19 + Hidden!$D$20)","v":13.542833999999999},{"$f":" Hidden!$D$18 * (D94*Hidden!$D$19 + Hidden!$D$20)","v":14.742815999999999},{"$f":" (I96-I94)/($G96-$G94)/'Temp Comp (Lead-Acid)'!$H$30*1000","v":-3.7046951252252689},{"$f":" (J96-J94)/($G96-$G94)/'Temp Comp (Lead-Acid)'!$H$30*1000","v":-3.7046951252251539},{"$f":" (K96-K94)/($G96-$G94)/'Temp Comp (Lead-Acid)'!$H$30*1000","v":-3.7046951252251539},null,null,null,null,null,null,null,null,null,null,4593,null,null,4596,null,null,null,null,63.233125009186381,12.342852000000001,null,63.233125009186381,13.542833999999999,null,63.233125009186381,14.742815999999999]
[null,null,null,null,null,null,{"$f":"G96","v":65.803826873914772},65.803826873914772,{"$f":"I94","v":12.342852000000001},{"$f":"J94","v":13.542833999999999},{"$f":"K94","v":14.742815999999999},null,null,null,null,null,null,null,null,null,null,null,null,null,null,null,null,null,null,null,null,null,65.803826873914772,12.342852000000001,null,65.803826873914772,13.542833999999999,null,65.803826873914772,14.742815999999999]
[4312,5,26,{"$f":"D98+1","v":47},{"$f":" 'NTC Input'!$D$27 * A96 / (21829 - A96)","v":2.461608722954844},{"$f":" 1/((1/E96) - (1/'NTC Input'!$D$30)) - 'NTC Input'!$D$29","v":2.4616087229609032},{"$f":" IF(Hidden!$D$4=1, 1 / ('NTC Input'!$G$12 + 'NTC Input'!$G$13*LN(F96/'NTC Input'!$F$21) + 'NTC Input'!$G$14*POWER(LN(F96/'NTC Input'!$F$21),2) + 'NTC Input'!$G$15*POWER(LN(F96/'NTC Input'!$F$21),3)) -273.15,  'NTC Input'!$K$11 / (LN(F96 / ('NTC Input'!$F$21 * EXP(-'NTC Input'!$K$11 / 298.15)))) - 273.15)","v":65.803826873914772},65.803826873914772,{"$f":" Hidden!$D$18 * (B96*Hidden!$D$19 + Hidden!$D$20)","v":12.28571},{"$f":" Hidden!$D$18 * (C96*Hidden!$D$19 + Hidden!$D$20)","v":13.485692},{"$f":" Hidden!$D$18 * (D96*Hidden!$D$19 + Hidden!$D$20)","v":14.685674000000001},{"$f":" (I98-I96)/($G98-$G96)/'Temp Comp (Lead-Acid)'!$H$30*1000","v":-3.7084709358132981},{"$f":" (J98-J96)/($G98-$G96)/'Temp Comp (Lead-Acid)'!$H$30*1000","v":-3.7084709358132981},{"$f":" (K98-K96)/($G98-$G96)/'Temp Comp (Lead-Acid)'!$H$30*1000","v":-3.7084709358132981},null,null,null,null,null,null,null,null,null,null,4312,null,null,4315,null,null,null,null,65.803826873914772,12.28571,null,65.803826873914772,13.485692,null,65.803826873914772,14.685674000000001]
[null,null,null,null,null,null,{"$f":"G98","v":68.371911357116517},68.371911357116517,{"$f":"I96","v":12.28571},{"$f":"J96","v":13.485692},{"$f":"K96","v":14.685674000000001},null,null,null,null,null,null,null,null,null,null,null,null,null,null,null,null,null,null,null,null,null,68.371911357116517,12.28571,null,68.371911357116517,13.485692,null,68.371911357116517,14.685674000000001]
[4048,4,25,{"$f":"D100+1","v":46},{"$f":" 'NTC Input'!$D$27 * A98 / (21829 - A98)","v":2.2765873685394524},{"$f":" 1/((1/E98) - (1/'NTC Input'!$D$30)) - 'NTC Input'!$D$29","v":2.2765873685446349},{"$f":" IF(Hidden!$D$4=1, 1 / ('NTC Input'!$G$12 + 'NTC Input'!$G$13*LN(F98/'NTC Input'!$F$21) + 'NTC Input'!$G$14*POWER(LN(F98/'NTC Input'!$F$21),2) + 'NTC Input'!$G$15*POWER(LN(F98/'NTC Input'!$F$21),3)) -273.15,  'NTC Input'!$K$11 / (LN(F98 / ('NTC Input'!$F$21 * EXP(-'NTC Input'!$K$11 / 298.15)))) - 273.15)","v":68.371911357116517},68.371911357116517,{"$f":" Hidden!$D$18 * (B98*Hidden!$D$19 + Hidden!$D$20)","v":12.228567999999999},{"$f":" Hidden!$D$18 * (C98*Hidden!$D$19 + Hidden!$D$20)","v":13.42855},{"$f":" Hidden!$D$18 * (D98*Hidden!$D$19 + Hidden!$D$20)","v":14.628532},{"$f":" (I100-I98)/($G100-$G98)/'Temp Comp (Lead-Acid)'!$H$30*1000","v":-3.7084820968566383},{"$f":" (J100-J98)/($G100-$G98)/'Temp Comp (Lead-Acid)'!$H$30*1000","v":-3.7084820968566383},{"$f":" (K100-K98)/($G100-$G98)/'Temp Comp (Lead-Acid)'!$H$30*1000","v":-3.7084820968566383},null,null,null,null,null,null,null,null,null,null,4048,null,null,4051,null,null,null,null,68.371911357116517,12.228567999999999,null,68.371911357116517,13.42855,null,68.371911357116517,14.628532]
[null,null,null,null,null,null,{"$f":"G100","v":70.939988111414152},70.939988111414152,{"$f":"I98","v":12.228567999999999},{"$f":"J98","v":13.42855},{"$f":"K98","v":14.628532},null,null,null,null,null,null,null,null,null,null,null,null,null,null,null,null,null,null,null,null,null,70.939988111414152,12.228567999999999,null,70.939988111414152,13.42855,null,70.939988111414152,14.628532]
[3800,3,24,{"$f":"D102+1","v":45},{"$f":" 'NTC Input'!$D$27 * A100 / (21829 - A100)","v":2.1077153474957013},{"$f":" 1/((1/E100) - (1/'NTC Input'!$D$30)) - 'NTC Input'!$D$29","v":2.107715347500144},{"$f":" IF(Hidden!$D$4=1, 1 / ('NTC Input'!$G$12 + 'NTC Input'!$G$13*LN(F100/'NTC Input'!$F$21) + 'NTC Input'!$G$14*POWER(LN(F100/'NTC Input'!$F$21),2) + 'NTC Input'!$G$15*POWER(LN(F100/'NTC Input'!$F$21),3)) -273.15,  'NTC Input'!$K$11 / (LN(F100 / ('NTC Input'!$F$21 * EXP(-'NTC Input'!$K$11 / 298.15)))) - 273.15)","v":70.939988111414152},70.939988111414152,{"$f":" Hidden!$D$18 * (B100*Hidden!$D$19 + Hidden!$D$20)","v":12.171426},{"$f":" Hidden!$D$18 * (C100*Hidden!$D$19 + Hidden!$D$20)","v":13.371408000000001},{"$f":" Hidden!$D$18 * (D100*Hidden!$D$19 + Hidden!$D$20)","v":14.571390000000001},{"$f":" (I102-I100)/($G102-$G100)/'Temp Comp (Lead-Acid)'!$H$30*1000","v":-3.7041272392053153},{"$f":" (J102-J100)/($G102-$G100)/'Temp Comp (Lead-Acid)'!$H$30*1000","v":-3.7041272392053153},{"$f":" (K102-K100)/($G102-$G100)/'Temp Comp (Lead-Acid)'!$H$30*1000","v":-3.7041272392053153},null,null,null,null,null,null,null,null,null,null,3800,null,null,3802,null,null,null,null,70.939988111414152,12.171426,null,70.939988111414152,13.371408000000001,null,70.939988111414152,14.571390000000001]
[null,null,null,null,null,null,{"$f":"G102","v":73.511084094798889},73.511084094798889,{"$f":"I100","v":12.171426},{"$f":"J100","v":13.371408000000001},{"$f":"K100","v":14.571390000000001},null,null,null,null,null,null,null,null,null,null,null,null,null,null,null,null,null,null,null,null,null,73.511084094798889,12.171426,null,73.511084094798889,13.371408000000001,null,73.511084094798889,14.571390000000001]
[3567,2,23,{"$f":"D104+1","v":44},{"$f":" 'NTC Input'!$D$27 * A102 / (21829 - A102)","v":1.9532362282334903},{"$f":" 1/((1/E102) - (1/'NTC Input'!$D$30)) - 'NTC Input'!$D$29","v":1.9532362282373055},{"$f":" IF(Hidden!$D$4=1, 1 / ('NTC Input'!$G$12 + 'NTC Input'!$G$13*LN(F102/'NTC Input'!$F$21) + 'NTC Input'!$G$14*POWER(LN(F102/'NTC Input'!$F$21),2) + 'NTC Input'!$G$15*POWER(LN(F102/'NTC Input'!$F$21),3)) -273.15,  'NTC Input'!$K$11 / (LN(F102 / ('NTC Input'!$F$21 * EXP(-'NTC Input'!$K$11 / 298.15)))) - 273.15)","v":73.511084094798889},73.511084094798889,{"$f":" Hidden!$D$18 * (B102*Hidden!$D$19 + Hidden!$D$20)","v":12.114284},{"$f":" Hidden!$D$18 * (C102*Hidden!$D$19 + Hidden!$D$20)","v":13.314266},{"$f":" Hidden!$D$18 * (D102*Hidden!$D$19 + Hidden!$D$20)","v":14.514248},{"$f":" (I104-I102)/($G104-$G102)/'Temp Comp (Lead-Acid)'!$H$30*1000","v":-3.7120509510651654},{"$f":" (J104-J102)/($G104-$G102)/'Temp Comp (Lead-Acid)'!$H$30*1000","v":-3.7120509510652804},{"$f":" (K104-K102)/($G104-$G102)/'Temp Comp (Lead-Acid)'!$H$30*1000","v":-3.7120509510652804},null,null,null,null,null,null,null,null,null,null,3567,null,null,3569,null,null,null,null,73.511084094798889,12.114284,null,73.511084094798889,13.314266,null,73.511084094798889,14.514248]
[null,null,null,null,null,null,{"$f":"G104","v":76.076691838931197},76.076691838931197,{"$f":"I102","v":12.114284},{"$f":"J102","v":13.314266},{"$f":"K102","v":14.514248},null,null,null,null,null,null,null,null,null,null,null,null,null,null,null,null,null,null,null,null,null,76.076691838931197,12.114284,null,76.076691838931197,13.314266,null,76.076691838931197,14.514248]
[3349,1,22,{"$f":"D106+1","v":43},{"$f":" 'NTC Input'!$D$27 * A104 / (21829 - A104)","v":1.8122294372294372},{"$f":" 1/((1/E104) - (1/'NTC Input'!$D$30)) - 'NTC Input'!$D$29","v":1.8122294372327212},{"$f":" IF(Hidden!$D$4=1, 1 / ('NTC Input'!$G$12 + 'NTC Input'!$G$13*LN(F104/'NTC Input'!$F$21) + 'NTC Input'!$G$14*POWER(LN(F104/'NTC Input'!$F$21),2) + 'NTC Input'!$G$15*POWER(LN(F104/'NTC Input'!$F$21),3)) -273.15,  'NTC Input'!$K$11 / (LN(F104 / ('NTC Input'!$F$21 * EXP(-'NTC Input'!$K$11 / 298.15)))) - 273.15)","v":76.076691838931197},76.076691838931197,{"$f":" Hidden!$D$18 * (B104*Hidden!$D$19 + Hidden!$D$20)","v":12.057142000000001},{"$f":" Hidden!$D$18 * (C104*Hidden!$D$19 + Hidden!$D$20)","v":13.257123999999999},{"$f":" Hidden!$D$18 * (D104*Hidden!$D$19 + Hidden!$D$20)","v":14.457106},{"$f":" (I106-I104)/($G106-$G104)/'Temp Comp (Lead-Acid)'!$H$30*1000","v":-3.7170348494654837},{"$f":" (J106-J104)/($G106-$G104)/'Temp Comp (Lead-Acid)'!$H$30*1000","v":-3.7170348494653687},{"$f":" (K106-K104)/($G106-$G104)/'Temp Comp (Lead-Acid)'!$H$30*1000","v":-3.7170348494653687},null,null,null,null,null,null,null,null,null,null,3349,null,null,3351,null,null,null,null,76.076691838931197,12.057142000000001,null,76.076691838931197,13.257123999999999,null,76.076691838931197,14.457106]
[null,null,null,null,null,null,{"$f":"G106","v":78.638859548506559},78.638859548506559,{"$f":"I104","v":12.057142000000001},{"$f":"J104","v":13.257123999999999},{"$f":"K104","v":14.457106},null,null,null,null,null,null,null,null,null,null,null,null,null,null,null,null,null,null,null,null,null,78.638859548506559,12.057142000000001,null,78.638859548506559,13.257123999999999,null,78.638859548506559,14.457106]
[3145,0,21,42,{"$f":" 'NTC Input'!$D$27 * A106 / (21829 - A106)","v":1.683258402911582},{"$f":" 1/((1/E106) - (1/'NTC Input'!$D$30)) - 'NTC Input'!$D$29","v":1.6832584029144153},{"$f":" IF(Hidden!$D$4=1, 1 / ('NTC Input'!$G$12 + 'NTC Input'!$G$13*LN(F106/'NTC Input'!$F$21) + 'NTC Input'!$G$14*POWER(LN(F106/'NTC Input'!$F$21),2) + 'NTC Input'!$G$15*POWER(LN(F106/'NTC Input'!$F$21),3)) -273.15,  'NTC Input'!$K$11 / (LN(F106 / ('NTC Input'!$F$21 * EXP(-'NTC Input'!$K$11 / 298.15)))) - 273.15)","v":78.638859548506559},78.638859548506559,{"$f":" Hidden!$D$18 * (B106*Hidden!$D$19 + Hidden!$D$20)","v":12},{"$f":" Hidden!$D$18 * (C106*Hidden!$D$19 + Hidden!$D$20)","v":13.199982},{"$f":" Hidden!$D$18 * (D106*Hidden!$D$19 + Hidden!$D$20)","v":14.399964000000001},{"$f":" (I108-I106)/($G108-$G106)/'Temp Comp (Lead-Acid)'!$H$30*1000","v":0},{"$f":" (J108-J106)/($G108-$G106)/'Temp Comp (Lead-Acid)'!$H$30*1000","v":-3.6979355883282454},{"$f":" (K108-K106)/($G108-$G106)/'Temp Comp (Lead-Acid)'!$H$30*1000","v":-3.6979355883282454},null,null,null,null,null,null,null,null,null,null,3145,null,null,3146,null,null,null,null,78.638859548506559,12,null,78.638859548506559,13.199982,null,78.638859548506559,14.399964000000001]
[null,null,null,null,null,null,{"$f":"G108","v":81.214260455089743},81.214260455089743,{"$f":"I106","v":12},{"$f":"J106","v":13.199982},{"$f":"K106","v":14.399964000000001},null,null,null,null,null,null,null,null,null,null,null,null,null,null,null,null,null,null,null,null,null,81.214260455089743,12,null,81.214260455089743,13.199982,null,81.214260455089743,14.399964000000001]
[2953,0,{"$f":"C106-1","v":20},{"$f":"D106-1","v":41},{"$f":" 'NTC Input'!$D$27 * A108 / (21829 - A108)","v":1.5644204280567917},{"$f":" 1/((1/E108) - (1/'NTC Input'!$D$30)) - 'NTC Input'!$D$29","v":1.5644204280592391},{"$f":" IF(Hidden!$D$4=1, 1 / ('NTC Input'!$G$12 + 'NTC Input'!$G$13*LN(F108/'NTC Input'!$F$21) + 'NTC Input'!$G$14*POWER(LN(F108/'NTC Input'!$F$21),2) + 'NTC Input'!$G$15*POWER(LN(F108/'NTC Input'!$F$21),3)) -273.15,  'NTC Input'!$K$11 / (LN(F108 / ('NTC Input'!$F$21 * EXP(-'NTC Input'!$K$11 / 298.15)))) - 273.15)","v":81.214260455089743},81.214260455089743,{"$f":" Hidden!$D$18 * (B108*Hidden!$D$19 + Hidden!$D$20)","v":12},{"$f":" Hidden!$D$18 * (C108*Hidden!$D$19 + Hidden!$D$20)","v":13.14284},{"$f":" Hidden!$D$18 * (D108*Hidden!$D$19 + Hidden!$D$20)","v":14.342822},{"$f":" (I110-I108)/($G110-$G108)/'Temp Comp (Lead-Acid)'!$H$30*1000","v":0},{"$f":" (J110-J108)/($G110-$G108)/'Temp Comp (Lead-Acid)'!$H$30*1000","v":-3.7119176745638045},{"$f":" (K110-K108)/($G110-$G108)/'Temp Comp (Lead-Acid)'!$H$30*1000","v":-3.7119176745639204},null,null,null,null,null,null,null,null,null,null,2953,null,null,2955,null,null,null,null,81.214260455089743,12,null,81.214260455089743,13.14284,null,81.214260455089743,14.342822]
[null,null,null,null,null,null,{"$f":"G110","v":83.779960317435325},83.779960317435325,{"$f":"I108","v":12},{"$f":"J108","v":13.14284},{"$f":"K108","v":14.342822},null,null,null,null,null,null,null,null,null,null,null,null,null,null,null,null,null,null,null,null,null,83.779960317435325,12,null,83.779960317435325,13.14284,null,83.779960317435325,14.342822]
[2774,0,{"$f":"C108-1","v":19},{"$f":"D108-1","v":40},{"$f":" 'NTC Input'!$D$27 * A110 / (21829 - A110)","v":1.4557858829703489},{"$f":" 1/((1/E110) - (1/'NTC Input'!$D$30)) - 'NTC Input'!$D$29","v":1.4557858829724684},{"$f":" IF(Hidden!$D$4=1, 1 / ('NTC Input'!$G$12 + 'NTC Input'!$G$13*LN(F110/'NTC Input'!$F$21) + 'NTC Input'!$G$14*POWER(LN(F110/'NTC Input'!$F$21),2) + 'NTC Input'!$G$15*POWER(LN(F110/'NTC Input'!$F$21),3)) -273.15,  'NTC Input'!$K$11 / (LN(F110 / ('NTC Input'!$F$21 * EXP(-'NTC Input'!$K$11 / 298.15)))) - 273.15)","v":83.779960317435325},83.779960317435325,{"$f":" Hidden!$D$18 * (B110*Hidden!$D$19 + Hidden!$D$20)","v":12},{"$f":" Hidden!$D$18 * (C110*Hidden!$D$19 + Hidden!$D$20)","v":13.085698000000001},{"$f":" Hidden!$D$18 * (D110*Hidden!$D$19 + Hidden!$D$20)","v":14.285679999999999},{"$f":" (I112-I110)/($G112-$G110)/'Temp Comp (Lead-Acid)'!$H$30*1000","v":0},{"$f":" (J112-J110)/($G112-$G110)/'Temp Comp (Lead-Acid)'!$H$30*1000","v":-3.6996673546789394},{"$f":" (K112-K110)/($G112-$G110)/'Temp Comp (Lead-Acid)'!$H$30*1000","v":-3.6996673546788243},null,null,null,null,null,null,null,null,null,null,2774,null,null,2775,null,null,null,null,83.779960317435325,12,null,83.779960317435325,13.085698000000001,null,83.779960317435325,14.285679999999999]
[null,null,null,null,null,null,{"$f":"G112","v":86.35415571222461},86.35415571222461,{"$f":"I110","v":12},{"$f":"J110","v":13.085698000000001},{"$f":"K110","v":14.285679999999999},null,null,null,null,null,null,null,null,null,null,null,null,null,null,null,null,null,null,null,null,null,86.35415571222461,12,null,86.35415571222461,13.085698000000001,null,86.35415571222461,14.285679999999999]
[2606,0,{"$f":"C110-1","v":18},{"$f":"D110-1","v":39},{"$f":" 'NTC Input'!$D$27 * A112 / (21829 - A112)","v":1.3556676897466577},{"$f":" 1/((1/E112) - (1/'NTC Input'!$D$30)) - 'NTC Input'!$D$29","v":1.3556676897484956},{"$f":" IF(Hidden!$D$4=1, 1 / ('NTC Input'!$G$12 + 'NTC Input'!$G$13*LN(F112/'NTC Input'!$F$21) + 'NTC Input'!$G$14*POWER(LN(F112/'NTC Input'!$F$21),2) + 'NTC Input'!$G$15*POWER(LN(F112/'NTC Input'!$F$21),3)) -273.15,  'NTC Input'!$K$11 / (LN(F112 / ('NTC Input'!$F$21 * EXP(-'NTC Input'!$K$11 / 298.15)))) - 273.15)","v":86.35415571222461},86.35415571222461,{"$f":" Hidden!$D$18 * (B112*Hidden!$D$19 + Hidden!$D$20)","v":12},{"$f":" Hidden!$D$18 * (C112*Hidden!$D$19 + Hidden!$D$20)","v":13.028556},{"$f":" Hidden!$D$18 * (D112*Hidden!$D$19 + Hidden!$D$20)","v":14.228538},{"$f":" (I114-I112)/($G114-$G112)/'Temp Comp (Lead-Acid)'!$H$30*1000","v":0},{"$f":" (J114-J112)/($G114-$G112)/'Temp Comp (Lead-Acid)'!$H$30*1000","v":-3.7018179374813167},{"$f":" (K114-K112)/($G114-$G112)/'Temp Comp (Lead-Acid)'!$H$30*1000","v":-3.7018179374813167},null,null,null,null,null,null,null,null,null,null,2606,null,null,2608,null,null,null,null,86.35415571222461,12,null,86.35415571222461,13.028556,null,86.35415571222461,14.228538]
[null,null,null,null,null,null,{"$f":"G114","v":88.926855620083018},88.926855620083018,{"$f":"I112","v":12},{"$f":"J112","v":13.028556},{"$f":"K112","v":14.228538},null,null,null,null,null,null,null,null,null,null,null,null,null,null,null,null,null,null,null,null,null,88.926855620083018,12,null,88.926855620083018,13.028556,null,88.926855620083018,14.228538]
[2449,0,{"$f":"C112-1","v":17},{"$f":"D112-1","v":38},{"$f":" 'NTC Input'!$D$27 * A114 / (21829 - A114)","v":1.2636738906088751},{"$f":" 1/((1/E114) - (1/'NTC Input'!$D$30)) - 'NTC Input'!$D$29","v":1.2636738906104719},{"$f":" IF(Hidden!$D$4=1, 1 / ('NTC Input'!$G$12 + 'NTC Input'!$G$13*LN(F114/'NTC Input'!$F$21) + 'NTC Input'!$G$14*POWER(LN(F114/'NTC Input'!$F$21),2) + 'NTC Input'!$G$15*POWER(LN(F114/'NTC Input'!$F$21),3)) -273.15,  'NTC Input'!$K$11 / (LN(F114 / ('NTC Input'!$F$21 * EXP(-'NTC Input'!$K$11 / 298.15)))) - 273.15)","v":88.926855620083018},88.926855620083018,{"$f":" Hidden!$D$18 * (B114*Hidden!$D$19 + Hidden!$D$20)","v":12},{"$f":" Hidden!$D$18 * (C114*Hidden!$D$19 + Hidden!$D$20)","v":12.971413999999999},{"$f":" Hidden!$D$18 * (D114*Hidden!$D$19 + Hidden!$D$20)","v":14.171396},{"$f":" (I116-I114)/($G116-$G114)/'Temp Comp (Lead-Acid)'!$H$30*1000","v":0},{"$f":" (J116-J114)/($G116-$G114)/'Temp Comp (Lead-Acid)'!$H$30*1000","v":-3.7221291237006069},{"$f":" (K116-K114)/($G116-$G114)/'Temp Comp (Lead-Acid)'!$H$30*1000","v":-3.7221291237007232},null,null,null,null,null,null,null,null,null,null,2449,null,null,2451,null,null,null,null,88.926855620083018,12,null,88.926855620083018,12.971413999999999,null,88.926855620083018,14.171396]
[null,null,null,null,null,null,{"$f":"G116","v":91.485516631068549},91.485516631068549,{"$f":"I114","v":12},{"$f":"J114","v":12.971413999999999},{"$f":"K114","v":14.171396},null,null,null,null,null,null,null,null,null,null,null,null,null,null,null,null,null,null,null,null,null,91.485516631068549,12,null,91.485516631068549,12.971413999999999,null,91.485516631068549,14.171396]
[2303,0,{"$f":"C114-1","v":16},{"$f":"D114-1","v":37},{"$f":" 'NTC Input'!$D$27 * A116 / (21829 - A116)","v":1.1794530369763392},{"$f":" 1/((1/E116) - (1/'NTC Input'!$D$30)) - 'NTC Input'!$D$29","v":1.1794530369777303},{"$f":" IF(Hidden!$D$4=1, 1 / ('NTC Input'!$G$12 + 'NTC Input'!$G$13*LN(F116/'NTC Input'!$F$21) + 'NTC Input'!$G$14*POWER(LN(F116/'NTC Input'!$F$21),2) + 'NTC Input'!$G$15*POWER(LN(F116/'NTC Input'!$F$21),3)) -273.15,  'NTC Input'!$K$11 / (LN(F116 / ('NTC Input'!$F$21 * EXP(-'NTC Input'!$K$11 / 298.15)))) - 273.15)","v":91.485516631068549},91.485516631068549,{"$f":" Hidden!$D$18 * (B116*Hidden!$D$19 + Hidden!$D$20)","v":12},{"$f":" Hidden!$D$18 * (C116*Hidden!$D$19 + Hidden!$D$20)","v":12.914272},{"$f":" Hidden!$D$18 * (D116*Hidden!$D$19 + Hidden!$D$20)","v":14.114253999999999},{"$f":" (I118-I116)/($G118-$G116)/'Temp Comp (Lead-Acid)'!$H$30*1000","v":0},{"$f":" (J118-J116)/($G118-$G116)/'Temp Comp (Lead-Acid)'!$H$30*1000","v":-3.7086434578805916},{"$f":" (K118-K116)/($G118-$G116)/'Temp Comp (Lead-Acid)'!$H$30*1000","v":-3.7086434578804761},null,null,null,null,null,null,null,null,null,null,2303,null,null,2304,null,null,null,null,91.485516631068549,12,null,91.485516631068549,12.914272,null,91.485516631068549,14.114253999999999]
[null,null,null,null,null,null,{"$f":"G118","v":94.05348164976823},94.05348164976823,{"$f":"I116","v":12},{"$f":"J116","v":12.914272},{"$f":"K116","v":14.114253999999999},null,null,null,null,null,null,null,null,null,null,null,null,null,null,null,null,null,null,null,null,null,94.05348164976823,12,null,94.05348164976823,12.914272,null,94.05348164976823,14.114253999999999]
[2166,0,{"$f":"C116-1","v":15},{"$f":"D116-1","v":36},{"$f":" 'NTC Input'!$D$27 * A118 / (21829 - A118)","v":1.101561308040482},{"$f":" 1/((1/E118) - (1/'NTC Input'!$D$30)) - 'NTC Input'!$D$29","v":1.1015613080416955},{"$f":" IF(Hidden!$D$4=1, 1 / ('NTC Input'!$G$12 + 'NTC Input'!$G$13*LN(F118/'NTC Input'!$F$21) + 'NTC Input'!$G$14*POWER(LN(F118/'NTC Input'!$F$21),2) + 'NTC Input'!$G$15*POWER(LN(F118/'NTC Input'!$F$21),3)) -273.15,  'NTC Input'!$K$11 / (LN(F118 / ('NTC Input'!$F$21 * EXP(-'NTC Input'!$K$11 / 298.15)))) - 273.15)","v":94.05348164976823},94.05348164976823,{"$f":" Hidden!$D$18 * (B118*Hidden!$D$19 + Hidden!$D$20)","v":12},{"$f":" Hidden!$D$18 * (C118*Hidden!$D$19 + Hidden!$D$20)","v":12.85713},{"$f":" Hidden!$D$18 * (D118*Hidden!$D$19 + Hidden!$D$20)","v":14.057112},{"$f":" (I120-I118)/($G120-$G118)/'Temp Comp (Lead-Acid)'!$H$30*1000","v":0},{"$f":" (J120-J118)/($G120-$G118)/'Temp Comp (Lead-Acid)'!$H$30*1000","v":-3.7105187916020546},{"$f":" (K120-K118)/($G120-$G118)/'Temp Comp (Lead-Acid)'!$H$30*1000","v":-3.7105187916020546},null,null,null,null,null,null,null,null,null,null,2166,null,null,2167,null,null,null,null,94.05348164976823,12,null,94.05348164976823,12.85713,null,94.05348164976823,14.057112]
[null,null,null,null,null,null,{"$f":"G120","v":96.62014879297783},96.62014879297783,{"$f":"I118","v":12},{"$f":"J118","v":12.85713},{"$f":"K118","v":14.057112},null,null,null,null,null,null,null,null,null,null,null,null,null,null,null,null,null,null,null,null,null,96.62014879297783,12,null,96.62014879297783,12.85713,null,96.62014879297783,14.057112]
[2038,0,{"$f":"C118-1","v":14},{"$f":"D118-1","v":35},{"$f":" 'NTC Input'!$D$27 * A120 / (21829 - A120)","v":1.0297610024758728},{"$f":" 1/((1/E120) - (1/'NTC Input'!$D$30)) - 'NTC Input'!$D$29","v":1.029761002476933},{"$f":" IF(Hidden!$D$4=1, 1 / ('NTC Input'!$G$12 + 'NTC Input'!$G$13*LN(F120/'NTC Input'!$F$21) + 'NTC Input'!$G$14*POWER(LN(F120/'NTC Input'!$F$21),2) + 'NTC Input'!$G$15*POWER(LN(F120/'NTC Input'!$F$21),3)) -273.15,  'NTC Input'!$K$11 / (LN(F120 / ('NTC Input'!$F$21 * EXP(-'NTC Input'!$K$11 / 298.15)))) - 273.15)","v":96.62014879297783},96.62014879297783,{"$f":" Hidden!$D$18 * (B120*Hidden!$D$19 + Hidden!$D$20)","v":12},{"$f":" Hidden!$D$18 * (C120*Hidden!$D$19 + Hidden!$D$20)","v":12.799987999999999},{"$f":" Hidden!$D$18 * (D120*Hidden!$D$19 + Hidden!$D$20)","v":13.999969999999999},{"$f":" (I122-I120)/($G122-$G120)/'Temp Comp (Lead-Acid)'!$H$30*1000","v":0},{"$f":" (J122-J120)/($G122-$G120)/'Temp Comp (Lead-Acid)'!$H$30*1000","v":-3.6993703751153171},{"$f":" (K122-K120)/($G122-$G120)/'Temp Comp (Lead-Acid)'!$H$30*1000","v":-3.6993703751153171},null,null,null,null,null,null,null,null,null,null,2038,null,null,2039,null,null,null,null,96.62014879297783,12,null,96.62014879297783,12.799987999999999,null,96.62014879297783,13.999969999999999]
[null,null,null,null,null,null,{"$f":"G122","v":99.194550840074726},99.194550840074726,{"$f":"I120","v":12},{"$f":"J120","v":12.799987999999999},{"$f":"K120","v":13.999969999999999},null,null,null,null,null,null,null,null,null,null,null,null,null,null,null,null,null,null,null,null,null,99.194550840074726,12,null,99.194550840074726,12.799987999999999,null,99.194550840074726,13.999969999999999]
[1918,0,{"$f":"C120-1","v":13},{"$f":"D120-1","v":34},{"$f":" 'NTC Input'!$D$27 * A122 / (21829 - A122)","v":0.96328662548340116},{"$f":" 1/((1/E122) - (1/'NTC Input'!$D$30)) - 'NTC Input'!$D$29","v":0.9632866254843292},{"$f":" IF(Hidden!$D$4=1, 1 / ('NTC Input'!$G$12 + 'NTC Input'!$G$13*LN(F122/'NTC Input'!$F$21) + 'NTC Input'!$G$14*POWER(LN(F122/'NTC Input'!$F$21),2) + 'NTC Input'!$G$15*POWER(LN(F122/'NTC Input'!$F$21),3)) -273.15,  'NTC Input'!$K$11 / (LN(F122 / ('NTC Input'!$F$21 * EXP(-'NTC Input'!$K$11 / 298.15)))) - 273.15)","v":99.194550840074726},99.194550840074726,{"$f":" Hidden!$D$18 * (B122*Hidden!$D$19 + Hidden!$D$20)","v":12},{"$f":" Hidden!$D$18 * (C122*Hidden!$D$19 + Hidden!$D$20)","v":12.742846},{"$f":" Hidden!$D$18 * (D122*Hidden!$D$19 + Hidden!$D$20)","v":13.942828},{"$f":" (I124-I122)/($G124-$G122)/'Temp Comp (Lead-Acid)'!$H$30*1000","v":0},{"$f":" (J124-J122)/($G124-$G122)/'Temp Comp (Lead-Acid)'!$H$30*1000","v":-3.7046618792850214},{"$f":" (K124-K122)/($G124-$G122)/'Temp Comp (Lead-Acid)'!$H$30*1000","v":-3.7046618792850214},null,null,null,null,null,null,null,null,null,null,1918,null,null,1919,null,null,null,null,99.194550840074726,12,null,99.194550840074726,12.742846,null,99.194550840074726,13.942828]
[null,null,null,null,null,null,{"$f":"G124","v":101.76527577449298},101.76527577449298,{"$f":"I122","v":12},{"$f":"J122","v":12.742846},{"$f":"K122","v":13.942828},null,null,null,null,null,null,null,null,null,null,null,null,null,null,null,null,null,null,null,null,null,101.76527577449298,12,null,101.76527577449298,12.742846,null,101.76527577449298,13.942828]
[1806,0,{"$f":"C122-1","v":12},{"$f":"D122-1","v":33},{"$f":" 'NTC Input'!$D$27 * A124 / (21829 - A124)","v":0.90196274284572742},{"$f":" 1/((1/E124) - (1/'NTC Input'!$D$30)) - 'NTC Input'!$D$29","v":0.90196274284654099},{"$f":" IF(Hidden!$D$4=1, 1 / ('NTC Input'!$G$12 + 'NTC Input'!$G$13*LN(F124/'NTC Input'!$F$21) + 'NTC Input'!$G$14*POWER(LN(F124/'NTC Input'!$F$21),2) + 'NTC Input'!$G$15*POWER(LN(F124/'NTC Input'!$F$21),3)) -273.15,  'NTC Input'!$K$11 / (LN(F124 / ('NTC Input'!$F$21 * EXP(-'NTC Input'!$K$11 / 298.15)))) - 273.15)","v":101.76527577449298},101.76527577449298,{"$f":" Hidden!$D$18 * (B124*Hidden!$D$19 + Hidden!$D$20)","v":12},{"$f":" Hidden!$D$18 * (C124*Hidden!$D$19 + Hidden!$D$20)","v":12.685703999999999},{"$f":" Hidden!$D$18 * (D124*Hidden!$D$19 + Hidden!$D$20)","v":13.885686},{"$f":" (I126-I124)/($G126-$G124)/'Temp Comp (Lead-Acid)'!$H$30*1000","v":0},{"$f":" (J126-J124)/($G126-$G124)/'Temp Comp (Lead-Acid)'!$H$30*1000","v":-3.6936245580322438},{"$f":" (K126-K124)/($G126-$G124)/'Temp Comp (Lead-Acid)'!$H$30*1000","v":-3.6936245580322438},null,null,null,null,null,null,null,null,null,null,1806,null,null,1807,null,null,null,null,101.76527577449298,12,null,101.76527577449298,12.685703999999999,null,101.76527577449298,13.885686]
[null,null,null,null,null,null,{"$f":"G126","v":104.34368257167438},104.34368257167438,{"$f":"I124","v":12},{"$f":"J124","v":12.685703999999999},{"$f":"K124","v":13.885686},null,null,null,null,null,null,null,null,null,null,null,null,null,null,null,null,null,null,null,null,null,104.34368257167438,12,null,104.34368257167438,12.685703999999999,null,104.34368257167438,13.885686]
[1701,0,{"$f":"C124-1","v":11},{"$f":"D124-1","v":32},{"$f":" 'NTC Input'!$D$27 * A126 / (21829 - A126)","v":0.84509141494435613},{"$f":" 1/((1/E126) - (1/'NTC Input'!$D$30)) - 'NTC Input'!$D$29","v":0.84509141494507045},{"$f":" IF(Hidden!$D$4=1, 1 / ('NTC Input'!$G$12 + 'NTC Input'!$G$13*LN(F126/'NTC Input'!$F$21) + 'NTC Input'!$G$14*POWER(LN(F126/'NTC Input'!$F$21),2) + 'NTC Input'!$G$15*POWER(LN(F126/'NTC Input'!$F$21),3)) -273.15,  'NTC Input'!$K$11 / (LN(F126 / ('NTC Input'!$F$21 * EXP(-'NTC Input'!$K$11 / 298.15)))) - 273.15)","v":104.34368257167438},104.34368257167438,{"$f":" Hidden!$D$18 * (B126*Hidden!$D$19 + Hidden!$D$20)","v":12},{"$f":" Hidden!$D$18 * (C126*Hidden!$D$19 + Hidden!$D$20)","v":12.628562000000001},{"$f":" Hidden!$D$18 * (D126*Hidden!$D$19 + Hidden!$D$20)","v":13.828544000000001},{"$f":" (I128-I126)/($G128-$G126)/'Temp Comp (Lead-Acid)'!$H$30*1000","v":0},{"$f":" (J128-J126)/($G128-$G126)/'Temp Comp (Lead-Acid)'!$H$30*1000","v":-3.7388447061980385},{"$f":" (K128-K126)/($G128-$G126)/'Temp Comp (Lead-Acid)'!$H$30*1000","v":-3.7388447061980385},null,null,null,null,null,null,null,null,null,null,1701,null,null,1702,null,null,null,null,104.34368257167438,12,null,104.34368257167438,12.628562000000001,null,104.34368257167438,13.828544000000001]
[null,null,null,null,null,null,{"$f":"G128","v":106.8909043514073},106.8909043514073,{"$f":"I126","v":12},{"$f":"J126","v":12.628562000000001},{"$f":"K126","v":13.828544000000001},null,null,null,null,null,null,null,null,null,null,null,null,null,null,null,null,null,null,null,null,null,106.8909043514073,12,null,106.8909043514073,12.628562000000001,null,106.8909043514073,13.828544000000001]
[1604,0,{"$f":"C126-1","v":10},{"$f":"D126-1","v":31},{"$f":" 'NTC Input'!$D$27 * A128 / (21829 - A128)","v":0.79307787391841778},{"$f":" 1/((1/E128) - (1/'NTC Input'!$D$30)) - 'NTC Input'!$D$29","v":0.79307787391904683},{"$f":" IF(Hidden!$D$4=1, 1 / ('NTC Input'!$G$12 + 'NTC Input'!$G$13*LN(F128/'NTC Input'!$F$21) + 'NTC Input'!$G$14*POWER(LN(F128/'NTC Input'!$F$21),2) + 'NTC Input'!$G$15*POWER(LN(F128/'NTC Input'!$F$21),3)) -273.15,  'NTC Input'!$K$11 / (LN(F128 / ('NTC Input'!$F$21 * EXP(-'NTC Input'!$K$11 / 298.15)))) - 273.15)","v":106.8909043514073},106.8909043514073,{"$f":" Hidden!$D$18 * (B128*Hidden!$D$19 + Hidden!$D$20)","v":12},{"$f":" Hidden!$D$18 * (C128*Hidden!$D$19 + Hidden!$D$20)","v":12.57142},{"$f":" Hidden!$D$18 * (D128*Hidden!$D$19 + Hidden!$D$20)","v":13.771402},{"$f":" (I130-I128)/($G130-$G128)/'Temp Comp (Lead-Acid)'!$H$30*1000","v":0},{"$f":" (J130-J128)/($G130-$G128)/'Temp Comp (Lead-Acid)'!$H$30*1000","v":-3.686756521466263},{"$f":" (K130-K128)/($G130-$G128)/'Temp Comp (Lead-Acid)'!$H$30*1000","v":-3.6867565214663776},null,null,null,null,null,null,null,null,null,null,1604,null,null,1604,null,null,null,null,106.8909043514073,12,null,106.8909043514073,12.57142,null,106.8909043514073,13.771402]
[null,null,null,null,null,null,{"$f":"G130","v":109.47411444711463},109.47411444711463,{"$f":"I128","v":12},{"$f":"J128","v":12.57142},{"$f":"K128","v":13.771402},null,null,null,null,null,null,null,null,null,null,null,null,null,null,null,null,null,null,null,null,null,109.47411444711463,12,null,109.47411444711463,12.57142,null,109.47411444711463,13.771402]
[1512,0,{"$f":"C128-1","v":9},{"$f":"D128-1","v":30},{"$f":" 'NTC Input'!$D$27 * A130 / (21829 - A130)","v":0.74420436088005115},{"$f":" 1/((1/E130) - (1/'NTC Input'!$D$30)) - 'NTC Input'!$D$29","v":0.74420436088060504},{"$f":" IF(Hidden!$D$4=1, 1 / ('NTC Input'!$G$12 + 'NTC Input'!$G$13*LN(F130/'NTC Input'!$F$21) + 'NTC Input'!$G$14*POWER(LN(F130/'NTC Input'!$F$21),2) + 'NTC Input'!$G$15*POWER(LN(F130/'NTC Input'!$F$21),3)) -273.15,  'NTC Input'!$K$11 / (LN(F130 / ('NTC Input'!$F$21 * EXP(-'NTC Input'!$K$11 / 298.15)))) - 273.15)","v":109.47411444711463},109.47411444711463,{"$f":" Hidden!$D$18 * (B130*Hidden!$D$19 + Hidden!$D$20)","v":12},{"$f":" Hidden!$D$18 * (C130*Hidden!$D$19 + Hidden!$D$20)","v":12.514278000000001},{"$f":" Hidden!$D$18 * (D130*Hidden!$D$19 + Hidden!$D$20)","v":13.714259999999999},{"$f":" (I132-I130)/($G132-$G130)/'Temp Comp (Lead-Acid)'!$H$30*1000","v":0},{"$f":" (J132-J130)/($G132-$G130)/'Temp Comp (Lead-Acid)'!$H$30*1000","v":-3.7325299864496531},{"$f":" (K132-K130)/($G132-$G130)/'Temp Comp (Lead-Acid)'!$H$30*1000","v":-3.7325299864495372},null,null,null,null,null,null,null,null,null,null,1512,null,null,1513,null,null,null,null,109.47411444711463,12,null,109.47411444711463,12.514278000000001,null,109.47411444711463,13.714259999999999]
[null,null,null,null,null,null,{"$f":"G132","v":112.0256456340685},112.0256456340685,{"$f":"I130","v":12},{"$f":"J130","v":12.514278000000001},{"$f":"K130","v":13.714259999999999},null,null,null,null,null,null,null,null,null,null,null,null,null,null,null,null,null,null,null,null,null,112.0256456340685,12,null,112.0256456340685,12.514278000000001,null,112.0256456340685,13.714259999999999]
[1427,0,{"$f":"C130-1","v":8},{"$f":"D130-1","v":29},{"$f":" 'NTC Input'!$D$27 * A132 / (21829 - A132)","v":0.6994412312518381},{"$f":" 1/((1/E132) - (1/'NTC Input'!$D$30)) - 'NTC Input'!$D$29","v":0.69944123125232738},{"$f":" IF(Hidden!$D$4=1, 1 / ('NTC Input'!$G$12 + 'NTC Input'!$G$13*LN(F132/'NTC Input'!$F$21) + 'NTC Input'!$G$14*POWER(LN(F132/'NTC Input'!$F$21),2) + 'NTC Input'!$G$15*POWER(LN(F132/'NTC Input'!$F$21),3)) -273.15,  'NTC Input'!$K$11 / (LN(F132 / ('NTC Input'!$F$21 * EXP(-'NTC Input'!$K$11 / 298.15)))) - 273.15)","v":112.0256456340685},112.0256456340685,{"$f":" Hidden!$D$18 * (B132*Hidden!$D$19 + Hidden!$D$20)","v":12},{"$f":" Hidden!$D$18 * (C132*Hidden!$D$19 + Hidden!$D$20)","v":12.457136},{"$f":" Hidden!$D$18 * (D132*Hidden!$D$19 + Hidden!$D$20)","v":13.657118000000001},{"$f":" (I134-I132)/($G134-$G132)/'Temp Comp (Lead-Acid)'!$H$30*1000","v":0},{"$f":" (J134-J132)/($G134-$G132)/'Temp Comp (Lead-Acid)'!$H$30*1000","v":-3.6639794124972083},{"$f":" (K134-K132)/($G134-$G132)/'Temp Comp (Lead-Acid)'!$H$30*1000","v":-3.6639794124972083},null,null,null,null,null,null,null,null,null,null,1427,null,null,1427,null,null,null,null,112.0256456340685,12,null,112.0256456340685,12.457136,null,112.0256456340685,13.657118000000001]
[null,null,null,null,null,null,{"$f":"G134","v":114.62491424190597},{"$f":"IFERROR(G133,NA())","v":114.62491424190597},{"$f":"I132","v":12},{"$f":"J132","v":12.457136},{"$f":"K132","v":13.657118000000001},null,null,null,null,null,null,null,null,null,null,null,null,null,null,null,null,null,null,null,null,null,{"$f":"H133","v":114.62491424190597},{"$f":"I133","v":12},null,{"$f":"H133","v":114.62491424190597},{"$f":"J133","v":12.457136},null,{"$f":"H133","v":114.62491424190597},{"$f":"K133","v":13.657118000000001}]
[1346,0,{"$f":"C132-1","v":7},{"$f":"D132-1","v":28},{"$f":" 'NTC Input'!$D$27 * A134 / (21829 - A134)","v":0.65713030317824539},{"$f":" 1/((1/E134) - (1/'NTC Input'!$D$30)) - 'NTC Input'!$D$29","v":0.65713030317867727},{"$f":" IF(Hidden!$D$4=1, 1 / ('NTC Input'!$G$12 + 'NTC Input'!$G$13*LN(F134/'NTC Input'!$F$21) + 'NTC Input'!$G$14*POWER(LN(F134/'NTC Input'!$F$21),2) + 'NTC Input'!$G$15*POWER(LN(F134/'NTC Input'!$F$21),3)) -273.15,  'NTC Input'!$K$11 / (LN(F134 / ('NTC Input'!$F$21 * EXP(-'NTC Input'!$K$11 / 298.15)))) - 273.15)","v":114.62491424190597},114.62491424190597,{"$f":" Hidden!$D$18 * (B134*Hidden!$D$19 + Hidden!$D$20)","v":12},{"$f":" Hidden!$D$18 * (C134*Hidden!$D$19 + Hidden!$D$20)","v":12.399994},{"$f":" Hidden!$D$18 * (D134*Hidden!$D$19 + Hidden!$D$20)","v":13.599976},{"$f":" (I136-I134)/($G136-$G134)/'Temp Comp (Lead-Acid)'!$H$30*1000","v":0},{"$f":" (J136-J134)/($G136-$G134)/'Temp Comp (Lead-Acid)'!$H$30*1000","v":-3.7533498771065887},{"$f":" (K136-K134)/($G136-$G134)/'Temp Comp (Lead-Acid)'!$H$30*1000","v":-3.753349877106706},null,null,null,null,null,null,null,null,null,null,1346,null,null,1347,null,null,null,null,114.62491424190597,12,null,114.62491424190597,12.399994,null,114.62491424190597,13.599976]
[null,null,null,null,null,null,{"$f":"G136","v":117.16229204533317},117.16229204533317,{"$f":"I134","v":12},{"$f":"J134","v":12.399994},{"$f":"K134","v":13.599976},null,null,null,null,null,null,null,null,null,null,null,null,null,null,null,null,null,null,null,null,null,117.16229204533317,12,null,117.16229204533317,12.399994,null,117.16229204533317,13.599976]
[1272,0,{"$f":"C134-1","v":6},{"$f":"D134-1","v":27},{"$f":" 'NTC Input'!$D$27 * A136 / (21829 - A136)","v":0.61876732986330685},{"$f":" 1/((1/E136) - (1/'NTC Input'!$D$30)) - 'NTC Input'!$D$29","v":0.61876732986368976},{"$f":" IF(Hidden!$D$4=1, 1 / ('NTC Input'!$G$12 + 'NTC Input'!$G$13*LN(F136/'NTC Input'!$F$21) + 'NTC Input'!$G$14*POWER(LN(F136/'NTC Input'!$F$21),2) + 'NTC Input'!$G$15*POWER(LN(F136/'NTC Input'!$F$21),3)) -273.15,  'NTC Input'!$K$11 / (LN(F136 / ('NTC Input'!$F$21 * EXP(-'NTC Input'!$K$11 / 298.15)))) - 273.15)","v":117.16229204533317},117.16229204533317,{"$f":" Hidden!$D$18 * (B136*Hidden!$D$19 + Hidden!$D$20)","v":12},{"$f":" Hidden!$D$18 * (C136*Hidden!$D$19 + Hidden!$D$20)","v":12.342852000000001},{"$f":" Hidden!$D$18 * (D136*Hidden!$D$19 + Hidden!$D$20)","v":13.542833999999999},{"$f":" (I138-I136)/($G138-$G136)/'Temp Comp (Lead-Acid)'!$H$30*1000","v":0},{"$f":" (J138-J136)/($G138-$G136)/'Temp Comp (Lead-Acid)'!$H$30*1000","v":-3.6622061690410397},{"$f":" (K138-K136)/($G138-$G136)/'Temp Comp (Lead-Acid)'!$H$30*1000","v":-3.6622061690409264},null,null,null,null,null,null,null,null,null,null,1272,null,null,1272,null,null,null,null,117.16229204533317,12,null,117.16229204533317,12.342852000000001,null,117.16229204533317,13.542833999999999]
[null,null,null,null,null,null,{"$f":"G138","v":119.76281922132245},119.76281922132245,{"$f":"I136","v":12},{"$f":"J136","v":12.342852000000001},{"$f":"K136","v":13.542833999999999},null,null,null,null,null,null,null,null,null,null,null,null,null,null,null,null,null,null,null,null,null,119.76281922132245,12,null,119.76281922132245,12.342852000000001,null,119.76281922132245,13.542833999999999]
[1201,0,{"$f":"C136-1","v":5},{"$f":"D136-1","v":26},{"$f":" 'NTC Input'!$D$27 * A138 / (21829 - A138)","v":0.58221834399844874},{"$f":" 1/((1/E138) - (1/'NTC Input'!$D$30)) - 'NTC Input'!$D$29","v":0.5822183439987878},{"$f":" IF(Hidden!$D$4=1, 1 / ('NTC Input'!$G$12 + 'NTC Input'!$G$13*LN(F138/'NTC Input'!$F$21) + 'NTC Input'!$G$14*POWER(LN(F138/'NTC Input'!$F$21),2) + 'NTC Input'!$G$15*POWER(LN(F138/'NTC Input'!$F$21),3)) -273.15,  'NTC Input'!$K$11 / (LN(F138 / ('NTC Input'!$F$21 * EXP(-'NTC Input'!$K$11 / 298.15)))) - 273.15)","v":119.76281922132245},119.76281922132245,{"$f":" Hidden!$D$18 * (B138*Hidden!$D$19 + Hidden!$D$20)","v":12},{"$f":" Hidden!$D$18 * (C138*Hidden!$D$19 + Hidden!$D$20)","v":12.28571},{"$f":" Hidden!$D$18 * (D138*Hidden!$D$19 + Hidden!$D$20)","v":13.485692},{"$f":" (I140-I138)/($G140-$G138)/'Temp Comp (Lead-Acid)'!$H$30*1000","v":0},{"$f":" (J140-J138)/($G140-$G138)/'Temp Comp (Lead-Acid)'!$H$30*1000","v":-3.745839753811429},{"$f":" (K140-K138)/($G140-$G138)/'Temp Comp (Lead-Acid)'!$H$30*1000","v":-3.745839753811429},null,null,null,null,null,null,null,null,null,null,1201,null,null,1202,null,null,null,null,119.76281922132245,12,null,119.76281922132245,12.28571,null,119.76281922132245,13.485692]
[null,null,null,null,null,null,{"$f":"G140","v":122.30528427391215},122.30528427391215,{"$f":"I138","v":12},{"$f":"J138","v":12.28571},{"$f":"K138","v":13.485692},null,null,null,null,null,null,null,null,null,null,null,null,null,null,null,null,null,null,null,null,null,122.30528427391215,12,null,122.30528427391215,12.28571,null,122.30528427391215,13.485692]
[1136,0,{"$f":"C138-1","v":4},{"$f":"D138-1","v":25},{"$f":" 'NTC Input'!$D$27 * A140 / (21829 - A140)","v":0.54897791523703665},{"$f":" 1/((1/E140) - (1/'NTC Input'!$D$30)) - 'NTC Input'!$D$29","v":0.54897791523733808},{"$f":" IF(Hidden!$D$4=1, 1 / ('NTC Input'!$G$12 + 'NTC Input'!$G$13*LN(F140/'NTC Input'!$F$21) + 'NTC Input'!$G$14*POWER(LN(F140/'NTC Input'!$F$21),2) + 'NTC Input'!$G$15*POWER(LN(F140/'NTC Input'!$F$21),3)) -273.15,  'NTC Input'!$K$11 / (LN(F140 / ('NTC Input'!$F$21 * EXP(-'NTC Input'!$K$11 / 298.15)))) - 273.15)","v":122.30528427391215},122.30528427391215,{"$f":" Hidden!$D$18 * (B140*Hidden!$D$19 + Hidden!$D$20)","v":12},{"$f":" Hidden!$D$18 * (C140*Hidden!$D$19 + Hidden!$D$20)","v":12.228567999999999},{"$f":" Hidden!$D$18 * (D140*Hidden!$D$19 + Hidden!$D$20)","v":13.42855},{"$f":" (I142-I140)/($G142-$G140)/'Temp Comp (Lead-Acid)'!$H$30*1000","v":0},{"$f":" (J142-J140)/($G142-$G140)/'Temp Comp (Lead-Acid)'!$H$30*1000","v":-3.6792768990164317},{"$f":" (K142-K140)/($G142-$G140)/'Temp Comp (Lead-Acid)'!$H$30*1000","v":-3.6792768990164317},null,null,null,null,null,null,null,null,null,null,1136,null,null,1136,null,null,null,null,122.30528427391215,12,null,122.30528427391215,12.228567999999999,null,122.30528427391215,13.42855]
[null,null,null,null,null,null,{"$f":"G142","v":124.89374579177519},124.89374579177519,{"$f":"I140","v":12},{"$f":"J140","v":12.228567999999999},{"$f":"K140","v":13.42855},null,null,null,null,null,null,null,null,null,null,null,null,null,null,null,null,null,null,null,null,null,124.89374579177519,12,null,124.89374579177519,12.228567999999999,null,124.89374579177519,13.42855]
[1074,0,{"$f":"C140-1","v":3},{"$f":"D140-1","v":24},{"$f":" 'NTC Input'!$D$27 * A142 / (21829 - A142)","v":0.51746567092266926},{"$f":" 1/((1/E142) - (1/'NTC Input'!$D$30)) - 'NTC Input'!$D$29","v":0.51746567092293705},{"$f":" IF(Hidden!$D$4=1, 1 / ('NTC Input'!$G$12 + 'NTC Input'!$G$13*LN(F142/'NTC Input'!$F$21) + 'NTC Input'!$G$14*POWER(LN(F142/'NTC Input'!$F$21),2) + 'NTC Input'!$G$15*POWER(LN(F142/'NTC Input'!$F$21),3)) -273.15,  'NTC Input'!$K$11 / (LN(F142 / ('NTC Input'!$F$21 * EXP(-'NTC Input'!$K$11 / 298.15)))) - 273.15)","v":124.89374579177519},124.89374579177519,{"$f":" Hidden!$D$18 * (B142*Hidden!$D$19 + Hidden!$D$20)","v":12},{"$f":" Hidden!$D$18 * (C142*Hidden!$D$19 + Hidden!$D$20)","v":12.171426},{"$f":" Hidden!$D$18 * (D142*Hidden!$D$19 + Hidden!$D$20)","v":13.371408000000001},{"$f":" (I144-I142)/($G144-$G142)/'Temp Comp (Lead-Acid)'!$H$30*1000","v":0},{"$f":" (J144-J142)/($G144-$G142)/'Temp Comp (Lead-Acid)'!$H$30*1000","v":-3.6842294246685126},{"$f":" (K144-K142)/($G144-$G142)/'Temp Comp (Lead-Acid)'!$H$30*1000","v":-3.6842294246685126},null,null,null,null,null,null,null,null,null,null,1074,null,null,1074,null,null,null,null,124.89374579177519,12,null,124.89374579177519,12.171426,null,124.89374579177519,13.371408000000001]
[null,null,null,null,null,null,{"$f":"G144","v":127.4787277700687},127.4787277700687,{"$f":"I142","v":12},{"$f":"J142","v":12.171426},{"$f":"K142","v":13.371408000000001},null,null,null,null,null,null,null,null,null,null,null,null,null,null,null,null,null,null,null,null,null,127.4787277700687,12,null,127.4787277700687,12.171426,null,127.4787277700687,13.371408000000001]
[1016,0,{"$f":"C142-1","v":2},{"$f":"D142-1","v":23},{"$f":" 'NTC Input'!$D$27 * A144 / (21829 - A144)","v":0.48815644068610964},{"$f":" 1/((1/E144) - (1/'NTC Input'!$D$30)) - 'NTC Input'!$D$29","v":0.48815644068634795},{"$f":" IF(Hidden!$D$4=1, 1 / ('NTC Input'!$G$12 + 'NTC Input'!$G$13*LN(F144/'NTC Input'!$F$21) + 'NTC Input'!$G$14*POWER(LN(F144/'NTC Input'!$F$21),2) + 'NTC Input'!$G$15*POWER(LN(F144/'NTC Input'!$F$21),3)) -273.15,  'NTC Input'!$K$11 / (LN(F144 / ('NTC Input'!$F$21 * EXP(-'NTC Input'!$K$11 / 298.15)))) - 273.15)","v":127.4787277700687},127.4787277700687,{"$f":" Hidden!$D$18 * (B144*Hidden!$D$19 + Hidden!$D$20)","v":12},{"$f":" Hidden!$D$18 * (C144*Hidden!$D$19 + Hidden!$D$20)","v":12.114284},{"$f":" Hidden!$D$18 * (D144*Hidden!$D$19 + Hidden!$D$20)","v":13.314266},{"$f":" (I146-I144)/($G146-$G144)/'Temp Comp (Lead-Acid)'!$H$30*1000","v":0},{"$f":" (J146-J144)/($G146-$G144)/'Temp Comp (Lead-Acid)'!$H$30*1000","v":-3.7092766115988023},{"$f":" (K146-K144)/($G146-$G144)/'Temp Comp (Lead-Acid)'!$H$30*1000","v":-3.7092766115989182},null,null,null,null,null,null,null,null,null,null,1016,null,null,1017,null,null,null,null,127.4787277700687,12,null,127.4787277700687,12.114284,null,127.4787277700687,13.314266]
[null,null,null,null,null,null,{"$f":"G146","v":130.0462544508469},130.0462544508469,{"$f":"I144","v":12},{"$f":"J144","v":12.114284},{"$f":"K144","v":13.314266},null,null,null,null,null,null,null,null,null,null,null,null,null,null,null,null,null,null,null,null,null,130.0462544508469,12,null,130.0462544508469,12.114284,null,130.0462544508469,13.314266]
[962,0,{"$f":"C144-1","v":1},{"$f":"D144-1","v":22},{"$f":" 'NTC Input'!$D$27 * A146 / (21829 - A146)","v":0.46101499976038723},{"$f":" 1/((1/E146) - (1/'NTC Input'!$D$30)) - 'NTC Input'!$D$29","v":0.46101499976059979},{"$f":" IF(Hidden!$D$4=1, 1 / ('NTC Input'!$G$12 + 'NTC Input'!$G$13*LN(F146/'NTC Input'!$F$21) + 'NTC Input'!$G$14*POWER(LN(F146/'NTC Input'!$F$21),2) + 'NTC Input'!$G$15*POWER(LN(F146/'NTC Input'!$F$21),3)) -273.15,  'NTC Input'!$K$11 / (LN(F146 / ('NTC Input'!$F$21 * EXP(-'NTC Input'!$K$11 / 298.15)))) - 273.15)","v":130.0462544508469},130.0462544508469,{"$f":" Hidden!$D$18 * (B146*Hidden!$D$19 + Hidden!$D$20)","v":12},{"$f":" Hidden!$D$18 * (C146*Hidden!$D$19 + Hidden!$D$20)","v":12.057142000000001},{"$f":" Hidden!$D$18 * (D146*Hidden!$D$19 + Hidden!$D$20)","v":13.257123999999999},{"$f":" (I148-I146)/($G148-$G146)/'Temp Comp (Lead-Acid)'!$H$30*1000","v":0},{"$f":" (J148-J146)/($G148-$G146)/'Temp Comp (Lead-Acid)'!$H$30*1000","v":-3.7590505719692526},{"$f":" (K148-K146)/($G148-$G146)/'Temp Comp (Lead-Acid)'!$H$30*1000","v":-3.7590505719691354},null,null,null,null,null,null,null,null,null,null,962,null,null,963,null,null,null,null,130.0462544508469,12,null,130.0462544508469,12.057142000000001,null,130.0462544508469,13.257123999999999]
[null,null,null,null,null,null,{"$f":"G148","v":132.57978425693238},132.57978425693238,{"$f":"I146","v":12},{"$f":"J146","v":12.057142000000001},{"$f":"K146","v":13.257123999999999},null,null,null,null,null,null,null,null,null,null,null,null,null,null,null,null,null,null,null,null,null,132.57978425693238,12,null,132.57978425693238,12.057142000000001,null,132.57978425693238,13.257123999999999]
[912,0,{"$f":"C146-1","v":0},{"$f":"D146-1","v":21},{"$f":" 'NTC Input'!$D$27 * A148 / (21829 - A148)","v":0.43600898790457521},{"$f":" 1/((1/E148) - (1/'NTC Input'!$D$30)) - 'NTC Input'!$D$29","v":0.43600898790476528},{"$f":" IF(Hidden!$D$4=1, 1 / ('NTC Input'!$G$12 + 'NTC Input'!$G$13*LN(F148/'NTC Input'!$F$21) + 'NTC Input'!$G$14*POWER(LN(F148/'NTC Input'!$F$21),2) + 'NTC Input'!$G$15*POWER(LN(F148/'NTC Input'!$F$21),3)) -273.15,  'NTC Input'!$K$11 / (LN(F148 / ('NTC Input'!$F$21 * EXP(-'NTC Input'!$K$11 / 298.15)))) - 273.15)","v":132.57978425693238},132.57978425693238,{"$f":" Hidden!$D$18 * (B148*Hidden!$D$19 + Hidden!$D$20)","v":12},{"$f":" Hidden!$D$18 * (C148*Hidden!$D$19 + Hidden!$D$20)","v":12},{"$f":" Hidden!$D$18 * (D148*Hidden!$D$19 + Hidden!$D$20)","v":13.199982},null,null,null,null,null,null,null,null,null,null,null,null,null,912,null,null,912,null,null,null,null,132.57978425693238,12,null,132.57978425693238,12,null,132.57978425693238,13.199982]
[0,0,0,21,null,null,150,{"$f":"IF(ISERROR(G148),NA(),G149)","v":150},{"$f":" Hidden!$D$18 * (B149*Hidden!$D$19 + Hidden!$D$20)","v":12},{"$f":" Hidden!$D$18 * (C149*Hidden!$D$19 + Hidden!$D$20)","v":12},{"$f":" Hidden!$D$18 * (D149*Hidden!$D$19 + Hidden!$D$20)","v":13.199982}]
[]
[]
[null,null,null,null,null,null,null,null,null,null,"#nonzero =",{"$f":"COUNTIF(L4:L146,\"<>0\")-COUNTIF(L4:L146,\"\")","v":51},{"$f":"COUNTIF(M4:M146,\"<>0\")-COUNTIF(M4:M146,\"\")","v":63},{"$f":"COUNTIF(N4:N146,\"<>0\")-COUNTIF(N4:N146,\"\")","v":42}]
[null,null,null,null,null,null,null,null,null,null,"sum = ",{"$f":"SUM(SUMIF(L4:L146,{\"<0\",\">0\"}))","v":-189.09923642054213},{"$f":"SUM(SUMIF(M4:M146,{\"<0\",\">0\"}))","v":-233.46277610660678},{"$f":"SUM(SUMIF(N4:N146,{\"<0\",\">0\"}))","v":-155.68618909093144}]
[null,null,null,null,null,null,null,null,null,null,"avg = ",{"$f":"L153/L152","v":-3.7078281651086691},{"$f":"M153/M152","v":-3.7057583508985203},{"$f":"N153/N152","v":-3.7068140259745581}]